Workbook

Sheet Cover
B24: ESTIMATE
B31: FOR
B38: PROPOSED TWO STOREY REAR EXTENSION
B47: PROJECT: ROOFING SAMPLE
B57: DATE:

Sheet Qual, Excl & Assum
B2: =Cover!B47 -> PROJECT: ROOFING SAMPLE
B3: =Cover!B57 -> DATE:
B6: QUALIFICATIONS, ASSUMPTIONS & EXCLUSIONS:
A8: 1 | B8: Qualifications:-
A10: 1.1 | B10: Prices exclude VAT
A11: =+A10+0.1 -> 1.2 | B11: Pre-start meeting and site investigation will be required before commencement on site
A12: =+A11+0.1 -> 1.3 | B12: Provisional sums and PC Sums mentioned within the estimate are subject to re-measure and re-price
A13: =+A12+0.1 -> 1.4 | B13: Changes to drawings, design or specification which deviate from the information used as stated below may be subject to further cost
A14: =+A13+0.1 -> 1.5 | B14: Site inspections to be carried out, this may cause additions/omissions to the tender documents
A15: =+A14+0.1 -> 1.6 | B15: All quantities are re-measurable and used for indicative purposes only and are subject to re-measure once the project has commenced
A16: =+A15+0.1 -> 1.7 | B16: All M&E is provisional sum (as no detailed design has been provided) and a detailed design will be required in order to finalise costs
A17: =+A16+0.1 -> 1.8 | B17: We have assumed free unfettered access and normal working hours to the site
A18: =+A17+0.1 -> 1.9 | B18: The prices are valid for 8 weeks and we assume that works will commence within 12 weeks from the date of this estimate
A19: 1.1 | B19: No level surveys have been provided so all excavation quantities are provisional
A20: 1.11 | B20: There may be some items where alternative specification is used and these may differ to the specification provided
A21: 1.12 | B21: Any items not mentioned within this estimate have been specifically excluded and will be subject to further costs
A23: 2 | B23: The following items are to be organised and paid for by the client and are excluded from the total cost:
A25: 2.1 | B25: Building insurance
A26: 2.2 | B26: Utility and council tax bills
A27: 2.3 | B27: Party Wall costs and complying with conditions
A28: 2.4 | B28: Building control and costs
A29: 2.5 | B29: Structural engineers' and building regulation details
A30: 2.6 | B30: Specialist surveys
A31: 2.7 | B31: Topographical surveys
A32: 2.8 | B32: CCTV drainage surveys
... A70: 4.16 | B70: A/C

Sheet Documents
B2: =+Cover!B47 -> PROJECT: ROOFING SAMPLE
B3: =+Cover!B57 -> DATE:
B5: INFORMATION USED
B7: The information used in the preparation of this estimate are as listed below:
B9: Document reference:
B11: HR91-02-1001
B12: HR91-02-1002
B13: HR91-02-1003
B14: HR91-02-1004
B15: HR91-02-1005
B16: PHOTOS

Sheet Summary
B2: =+Documents!B2 -> PROJECT: ROOFING SAMPLE
B3: =+Documents!B3 -> DATE:
F4: TOTALS
B5: SUMMARY | F5: LABOUR | G5: MATERIALS | H5: L MARKUP | I5: M MARKUP | K5: Check | L5: {=CheckMissingTabs(B7:B8)} -> #NAME?
B7: Demolition | D7: =+Demolition!F24 -> 7760.43 | F7: =+Demolition!K24 -> 6748.2 | G7: =+Demolition!L24 -> 0 | H7: =+Demolition!M24 -> 1012.23 | I7: =+Demolition!N24 -> 0 | K7: =+F7+G7+I7+H7-D7 -> 0
B9: SUB TOTAL | D9: =SUM(D3:D8) -> 7760.43 | F9: =SUM(F6:F8) -> 6748.2 | G9: =SUM(G6:G8) -> 0 | H9: =SUM(H6:H8) -> 1012.23 | I9: =SUM(I6:I8) -> 0 | K9: =+F9+G9+I9+H9-D9 -> 0
B11: Preliminaries | D11: =+Preliminaries!F65 -> 0
B13: TOTAL COST (EXCLUDING VAT) | D13: =+D11+D9 -> 7760.43
B15: Anticipated Number of Weeks | C15: =+Preliminaries!J4 -> 0 | D15: Weeks

Sheet Demolition
B2: =+'Qual, Excl & Assum'!B2 -> PROJECT: ROOFING SAMPLE
B3: =+'Qual, Excl & Assum'!B3 -> DATE:
B5: Demolition | G5: RATES | K5: TOTALS
B7: Description | C7: Quantity | D7: Unit | E7: Rate | F7: Total | G7: Labour | H7: Materials | I7: L Markup | J7: M Markup | K7: Labour | L7: Materials | M7: L Markup | N7: M Markup
N8: =IF(D8=0," ",(J8*C8))
A9: 1 | B9: Front Porch To Be Demolished Including Doors & Floor Slab Grubbed Out | C9: 2 | D9: m2 | E9: =G9+H9+J9+I9 -> 22.77 | F9: =E9*C9 -> 45.54 | G9: 19.8 | I9: =IF(D9=0," ",(G9)*(Details!$C$4+Details!$C$8)) -> 2.97 | J9: =IF(D9=0," ",(H9)*(Details!$C$6+Details!$C$8)) -> 0 | K9: =+G9*C9 -> 39.6 | L9: =+H9*C9 -> 0 | M9: =IF(D9=0," ",(I9*C9)) -> 5.94 | N9: =IF(D9=0," ",(J9*C9)) -> 0
A11: 1 | B11: Existing Wall To Be Removed | C11: 179 | D11: m2 | E11: =G11+H11+J11+I11 -> 15.41 | F11: =E11*C11 -> 2758.39 | G11: 13.4 | I11: =IF(D11=0," ",(G11)*(Details!$C$4+Details!$C$8)) -> 2.01 | J11: =IF(D11=0," ",(H11)*(Details!$C$6+Details!$C$8)) -> 0 | K11: =+G11*C11 -> 2398.6 | L11: =+H11*C11 -> 0 | M11: =IF(D11=0," ",(I11*C11)) -> 359.79 | N11: =IF(D11=0," ",(J11*C11)) -> 0
A13: 1 | B13: Existing Door To be Removed | C13: 17 | D13: no. | E13: =G13+H13+J13+I13 -> 126.5 | F13: =E13*C13 -> 2150.5 | G13: 110 | I13: =IF(D13=0," ",(G13)*(Details!$C$4+Details!$C$8)) -> 16.5 | J13: =IF(D13=0," ",(H13)*(Details!$C$6+Details!$C$8)) -> 0 | K13: =+G13*C13 -> 1870 | L13: =+H13*C13 -> 0 | M13: =IF(D13=0," ",(I13*C13)) -> 280.5 | N13: =IF(D13=0," ",(J13*C13)) -> 0
A15: 1 | B15: Existing Window To Be Removed | C15: 5 | D15: no. | E15: =G15+H15+J15+I15 -> 126.5 | F15: =E15*C15 -> 632.5 | G15: 110 | I15: =IF(D15=0," ",(G15)*(Details!$C$4+Details!$C$8)) -> 16.5 | J15: =IF(D15=0," ",(H15)*(Details!$C$6+Details!$C$8)) -> 0 | K15: =+G15*C15 -> 550 | L15: =+H15*C15 -> 0 | M15: =IF(D15=0," ",(I15*C15)) -> 82.5 | N15: =IF(D15=0," ",(J15*C15)) -> 0
B17: Existing Bay Window To Be Removed | C17: 3 | D17: no. | E17: =G17+H17+J17+I17 -> 126.5 | F17: =E17*C17 -> 379.5 | G17: 110 | I17: =IF(D17=0," ",(G17)*(Details!$C$4+Details!$C$8)) -> 16.5 | J17: =IF(D17=0," ",(H17)*(Details!$C$6+Details!$C$8)) -> 0 | K17: =+G17*C17 -> 330 | L17: =+H17*C17 -> 0 | M17: =IF(D17=0," ",(I17*C17)) -> 49.5 | N17: =IF(D17=0," ",(J17*C17)) -> 0
B19: Existing Chimney Breasts To be Removed | C19: 2 | D19: no. | E19: =G19+H19+J19+I19 -> 207 | F19: =E19*C19 -> 414 | G19: 180 | I19: =IF(D19=0," ",(G19)*(Details!$C$4+Details!$C$8)) -> 27 | J19: =IF(D19=0," ",(H19)*(Details!$C$6+Details!$C$8)) -> 0 | K19: =+G19*C19 -> 360 | L19: =+H19*C19 -> 0 | M19: =IF(D19=0," ",(I19*C19)) -> 54 | N19: =IF(D19=0," ",(J19*C19)) -> 0
B21: Demolish off Existing House Plumbing, Boiler, Radiators & Underfloor Heating All Areas, Electrics, Lighting Power Points Smart Home Cameras etc | C21: 1 | D21: item | E21: =G21+H21+J21+I21 -> 1380 | F21: =E21*C21 -> 1380 | G21: 1200 | I21: =IF(D21=0," ",(G21)*(Details!$C$4+Details!$C$8)) -> 180 | J21: =IF(D21=0," ",(H21)*(Details!$C$6+Details!$C$8)) -> 0 | K21: =+G21*C21 -> 1200 | L21: =+H21*C21 -> 0 | M21: =IF(D21=0," ",(I21*C21)) -> 180 | N21: =IF(D21=0," ",(J21*C21)) -> 0
A23: =IF(F23<>"",(LARGE(A$7:A9,1)+1),"") | J23: =IF(D23=0," ",(G23+H23)*(Details!$C$4+Details!$C$6))
E24: Sub Total | F24: =SUM(F1:F23) -> 7760.43 | K24: =SUM(K8:K23) -> 6748.2 | L24: =SUM(L8:L23) -> 0 | M24: =SUM(M8:M23) -> 1012.23 | N24: =SUM(N8:N23) -> 0

Sheet Preliminaries
B2: =+'Qual, Excl & Assum'!B2 -> PROJECT: ROOFING SAMPLE
B3: =+'Qual, Excl & Assum'!B3 -> DATE:
B5: Preliminaries
K6: 1
B7: Description | C7: Quantity | D7: Unit | E7: Rate | F7: Total | G7: Plant | H7: Markup
A9: 1 | B9: Site setup | C9: 1 | D9: Item | E9: 0 | F9: =E9*C9 -> 0 | H9: =IF(D9=0," ",(G9)*(Details!$C$4+Details!$C$8)) -> 0
A11: =IF(F11<>"",(LARGE(A$7:A10,1)+1),"") -> 2 | B11: Rubbish removal; skips | C11: 1 | D11: no. | E11: 0 | F11: =+E11*C11 -> 0 | H11: =IF(D11=0," ",(G11)*(Details!$C$4+Details!$C$8)) -> 0
A12: =IF(F12<>"",(LARGE(A$7:A11,1)+1),"")
A13: =IF(F13<>"",(LARGE(A$7:A12,1)+1),"") -> 3 | B13: Scaffolding and safe stands | C13: 1 | D13: item | E13: 0 | F13: =E13*C13 -> 0 | H13: =IF(D13=0," ",(G13)*(Details!$C$4+Details!$C$8)) -> 0
A14: =IF(F14<>"",(LARGE(A$7:A13,1)+1),"")
A15: =IF(F15<>"",(LARGE(A$7:A14,1)+1),"") -> 4 | B15: Welfare facilities | C15: 1 | D15: item | E15: 0 | F15: =E15*C15 -> 0 | H15: =IF(D15=0," ",(G15)*(Details!$C$4+Details!$C$8)) -> 0
A16: =IF(F16<>"",(LARGE(A$7:A15,1)+1),"")
A17: =IF(F17<>"",(LARGE(A$7:A16,1)+1),"") -> 5 | B17: Small plant and tools | C17: 1 | D17: item | E17: 0 | F17: =E17*C17 -> 0 | H17: =IF(D17=0," ",(G17)*(Details!$C$4+Details!$C$8)) -> 0
A18: =IF(F18<>"",(LARGE(A$7:A17,1)+1),"")
A19: =IF(F19<>"",(LARGE(A$7:A18,1)+1),"") -> 6 | B19: Protection | C19: 1 | D19: item | E19: 0 | F19: =E19*C19 -> 0 | H19: =IF(D19=0," ",(G19)*(Details!$C$4+Details!$C$8)) -> 0
A20: =IF(F20<>"",(LARGE(A$7:A19,1)+1),"")
A21: =IF(F21<>"",(LARGE(A$7:A20,1)+1),"") -> 7 | B21: Temporary supplies | C21: 1 | D21: item | E21: 0 | F21: =E21*C21 -> 0 | H21: =IF(D21=0," ",(G21)*(Details!$C$4+Details!$C$8)) -> 0
A22: =IF(F22<>"",(LARGE(A$7:A21,1)+1),"")
A23: =IF(F23<>"",(LARGE(A$7:A22,1)+1),"") -> 8 | B23: Lifting and propping | C23: 1 | D23: item | E23: 0 | F23: =E23*C23 -> 0 | H23: =IF(D23=0," ",(G23)*(Details!$C$4+Details!$C$8)) -> 0
A24: =IF(F24<>"",(LARGE(A$7:A23,1)+1),"")
A25: =IF(F25<>"",(LARGE(A$7:A24,1)+1),"") -> 9 | B25: Cleaning (no allowance for sparkle clean) | C25: 1 | D25: item | E25: 0 | F25: =E25*C25 -> 0 | H25: =IF(D25=0," ",(G25)*(Details!$C$4+Details!$C$8)) -> 0
A26: =IF(F26<>"",(LARGE(A$7:A25,1)+1),"")
A27: =IF(F27<>"",(LARGE(A$7:A26,1)+1),"") -> 10 | B27: Health & safety | C27: 1 | D27: item | E27: 0 | F27: =E27*C27 -> 0 | H27: =IF(D27=0," ",(G27)*(Details!$C$4+Details!$C$8)) -> 0
A28: =IF(F28<>"",(LARGE(A$7:A27,1)+1),"")
A29: =IF(F29<>"",(LARGE(A$7:A28,1)+1),"") -> 11 | B29: Insurance | C29: 1 | D29: item | E29: 0 | F29: =E29*C29 -> 0 | H29: =IF(D29=0," ",(G29)*(Details!$C$4+Details!$C$8)) -> 0
A30: =IF(F30<>"",(LARGE(A$7:A29,1)+1),"")
A31: =IF(F31<>"",(LARGE(A$7:A30,1)+1),"") -> 12 | B31: Site accommodation | C31: 1 | D31: item | E31: 0 | F31: =E31*C31 -> 0 | H31: =IF(D31=0," ",(G31)*(Details!$C$4+Details!$C$8)) -> 0
H32: =IF(D32=0," ",(G32)*(Details!$C$4+Details!$C$6))
A33: =IF(F33<>"",(LARGE(A$7:A32,1)+1),"") -> 13 | B33: Management | C33: 1 | D33: item | E33: 0 | F33: =E33*C33 -> 0 | H33: =IF(D33=0," ",(G33)*(Details!$C$4+Details!$C$8)) -> 0
A34: =IF(F34<>"",(LARGE(A$7:A33,1)+1),"") | H34: =IF(D34=0," ",(G34)*(Details!$C$4+Details!$C$6))
A35: =IF(F35<>"",(LARGE(A$7:A34,1)+1),"") | H35: =IF(D35=0," ",(G35)*(Details!$C$4+Details!$C$6))
A36: =IF(F36<>"",(LARGE(A$7:A35,1)+1),"") | H36: =IF(D36=0," ",(G36)*(Details!$C$4+Details!$C$6))
A37: =IF(F37<>"",(LARGE(A$7:A36,1)+1),"") | H37: =IF(D37=0," ",(G37)*(Details!$C$4+Details!$C$6))
A38: =IF(F38<>"",(LARGE(A$7:A37,1)+1),"") | H38: =IF(D38=0," ",(G38)*(Details!$C$4+Details!$C$6))
A39: =IF(F39<>"",(LARGE(A$7:A38,1)+1),"") | H39: =IF(D39=0," ",(G39)*(Details!$C$4+Details!$C$6))
A40: =IF(F40<>"",(LARGE(A$7:A39,1)+1),"") | H40: =IF(D40=0," ",(G40)*(Details!$C$4+Details!$C$6))
A41: =IF(F41<>"",(LARGE(A$7:A40,1)+1),"") | H41: =IF(D41=0," ",(G41)*(Details!$C$4+Details!$C$6))
A42: =IF(F42<>"",(LARGE(A$7:A41,1)+1),"") | H42: =IF(D42=0," ",(G42)*(Details!$C$4+Details!$C$6))
A43: =IF(F43<>"",(LARGE(A$7:A42,1)+1),"") | H43: =IF(D43=0," ",(G43)*(Details!$C$4+Details!$C$6))
A44: =IF(F44<>"",(LARGE(A$7:A43,1)+1),"") | H44: =IF(D44=0," ",(G44)*(Details!$C$4+Details!$C$6))
...

Sheet Details
B2: MARKUP | J2: Total Inc Prelims | K2: =+Summary!D13 -> 7760.43
B4: Contractors Markup - Labour | C4: 0.1 | D4: =+C4+1 -> 1.1 | J4: Calculation Total | K4: =+(Summary!F9+Summary!G9)*1.1 -> 7423.02
M5: =CEILING((K4/K27),4) -> 4 | N5: Weeks
B6: Contractors Markup - Materials | C6: 0.1 | D6: =+C6+1 -> 1.1
J7: Range 1 | K7: 0 | L7: =IF(AND($K$4>=K7,$K$4<=K8),N7,O7) -> Yes | M7: 5000 | N7: Yes | O7: No
B8: Contractors Overheads | C8: 0.05 | D8: =+C8+1 -> 1.05 | K8: 50000
J9: Range 2 | K9: =K8 -> 50000 | L9: =IF(AND($K$4>=K9,$K$4<=K10),N9,O9) -> No | M9: 9000 | N9: Yes | O9: No
K10: 150000
J11: Range 3 | K11: =K10 -> 150000 | L11: =IF(AND($K$4>=K11,$K$4<=K12),N11,O11) -> No | M11: 10000 | N11: Yes | O11: No
K12: 350000
J13: Range 4 | K13: =K12 -> 350000 | L13: =IF(AND($K$4>=K13,$K$4<=K14),N13,O13) -> No | M13: 12500 | N13: Yes | O13: No
B14: Trades - Day Rates | C14: Client Day Rate £ | K14: 500000
B15: Groundworker | C15: 0 | J15: Range 5 | K15: =K14 -> 500000 | L15: =IF(AND($K$4>=K15,$K$4<=K16),N15,O15) -> No | M15: 14000 | N15: Yes | O15: No
B16: Bricklayer | C16: 300 | K16: 750000
B17: Roofer | C17: 0 | J17: Range 6 | K17: 750000 | L17: =IF(AND($K$4>=K17,$K$4<=K18),N17,O17) -> No | M17: 15500 | N17: Yes | O17: No
B18: Tiler | C18: 300 | K18: 1000000
B19: Carpenter | C19: 300 | J19: Range 7 | K19: =K18 -> 1000000 | L19: =IF(AND($K$4>=K19,$K$4<=K20),N19,O19) -> No | M19: 16750 | N19: Yes | O19: No
B20: Plasterer | C20: 0 | K20: 1250000
B21: General Trade | C21: 250 | J21: Range 8 | K21: =K20 -> 1250000 | L21: =IF(AND($K$4>=K21,$K$4<=K22),N21,O21) -> No | M21: 19000 | N21: Yes | O21: No
B22: Labourer | C22: 200 | K22: 1500000
B23: Decorator | C23: 0 | J23: Range 9 | K23: =K22 -> 1500000 | L23: =IF(AND($K$4>=K23,$K$4<=K24),N23,O23) -> No | M23: 20500 | N23: Yes | O23: No
B24: Plumber | C24: 0 | K24: 2000000
B25: Electrician | C25: 0 | J25: Range 10 - Over | K25: =K24 -> 2000000 | L25: =IF(AND($K$4>=K25,$K$4<=K26),N25,O25) -> No | M25: 27500 | N25: Yes | O25: No
K26: 500000000
J27: Calculation | K27: =IF(L7="Yes",M7)+IF(L9="Yes",M9)+IF(L11="Yes",M11)+IF(L13="Yes",M13)+IF(L15="Yes",M15)+IF(L17="Yes",M17)+IF(L19="Yes",M19)+IF(L21="Yes",M21)+IF(L23="Yes",M23) -> 5000
M29: Factor
M30: =+C15/250+IF(C15=0,1) -> 1
M31: =+C16/250+IF(C16=0,1) -> 1.2
M32: =+C17/250+IF(C17=0,1) -> 1
M33: =+C18/250+IF(C18=0,1) -> 1.2
M34: =+C19/250+IF(C19=0,1) -> 1.2
M35: =+C20/250+IF(C20=0,1) -> 1
M36: =+C21/220+IF(C21=0,1) -> 1.1363636
M37: =+C22/150+IF(C22=0,1) -> 1.3333333
M38: =+C23/220+IF(C23=0,1) -> 1
M39: =+C24/400+IF(C24=0,1) -> 1
M40: =+C25/400+IF(C25=0,1) -> 1
