Workbook

Sheet Cover
B24: ESTIMATE
B31: FOR
B38: SCOPE: GC
B47: PROJECT NAME: SQUAIRRELS LEAP GUILDFORD ROAD, CHERTSEY KT16 9RU
B57: DATE: 25TH NOVEMBER 2025

Sheet Qual, Excl & Assum
B2: =Cover!B47 -> PROJECT NAME: SQUAIRRELS LEAP GUILDFORD ROAD, CHERTSEY KT16 9RU
B3: =Cover!B57 -> DATE: 25TH NOVEMBER 2025
B6: QUALIFICATIONS, ASSUMPTIONS & EXCLUSIONS:
A8: 1 | B8: Qualifications:-
A10: 1.1 | B10: Prices exclude VAT
A11: =+A10+0.1 -> 1.2 | B11: Pre-start meeting and site investigation will be required before commencement on site
A12: =+A11+0.1 -> 1.3 | B12: Provisional sums and PC Sums mentioned within the estimate are subject to re-measure and re-price
A13: =+A12+0.1 -> 1.4 | B13: Changes to drawings, design or specification which deviate from the information used as stated below may be subject to further cost
A14: =+A13+0.1 -> 1.5 | B14: Site inspections to be carried out, this may cause additions/omissions to the tender documents
A15: =+A14+0.1 -> 1.6 | B15: All quantities are re-measurable and used for indicative purposes only and are subject to re-measure once the project has commenced
A16: =+A15+0.1 -> 1.7 | B16: All M&E is provisional sum (as no detailed design has been provided) and a detailed design will be required in order to finalize costs
A17: =+A16+0.1 -> 1.8 | B17: We have assumed free unfettered access and normal working hours to the site
A18: =+A17+0.1 -> 1.9 | B18: The prices are valid for 8 weeks and we assume that works will commence within 12 weeks from the date of this estimate
A19: 1.1 | B19: No level surveys have been provided so all excavation quantities are provisional
A20: 1.11 | B20: There may be some items where alternative specification is used and these may differ to the specification provided
A21: 1.12 | B21: Any items not mentioned within this estimate have been specifically excluded and will be subject to further costs
A23: 2 | B23: The following items are to be organized and paid for by the client and are excluded from the total cost:
A25: 2.1 | B25: Building insurance
A26: 2.2 | B26: Utility and council tax bills
A27: 2.3 | B27: Party Wall costs and complying with conditions
A28: 2.4 | B28: Building control and costs
A29: 2.5 | B29: Structural engineers' and building regulation details
A30: 2.6 | B30: Specialist surveys
A31: 2.7 | B31: Topographical surveys
A32: 2.8 | B32: CCTV drainage surveys
... A74: 4.16 | B74: A/C

Sheet Documents
B2: =+Cover!B47 -> PROJECT NAME: SQUAIRRELS LEAP GUILDFORD ROAD, CHERTSEY KT16 9RU
B3: =+Cover!B57 -> DATE: 25TH NOVEMBER 2025
B5: INFORMATION USED
B7: The information used in the preparation of this estimate are as listed below:
B9: Document reference:
B11: HR91-02-1001
B12: HR91-02-1002
B13: HR91-02-1003
B14: HR91-02-1004
B15: HR91-02-1005
B16: PHOTOS

Sheet Summary
B2: =+Documents!B2 -> PROJECT NAME: SQUAIRRELS LEAP GUILDFORD ROAD, CHERTSEY KT16 9RU
B3: =+Documents!B3 -> DATE: 25TH NOVEMBER 2025
F4: TOTALS
B5: SUMMARY | F5: LABOUR | G5: MATERIALS | H5: L MARKUP | I5: M MARKUP | K5: Check | L5: {=CheckMissingTabs(B7:B35)} -> #NAME?
B7: Demolition | D7: =+Demolition!F19 -> 6743.232 | F7: =+Demolition!K19 -> 5863.68 | G7: =+Demolition!L19 -> 0 | H7: =+Demolition!M19 -> 879.552 | I7: =+Demolition!N19 -> 0 | K7: =+F7+G7+I7+H7-D7 -> 0
B9: Substructure | D9: =+Substructure!F37 -> 196289.55 | F9: =+Substructure!K37 -> 75449.538 | G9: =+Substructure!L37 -> 95237.027 | H9: =+Substructure!M37 -> 11317.431 | I9: =+Substructure!N37 -> 14285.554 | K9: =+F9+G9+I9+H9-D9 -> 0
B11: Superstructure | D11: =+Superstructure!F53 -> 126000.77 | F11: =+Superstructure!K53 -> 34776.885 | G11: =+Superstructure!L53 -> 74788.999 | H11: =+Superstructure!M53 -> 5216.5327 | I11: =+Superstructure!N53 -> 11218.35 | K11: =+F11+G11+I11+H11-D11 -> 0
B13: Structural Steelwork | D13: =+'Structural Steelwork'!F31 -> 30426.644 | F13: =+'Structural Steelwork'!K31 -> 8397.9162 | G13: =+'Structural Steelwork'!L31 -> 18060.035 | H13: =+'Structural Steelwork'!M31 -> 1259.6874 | I13: =+'Structural Steelwork'!N31 -> 2709.0052 | K13: =+F13+G13+I13+H13-D13 -> 0
B15: Roof | D15: =+Roof!F43 -> 71570.615 | F15: =+Roof!K43 -> 19753.872 | G15: =+Roof!L43 -> 42481.446 | H15: =+Roof!M43 -> 2963.0808 | I15: =+Roof!N43 -> 6372.2168 | K15: =+F15+G15+I15+H15-D15 -> 0
B17: Windows, Doors & Rooflights | D17: =+'Windows, Doors & Rooflights'!H45 -> 54931.274 | F17: =+'Windows, Doors & Rooflights'!M45 -> 15161.325 | G17: =+'Windows, Doors & Rooflights'!N45 -> 32605 | H17: =+'Windows, Doors & Rooflights'!O45 -> 2274.1988 | I17: =+'Windows, Doors & Rooflights'!P45 -> 4890.75 | K17: =+F17+G17+I17+H17-D17 -> 0
B19: Partitions | D19: =+Partitions!F33 -> 30047.499 | F19: =+Partitions!K33 -> 8293.2702 | G19: =+Partitions!L33 -> 17834.99 | H19: =+Partitions!M33 -> 1243.9905 | I19: =+Partitions!N33 -> 2675.2484 | K19: =+F19+G19+I19+H19-D19 -> 0
B21: Joinery | D21: =+Joinery!F37 -> 24948.393 | F21: =+Joinery!K37 -> 6885.8897 | G21: =+Joinery!L37 -> 14808.365 | H21: =+Joinery!M37 -> 1032.8835 | I21: =+Joinery!N37 -> 2221.2548 | K21: =+F21+G21+I21+H21-D21 -> 0
B23: Decoration | D23: =+Decoration!F23 -> 34361.904 | F23: =+Decoration!K23 -> 9484.0691 | G23: =+Decoration!L23 -> 20395.847 | H23: =+Decoration!M23 -> 1422.6104 | I23: =+Decoration!N23 -> 3059.3771 | K23: =+F23+G23+I23+H23-D23 -> 0
B25: Floor Finishes | D25: =+'Floor finishes'!F21 -> 43364.21 | F25: =+'Floor finishes'!K21 -> 11968.754 | G25: =+'Floor finishes'!L21 -> 25739.255 | H25: =+'Floor finishes'!M21 -> 1795.313 | I25: =+'Floor finishes'!N21 -> 3860.8883 | K25: =+F25+G25+I25+H25-D25 -> 0
B27: Wall Finishes | D27: =+'Wall finishes'!F18 -> 13910.287 | F27: =+'Wall finishes'!K18 -> 3839.3136 | G27: =+'Wall finishes'!L18 -> 8256.5884 | H27: =+'Wall finishes'!M18 -> 575.89704 | I27: =+'Wall finishes'!N18 -> 1238.4883 | K27: =+F27+G27+I27+H27-D27 -> 0
B29: Kitchens & Bathrooms | D29: =+'Kitchens & Bathrooms'!F54 -> 34577.312 | F29: =+'Kitchens & Bathrooms'!K54 -> 9543.5228 | G29: =+'Kitchens & Bathrooms'!L54 -> 20523.705 | H29: =+'Kitchens & Bathrooms'!M54 -> 1431.5284 | I29: =+'Kitchens & Bathrooms'!N54 -> 3078.5558 | K29: =+F29+G29+I29+H29-D29 -> 0
B31: Electrical | D31: =+Electrical!F89 -> 92349.165 | F31: =+Electrical!K89 -> 25488.863 | G31: =+Electrical!L89 -> 54814.759 | H31: =+Electrical!M89 -> 3823.3294 | I31: =+Electrical!N89 -> 8222.2139 | K31: =+F31+G31+I31+H31-D31 -> 0
B33: Mechanical & Plumbing | D33: =+'Mechanical & Plumbing'!F87 -> 55331.166 | F33: =+'Mechanical & Plumbing'!K87 -> 15271.697 | G33: =+'Mechanical & Plumbing'!L87 -> 32842.36 | H33: =+'Mechanical & Plumbing'!M87 -> 2290.7546 | I33: =+'Mechanical & Plumbing'!N87 -> 4926.354 | K33: =+F33+G33+I33+H33-D33 -> 0
B35: Externals | D35: =+Externals!F19 -> 28260.763 | F35: =+Externals!K19 -> 7800.1216 | G35: =+Externals!L19 -> 16774.455 | H35: =+Externals!M19 -> 1170.0182 | I35: =+Externals!N19 -> 2516.1683 | K35: =+F35+G35+I35+H35-D35 -> 0
B37: SUB TOTAL | D37: =SUM(D6:D36) -> 843112.78 | F37: =SUM(F6:F35) -> 257978.72 | G37: =SUM(G6:G36) -> 475162.83 | H37: =SUM(H6:H36) -> 38696.808 | I37: =SUM(I6:I36) -> 71274.425 | K37: =+F37+G37+I37+H37-D37 -> 0
B39: Preliminaries | D39: =+Preliminaries!F38 -> 0
B40: Overhaed & Profits | D40: =+Preliminaries!F39 -> 18000
B42: TOTAL COST (EXCLUDING VAT) | D42: =+D40+D37 -> 861112.78
B44: Anticipated Number of Weeks | C44: =+Preliminaries!J4 -> 0 | D44: Weeks

Sheet Demolition
B2: =+'Qual, Excl & Assum'!B2 -> PROJECT NAME: SQUAIRRELS LEAP GUILDFORD ROAD, CHERTSEY KT16 9RU
B3: =+'Qual, Excl & Assum'!B3 -> DATE: 25TH NOVEMBER 2025
B5: Demolition | G5: RATES | K5: TOTALS
B7: Description | C7: Quantity | D7: Unit | E7: Rate | F7: Total | G7: Labor | H7: Materials | I7: L Markup | J7: M Markup | K7: Labor | L7: Materials | M7: L Markup | N7: M Markup
N8: =IF(D8=0," ",(J8*C8))
A9: 1 | B9: Remove Septic Tank | C9: 1 | D9: no. | E9: =G9+H9+J9+I9 -> 419.75 | F9: =E9*C9 -> 419.75 | G9: 365 | I9: =IF(D9=0," ",(G9)*([1]Details!$C$4+[1]Details!$C$8)) -> 54.75 | J9: =IF(D9=0," ",(H9)*([1]Details!$C$6+[1]Details!$C$8)) -> 0 | K9: =+G9*C9 -> 365 | L9: =+H9*C9 -> 0 | M9: =IF(D9=0," ",(I9*C9)) -> 54.75 | N9: =IF(D9=0," ",(J9*C9)) -> 0
A11: =IF(F11<>"",(LARGE(A$7:A9,1)+1),"") -> 2 | B11: Wall To Be Removed (3m H) | C11: =3*83.6 -> 250.8 | D11: m2 | E11: =G11+H11+J11+I11 -> 18.975 | F11: =E11*C11 -> 4758.93 | G11: 16.5 | I11: =IF(D11=0," ",(G11)*([1]Details!$C$4+[1]Details!$C$8)) -> 2.475 | J11: =IF(D11=0," ",(H11)*([1]Details!$C$6+[1]Details!$C$8)) -> 0 | K11: =+G11*C11 -> 4138.2 | L11: =+H11*C11 -> 0 | M11: =IF(D11=0," ",(I11*C11)) -> 620.73 | N11: =IF(D11=0," ",(J11*C11)) -> 0
A13: =IF(F13<>"",(LARGE(A$7:A11,1)+1),"") -> 3 | B13: Area For Stair Removal | C13: 1.42 | D13: m2 | E13: =G13+H13+J13+I13 -> 25.875 | F13: =E13*C13 -> 36.7425 | G13: 22.5 | I13: =IF(D13=0," ",(G13)*([1]Details!$C$4+[1]Details!$C$8)) -> 3.375 | J13: =IF(D13=0," ",(H13)*([1]Details!$C$6+[1]Details!$C$8)) -> 0 | K13: =+G13*C13 -> 31.95 | L13: =+H13*C13 -> 0 | M13: =IF(D13=0," ",(I13*C13)) -> 4.7925 | N13: =IF(D13=0," ",(J13*C13)) -> 0
A15: =IF(F15<>"",(LARGE(A$7:A13,1)+1),"") -> 4 | B15: Area For Removal Of (Flooring & Ceiling) And All Other Items (Lighting, Mechanical, Plumbing, Opening, Equipment) | C15: 37.62 | D15: m2 | E15: =G15+H15+J15+I15 -> 17.825 | F15: =E15*C15 -> 670.5765 | G15: 15.5 | I15: =IF(D15=0," ",(G15)*([1]Details!$C$4+[1]Details!$C$8)) -> 2.325 | J15: =IF(D15=0," ",(H15)*([1]Details!$C$6+[1]Details!$C$8)) -> 0 | K15: =+G15*C15 -> 583.11 | L15: =+H15*C15 -> 0 | M15: =IF(D15=0," ",(I15*C15)) -> 87.4665 | N15: =IF(D15=0," ",(J15*C15)) -> 0
A17: =IF(F17<>"",(LARGE(A$7:A15,1)+1),"") -> 5 | B17: Roofing To Be Removed | C17: 31.72 | D17: m2 | E17: =G17+H17+J17+I17 -> 27.025 | F17: =E17*C17 -> 857.233 | G17: 23.5 | I17: =IF(D17=0," ",(G17)*([1]Details!$C$4+[1]Details!$C$8)) -> 3.525 | J17: =IF(D17=0," ",(H17)*([1]Details!$C$6+[1]Details!$C$8)) -> 0 | K17: =+G17*C17 -> 745.42 | L17: =+H17*C17 -> 0 | M17: =IF(D17=0," ",(I17*C17)) -> 111.813 | N17: =IF(D17=0," ",(J17*C17)) -> 0
A18: =IF(F18<>"",(LARGE(A$7:A17,1)+1),"") | J18: =IF(D18=0," ",(G18+H18)*(Details!$C$4+Details!$C$6))
E19: Sub Total | F19: =SUM(F8:F18) -> 6743.232 | K19: =SUM(K8:K18) -> 5863.68 | L19: =SUM(L8:L18) -> 0 | M19: =SUM(M8:M18) -> 879.552 | N19: =SUM(N8:N18) -> 0

Sheet Substructure
B2: =+'Qual, Excl & Assum'!B2 -> PROJECT NAME: SQUAIRRELS LEAP GUILDFORD ROAD, CHERTSEY KT16 9RU
B3: =+'Qual, Excl & Assum'!B3 -> DATE: 25TH NOVEMBER 2025
B5: Substructure | G5: RATES | K5: TOTALS
B7: Description | C7: Quantity | D7: Unit | E7: Rate | F7: Total | G7: Labor | H7: Materials | I7: L Markup | J7: M Markup | K7: Labor | L7: Materials | M7: L Markup | N7: M Markup
N8: =IF(D8=0," ",(J8*C8))
A9: =IF(F9<>"",(LARGE(A$7:A8,1)+1),"") | B9: LOWER FLOOR EXCAVATION | I9: =IF(D9=0," ",(G9)*(Details!$C$4+Details!$C$8)) | J9: =IF(D9=0," ",(H9)*(Details!$C$6+Details!$C$8)) | N9: =IF(D9=0," ",(J9*C9))
A10: =IF(F10<>"",(LARGE(A$7:A9,1)+1),"") | N10: =IF(D10=0," ",(J10*C10))
A11: 1 | B11: Excavate Lower Floor; | C11: =148.66*3 -> 445.98 | D11: m3 | E11: =G11+H11+J11+I11 -> 48.875 | F11: =E11*C11 -> 21797.272 | G11: 42.5 | I11: =IF(D11=0," ",(G11)*(Details!$C$4+Details!$C$8)) -> 6.375 | J11: =IF(D11=0," ",(H11)*(Details!$C$6+Details!$C$8)) -> 0 | K11: =+G11*C11 -> 18954.15 | L11: =+H11*C11 -> 0 | M11: =IF(D11=0," ",(I11*C11)) -> 2843.1225 | N11: =IF(D11=0," ",(J11*C11)) -> 0
A12: =IF(F12<>"",(LARGE(A$7:A11,1)+1),"")
A13: =IF(F13<>"",(LARGE(A$7:A12,1)+1),"") -> 2 | B13: Cart away spoil (assume clean and inert) | C13: =C11-46.03-0.15*153.44*2 -> 353.918 | D13: m3 | E13: =G13+H13+J13+I13 -> 39.675 | F13: =E13*C13 -> 14041.697 | G13: 34.5 | I13: =IF(D13=0," ",(G13)*(Details!$C$4+Details!$C$8)) -> 5.175 | J13: =IF(D13=0," ",(H13)*(Details!$C$6+Details!$C$8)) -> 0 | K13: =+G13*C13 -> 12210.171 | L13: =+H13*C13 -> 0 | M13: =IF(D13=0," ",(I13*C13)) -> 1831.5257 | N13: =IF(D13=0," ",(J13*C13)) -> 0
A14: =IF(F14<>"",(LARGE(A$7:A13,1)+1),"") | N14: =IF(D14=0," ",(J14*C14))
A15: =IF(F15<>"",(LARGE(A$7:A14,1)+1),"") | B15: FOUNDATION WORK
A16: =IF(F16<>"",(LARGE(A$7:A15,1)+1),"")
A17: =IF(F17<>"",(LARGE(A$7:A16,1)+1),"") -> 3 | B17: 1800X1800X300mm Footing Pad (08 EA) | C17: =1.8*1.8*0.3*8 -> 7.776 | D17: m3 | E17: =G17+H17+J17+I17 -> 480.99613 | F17: =E17*C17 -> 3740.2259 | G17: 132.7575 | H17: 285.5 | I17: =IF(D17=0," ",(G17)*(Details!$C$4+Details!$C$8)) -> 19.913625 | J17: =IF(D17=0," ",(H17)*(Details!$C$6+Details!$C$8)) -> 42.825 | K17: =+G17*C17 -> 1032.3223 | L17: =+H17*C17 -> 2220.048 | M17: =IF(D17=0," ",(I17*C17)) -> 154.84835 | N17: =IF(D17=0," ",(J17*C17)) -> 333.0072
A18: =IF(F18<>"",(LARGE(A$7:A17,1)+1),"")
A19: =IF(F19<>"",(LARGE(A$7:A18,1)+1),"") -> 4 | B19: Formwork | C19: =1.8*4*0.3*8 -> 17.28 | D19: m2 | E19: =G19+H19+J19+I19 -> 37.906875 | F19: =E19*C19 -> 655.0308 | G19: 10.4625 | H19: 22.5 | I19: =IF(D19=0," ",(G19)*(Details!$C$4+Details!$C$8)) -> 1.569375 | J19: =IF(D19=0," ",(H19)*(Details!$C$6+Details!$C$8)) -> 3.375 | K19: =+G19*C19 -> 180.792 | L19: =+H19*C19 -> 388.8 | M19: =IF(D19=0," ",(I19*C19)) -> 27.1188 | N19: =IF(D19=0," ",(J19*C19)) -> 58.32
A20: =IF(F20<>"",(LARGE(A$7:A19,1)+1),"")
A21: =IF(F21<>"",(LARGE(A$7:A20,1)+1),"") -> 5 | B21: 300 mm Thick Concrete Retaining Wall (H = 3.4 M) w/ 16 mm @ 150 mm c/c vertical, 12 mm @ 200 mm c/c horizontal Bars & front face: 10 mm @ 250 mm c/c | C21: 46.0326 | D21: m3 | E21: =G21+H21+J21+I21 -> 480.99613 | F21: =E21*C21 -> 22141.502 | G21: 132.7575 | H21: 285.5 | I21: =IF(D21=0," ",(G21)*(Details!$C$4+Details!$C$8)) -> 19.913625 | J21: =IF(D21=0," ",(H21)*(Details!$C$6+Details!$C$8)) -> 42.825 | K21: =+G21*C21 -> 6111.1729 | L21: =+H21*C21 -> 13142.307 | M21: =IF(D21=0," ",(I21*C21)) -> 916.67593 | N21: =IF(D21=0," ",(J21*C21)) -> 1971.3461
A22: =IF(F22<>"",(LARGE(A$7:A21,1)+1),"")
A23: =IF(F23<>"",(LARGE(A$7:A22,1)+1),"") -> 6 | B23: 150 mm Thick Rigid Insulation | C23: 153.442 | D23: m2 | E23: =G23+H23+J23+I23 -> 22.744125 | F23: =E23*C23 -> 3489.904 | G23: 6.2775 | H23: 13.5 | I23: =IF(D23=0," ",(G23)*(Details!$C$4+Details!$C$8)) -> 0.941625 | J23: =IF(D23=0," ",(H23)*(Details!$C$6+Details!$C$8)) -> 2.025 | K23: =+G23*C23 -> 963.23216 | L23: =+H23*C23 -> 2071.467 | M23: =IF(D23=0," ",(I23*C23)) -> 144.48482 | N23: =IF(D23=0," ",(J23*C23)) -> 310.72005
A24: =IF(F24<>"",(LARGE(A$7:A23,1)+1),"")
A25: =IF(F25<>"",(LARGE(A$7:A24,1)+1),"") -> 7 | B25: 150 mm Thick Thick Masonry/Block Wall | C25: 153.442 | D25: m2 | E25: =G25+H25+J25+I25 -> 53.069625 | F25: =E25*C25 -> 8143.1094 | G25: 14.6475 | H25: 31.5 | I25: =IF(D25=0," ",(G25)*(Details!$C$4+Details!$C$8)) -> 2.197125 | J25: =IF(D25=0," ",(H25)*(Details!$C$6+Details!$C$8)) -> 4.725 | K25: =+G25*C25 -> 2247.5417 | L25: =+H25*C25 -> 4833.423 | M25: =IF(D25=0," ",(I25*C25)) -> 337.13125 | N25: =IF(D25=0," ",(J25*C25)) -> 725.01345
A26: =IF(F26<>"",(LARGE(A$7:A25,1)+1),"")
A27: =IF(F27<>"",(LARGE(A$7:A26,1)+1),"") -> 8 | B27: Waterproofing | C27: 153.442 | D27: m2 | E27: =G27+H27+J27+I27 -> 716.01875 | F27: =E27*C27 -> 109867.35 | G27: 197.625 | H27: 425 | I27: =IF(D27=0," ",(G27)*(Details!$C$4+Details!$C$8)) -> 29.64375 | J27: =IF(D27=0," ",(H27)*(Details!$C$6+Details!$C$8)) -> 63.75 | K27: =+G27*C27 -> 30323.975 | L27: =+H27*C27 -> 65212.85 | M27: =IF(D27=0," ",(I27*C27)) -> 4548.5963 | N27: =IF(D27=0," ",(J27*C27)) -> 9781.9275
A28: =IF(F28<>"",(LARGE(A$7:A27,1)+1),"")
A29: =IF(F29<>"",(LARGE(A$7:A28,1)+1),"") -> 9 | B29: Formwork | C29: 153.442 | D29: m2 | E29: =G29+H29+J29+I29 -> 37.906875 | F29: =E29*C29 -> 5816.5067 | G29: 10.4625 | H29: 22.5 | I29: =IF(D29=0," ",(G29)*(Details!$C$4+Details!$C$8)) -> 1.569375 | J29: =IF(D29=0," ",(H29)*(Details!$C$6+Details!$C$8)) -> 3.375 | K29: =+G29*C29 -> 1605.3869 | L29: =+H29*C29 -> 3452.445 | M29: =IF(D29=0," ",(I29*C29)) -> 240.80804 | N29: =IF(D29=0," ",(J29*C29)) -> 517.86675
A30: =IF(F30<>"",(LARGE(A$7:A29,1)+1),"")
A31: =IF(F31<>"",(LARGE(A$7:A30,1)+1),"") | B31: SLABS | I31: =IF(D31=0," ",(G31)*(Details!$C$4+Details!$C$8)) | J31: =IF(D31=0," ",(H31)*(Details!$C$6+Details!$C$8)) | N31: =IF(D31=0," ",(J31*C31))
A32: =IF(F32<>"",(LARGE(A$7:A31,1)+1),"") | N32: =IF(D32=0," ",(J32*C32))
A33: =IF(F33<>"",(LARGE(A$7:A32,1)+1),"") -> 10 | B33: 300 mm Thick Concrete Slab on Grade (154 m2) w/ 16 mm @ 150 mm c/c (primary direction), 12 mm @ 150–200 mm c/c (secondary direction) & 16 mm @ 150 mm c/c top bars | C33: 46.101 | D33: m2 | E33: =G33+H33+J33+I33 -> 61.493375 | F33: =E33*C33 -> 2834.9061 | G33: 16.9725 | H33: 36.5 | I33: =IF(D33=0," ",(G33)*(Details!$C$4+Details!$C$8)) -> 2.545875 | J33: =IF(D33=0," ",(H33)*(Details!$C$6+Details!$C$8)) -> 5.475 | K33: =+G33*C33 -> 782.44922 | L33: =+H33*C33 -> 1682.6865 | M33: =IF(D33=0," ",(I33*C33)) -> 117.36738 | N33: =IF(D33=0," ",(J33*C33)) -> 252.40297
A34: =IF(F34<>"",(LARGE(A$7:A33,1)+1),"") | N34: =IF(D34=0," ",(J34*C34))
A35: =IF(F35<>"",(LARGE(A$7:A34,1)+1),"") -> 11 | B35: 10 MIL Vapor Retarder | C35: 154 | D35: m2 | E35: =G35+H35+J35+I35 -> 24.428875 | F35: =E35*C35 -> 3762.0468 | G35: 6.7425 | H35: 14.5 | I35: =IF(D35=0," ",(G35)*(Details!$C$4+Details!$C$8)) -> 1.011375 | J35: =IF(D35=0," ",(H35)*(Details!$C$6+Details!$C$8)) -> 2.175 | K35: =+G35*C35 -> 1038.345 | L35: =+H35*C35 -> 2233 | M35: =IF(D35=0," ",(I35*C35)) -> 155.75175 | N35: =IF(D35=0," ",(J35*C35)) -> 334.95
A36: =IF(F36<>"",(LARGE(A$7:A35,1)+1),"") | P36: Check
E37: Sub Total | F37: =SUM(F8:F36) -> 196289.55 | K37: =SUM(K8:K36) -> 75449.538 | L37: =SUM(L8:L36) -> 95237.027 | M37: =SUM(M8:M36) -> 11317.431 | N37: =SUM(N8:N36) -> 14285.554 | P37: =+F37-K37-L37-N37-M37 -> 0
A38: =IF(F38<>"",(LARGE(A$7:A37,1)+1),"")

Sheet Superstructure
B2: =+'Qual, Excl & Assum'!B2 -> PROJECT NAME: SQUAIRRELS LEAP GUILDFORD ROAD, CHERTSEY KT16 9RU
B3: =+'Qual, Excl & Assum'!B3 -> DATE: 25TH NOVEMBER 2025
B5: Superstructure | G5: RATES | K5: TOTALS
B7: Description | C7: Quantity | D7: Unit | E7: Rate | F7: Total | G7: Labor | H7: Materials | I7: L Markup | J7: M Markup | K7: Labor | L7: Materials | M7: L Markup | N7: M Markup
N8: =IF(D8=0," ",(J8*C8))
B9: CAVITY WALL | N9: =IF(D9=0," ",(J9*C9))
N10: =IF(D10=0," ",(J10*C10))
A11: 1 | B11: 100 mm Thick Masonry Brick Wall | C11: 342.709 | D11: m2 | E11: =G11+H11+J11+I11 -> 54.754375 | F11: =E11*C11 -> 18764.817 | G11: 15.1125 | H11: 32.5 | I11: =IF(D11=0," ",(G11)*(Details!$C$4+Details!$C$8)) -> 2.266875 | J11: =IF(D11=0," ",(H11)*(Details!$C$6+Details!$C$8)) -> 4.875 | K11: =+G11*C11 -> 5179.1898 | L11: =+H11*C11 -> 11138.042 | M11: =IF(D11=0," ",(I11*C11)) -> 776.87846 | N11: =IF(D11=0," ",(J11*C11)) -> 1670.7064
I12: =IF(D12=0," ",(G12)*(Details!$C$4+Details!$C$8)) | J12: =IF(D12=0," ",(H12)*(Details!$C$6+Details!$C$8)) | N12: =IF(D12=0," ",(J12*C12))
A13: =IF(F13<>"",(LARGE(A$4:A12,1)+1),"") -> 2 | B13: 100 mm Thick Rigid Insulation | C13: 342.709 | D13: m2 | E13: =G13+H13+J13+I13 -> 22.744125 | F13: =E13*C13 -> 7794.6163 | G13: 6.2775 | H13: 13.5 | I13: =IF(D13=0," ",(G13)*(Details!$C$4+Details!$C$8)) -> 0.941625 | J13: =IF(D13=0," ",(H13)*(Details!$C$6+Details!$C$8)) -> 2.025 | K13: =+G13*C13 -> 2151.3557 | L13: =+H13*C13 -> 4626.5715 | M13: =IF(D13=0," ",(I13*C13)) -> 322.70336 | N13: =IF(D13=0," ",(J13*C13)) -> 693.98573
A14: =IF(F14<>"",(LARGE(A$4:A13,1)+1),"") | I14: =IF(D14=0," ",(G14)*(Details!$C$4+Details!$C$8)) | J14: =IF(D14=0," ",(H14)*(Details!$C$6+Details!$C$8)) | N14: =IF(D14=0," ",(J14*C14))
A15: =IF(F15<>"",(LARGE(A$4:A14,1)+1),"") -> 3 | B15: 150 mm Thick Masonry Block Wall | C15: 450.32 | D15: m2 | E15: =G15+H15+J15+I15 -> 58.123875 | F15: =E15*C15 -> 26174.343 | G15: 16.0425 | H15: 34.5 | I15: =IF(D15=0," ",(G15)*(Details!$C$4+Details!$C$8)) -> 2.406375 | J15: =IF(D15=0," ",(H15)*(Details!$C$6+Details!$C$8)) -> 5.175 | K15: =+G15*C15 -> 7224.2586 | L15: =+H15*C15 -> 15536.04 | M15: =IF(D15=0," ",(I15*C15)) -> 1083.6388 | N15: =IF(D15=0," ",(J15*C15)) -> 2330.406
A16: =IF(F16<>"",(LARGE(A$4:A15,1)+1),"")
A17: =IF(F17<>"",(LARGE(A$4:A16,1)+1),"") -> 4 | B17: 300 mm Thick Masonry Block Wall | C17: 107.619 | D17: m2 | E17: =G17+H17+J17+I17 -> 71.601875 | F17: =E17*C17 -> 7705.7222 | G17: 19.7625 | H17: 42.5 | I17: =IF(D17=0," ",(G17)*(Details!$C$4+Details!$C$8)) -> 2.964375 | J17: =IF(D17=0," ",(H17)*(Details!$C$6+Details!$C$8)) -> 6.375 | K17: =+G17*C17 -> 2126.8205 | L17: =+H17*C17 -> 4573.8075 | M17: =IF(D17=0," ",(I17*C17)) -> 319.02307 | N17: =IF(D17=0," ",(J17*C17)) -> 686.07113
A18: =IF(F18<>"",(LARGE(A$4:A17,1)+1),"") | I18: =IF(D18=0," ",(G18)*(Details!$C$4+Details!$C$8)) | J18: =IF(D18=0," ",(H18)*(Details!$C$6+Details!$C$8)) | N18: =IF(D18=0," ",(J18*C18))
A19: =IF(F19<>"",(LARGE(A$4:A18,1)+1),"") | B19: FLOOR CONSTRUCTION
A20: =IF(F20<>"",(LARGE(A$4:A19,1)+1),"")
A21: =IF(F21<>"",(LARGE(A$4:A20,1)+1),"") -> 5 | B21: 50 x 170 C24 @ 400 mm C/C | C21: 540.6429 | D21: m | E21: =G21+H21+J21+I21 -> 26.113625 | F21: =E21*C21 -> 14118.146 | G21: 7.2075 | H21: 15.5 | I21: =IF(D21=0," ",(G21)*(Details!$C$4+Details!$C$8)) -> 1.081125 | J21: =IF(D21=0," ",(H21)*(Details!$C$6+Details!$C$8)) -> 2.325 | K21: =+G21*C21 -> 3896.6837 | L21: =+H21*C21 -> 8379.9649 | M21: =IF(D21=0," ",(I21*C21)) -> 584.50256 | N21: =IF(D21=0," ",(J21*C21)) -> 1256.9947
A22: =IF(F22<>"",(LARGE(A$4:A21,1)+1),"")
A23: =IF(F23<>"",(LARGE(A$4:A22,1)+1),"") -> 6 | B23: 50 x 200 C24 @ 400 mm C/C | C23: 870.8283 | D23: m | E23: =G23+H23+J23+I23 -> 29.483125 | F23: =E23*C23 -> 25674.74 | G23: 8.1375 | H23: 17.5 | I23: =IF(D23=0," ",(G23)*(Details!$C$4+Details!$C$8)) -> 1.220625 | J23: =IF(D23=0," ",(H23)*(Details!$C$6+Details!$C$8)) -> 2.625 | K23: =+G23*C23 -> 7086.3653 | L23: =+H23*C23 -> 15239.495 | M23: =IF(D23=0," ",(I23*C23)) -> 1062.9548 | N23: =IF(D23=0," ",(J23*C23)) -> 2285.9243
A24: =IF(F24<>"",(LARGE(A$4:A23,1)+1),"")
A25: =IF(F25<>"",(LARGE(A$4:A24,1)+1),"") -> 7 | B25: 75 x 200 C24 @ 400 mm C/C | C25: 206.5 | D25: m | E25: =G25+H25+J25+I25 -> 32.852625 | F25: =E25*C25 -> 6784.0671 | G25: 9.0675 | H25: 19.5 | I25: =IF(D25=0," ",(G25)*(Details!$C$4+Details!$C$8)) -> 1.360125 | J25: =IF(D25=0," ",(H25)*(Details!$C$6+Details!$C$8)) -> 2.925 | K25: =+G25*C25 -> 1872.4387 | L25: =+H25*C25 -> 4026.75 | M25: =IF(D25=0," ",(I25*C25)) -> 280.86581 | N25: =IF(D25=0," ",(J25*C25)) -> 604.0125
A26: =IF(F26<>"",(LARGE(A$4:A25,1)+1),"")
A27: =IF(F27<>"",(LARGE(A$4:A26,1)+1),"") -> 8 | B27: 9 mm Thick OSB3 Roof Sheathing | C27: 239.41848 | D27: m2 | E27: =G27+H27+J27+I27 -> 19.627337 | F27: =E27*C27 -> 4699.1473 | G27: 5.41725 | H27: 11.65 | I27: =IF(D27=0," ",(G27)*(Details!$C$4+Details!$C$8)) -> 0.8125875 | J27: =IF(D27=0," ",(H27)*(Details!$C$6+Details!$C$8)) -> 1.7475 | K27: =+G27*C27 -> 1296.9898 | L27: =+H27*C27 -> 2789.2253 | M27: =IF(D27=0," ",(I27*C27)) -> 194.54846 | N27: =IF(D27=0," ",(J27*C27)) -> 418.38379
A28: =IF(F28<>"",(LARGE(A$4:A27,1)+1),"")
A29: =IF(F29<>"",(LARGE(A$4:A28,1)+1),"") -> 9 | B29: 18 mm WBP Plywood | C29: 417.93 | D29: m2 | E29: =G29+H29+J29+I29 -> 19.964288 | F29: =E29*C29 -> 8343.6747 | G29: 5.51025 | H29: 11.85 | I29: =IF(D29=0," ",(G29)*(Details!$C$4+Details!$C$8)) -> 0.8265375 | J29: =IF(D29=0," ",(H29)*(Details!$C$6+Details!$C$8)) -> 1.7775 | K29: =+G29*C29 -> 2302.8988 | L29: =+H29*C29 -> 4952.4705 | M29: =IF(D29=0," ",(I29*C29)) -> 345.43482 | N29: =IF(D29=0," ",(J29*C29)) -> 742.87058
A30: =IF(F30<>"",(LARGE(A$4:A29,1)+1),"")
A31: =IF(F31<>"",(LARGE(A$4:A30,1)+1),"") | B31: STONE & BRICK WORK
A32: =IF(F32<>"",(LARGE(A$4:A31,1)+1),"")
A33: =IF(F33<>"",(LARGE(A$4:A32,1)+1),"") -> 10 | B33: 200 mm High Soldier Course | C33: 11.93 | D33: m | E33: =G33+H33+J33+I33 -> 37.906875 | F33: =E33*C33 -> 452.22902 | G33: 10.4625 | H33: 22.5 | I33: =IF(D33=0," ",(G33)*(Details!$C$4+Details!$C$8)) -> 1.569375 | J33: =IF(D33=0," ",(H33)*(Details!$C$6+Details!$C$8)) -> 3.375 | K33: =+G33*C33 -> 124.81763 | L33: =+H33*C33 -> 268.425 | M33: =IF(D33=0," ",(I33*C33)) -> 18.722644 | N33: =IF(D33=0," ",(J33*C33)) -> 40.26375
A34: =IF(F34<>"",(LARGE(A$4:A33,1)+1),"")
A35: =IF(F35<>"",(LARGE(A$4:A34,1)+1),"") -> 11 | B35: 75 mm High Soldier Course Sill | C35: 8.88 | D35: m | E35: =G35+H35+J35+I35 -> 29.483125 | F35: =E35*C35 -> 261.81015 | G35: 8.1375 | H35: 17.5 | I35: =IF(D35=0," ",(G35)*(Details!$C$4+Details!$C$8)) -> 1.220625 | J35: =IF(D35=0," ",(H35)*(Details!$C$6+Details!$C$8)) -> 2.625 | K35: =+G35*C35 -> 72.261 | L35: =+H35*C35 -> 155.4 | M35: =IF(D35=0," ",(I35*C35)) -> 10.83915 | N35: =IF(D35=0," ",(J35*C35)) -> 23.31
A36: =IF(F36<>"",(LARGE(A$4:A35,1)+1),"")
A37: =IF(F37<>"",(LARGE(A$4:A36,1)+1),"") | B37: LINTELS | I37: =IF(D37=0," ",(G37)*(Details!$C$4+Details!$C$8)) | J37: =IF(D37=0," ",(H37)*(Details!$C$6+Details!$C$8)) | M37: =IF(D37=0," ",(I37*C37)) | N37: =IF(D37=0," ",(J37*C37))
A38: =IF(F38<>"",(LARGE(A$4:A37,1)+1),"") | I38: =IF(D38=0," ",(G38)*(Details!$C$4+Details!$C$8)) | J38: =IF(D38=0," ",(H38)*(Details!$C$6+Details!$C$8)) | N38: =IF(D38=0," ",(J38*C38))
A39: =IF(F39<>"",(LARGE(A$4:A38,1)+1),"") -> 12 | B39: 50x100 C24 Engineered Timber Lintels | C39: 21.41 | D39: m | E39: =G39+H39+J39+I39 -> 22.744125 | F39: =E39*C39 -> 486.95172 | G39: 6.2775 | H39: 13.5 | I39: =IF(D39=0," ",(G39)*(Details!$C$4+Details!$C$8)) -> 0.941625 | J39: =IF(D39=0," ",(H39)*(Details!$C$6+Details!$C$8)) -> 2.025 | K39: =+G39*C39 -> 134.40128 | L39: =+H39*C39 -> 289.035 | M39: =IF(D39=0," ",(I39*C39)) -> 20.160191 | N39: =IF(D39=0," ",(J39*C39)) -> 43.35525
A40: =IF(F40<>"",(LARGE(A$4:A39,1)+1),"") | I40: =IF(D40=0," ",(G40)*(Details!$C$4+Details!$C$8)) | J40: =IF(D40=0," ",(H40)*(Details!$C$6+Details!$C$8)) | N40: =IF(D40=0," ",(J40*C40))
A41: =IF(F41<>"",(LARGE(A$4:A40,1)+1),"") -> 13 | B41: 50x300 C24 Engineered Timber Lintels | C41: 2.32 | D41: m | E41: =G41+H41+J41+I41 -> 28.388038 | F41: =E41*C41 -> 65.860247 | G41: 7.83525 | H41: 16.85 | I41: =IF(D41=0," ",(G41)*(Details!$C$4+Details!$C$8)) -> 1.1752875 | J41: =IF(D41=0," ",(H41)*(Details!$C$6+Details!$C$8)) -> 2.5275 | K41: =+G41*C41 -> 18.17778 | L41: =+H41*C41 -> 39.092 | M41: =IF(D41=0," ",(I41*C41)) -> 2.726667 | N41: =IF(D41=0," ",(J41*C41)) -> 5.8638
A42: =IF(F42<>"",(LARGE(A$4:A41,1)+1),"")
A43: =IF(F43<>"",(LARGE(A$4:A42,1)+1),"") -> 14 | B43: Catanic CG Lintel | C43: 30.64 | D43: m | E43: =G43+H43+J43+I43 -> 32.852625 | F43: =E43*C43 -> 1006.6044 | G43: 9.0675 | H43: 19.5 | I43: =IF(D43=0," ",(G43)*(Details!$C$4+Details!$C$8)) -> 1.360125 | J43: =IF(D43=0," ",(H43)*(Details!$C$6+Details!$C$8)) -> 2.925 | K43: =+G43*C43 -> 277.8282 | L43: =+H43*C43 -> 597.48 | M43: =IF(D43=0," ",(I43*C43)) -> 41.67423 | N43: =IF(D43=0," ",(J43*C43)) -> 89.622
...

Sheet Structural Steelwork
B2: =+'Qual, Excl & Assum'!B2 -> PROJECT NAME: SQUAIRRELS LEAP GUILDFORD ROAD, CHERTSEY KT16 9RU
B3: =+'Qual, Excl & Assum'!B3 -> DATE: 25TH NOVEMBER 2025
B5: Structural Steelwork & Timberwork | G5: RATES | K5: TOTALS
B7: Description | C7: Quantity | D7: Unit | E7: Rate | F7: Total | G7: Labor | H7: Materials | I7: L Markup | J7: M Markup | K7: Labor | L7: Materials | M7: L Markup | N7: M Markup
A8: =IF(F8<>"",(LARGE(A$7:A7,1)+1),"") | J8: =IF(D8=0," ",(G8+H8)*(Details!$C$4)) | N8: =IF(D8=0," ",(J8*C8))
A9: =IF(F9<>"",(LARGE(A$7:A8,1)+1),"") | B9: STRUCTURAL STEELWORK | Z9: =IF(F9<>"",(LARGE(A$7:A8,1)+1),"") | AA9: STRUCTURAL STEELWORK
A11: =IF(F11<>"",(LARGE(A$7:A10,1)+1),"") | B11: BEAMS
A12: =IF(F12<>"",(LARGE(A$7:A11,1)+1),"")
A13: 1 | B13: 200x90x30 PFC | C13: 15.32 | D13: m | E13: =G13+H13+J13+I13 -> 115.40538 | F13: =E13*C13 -> 1768.0103 | G13: 31.8525 | H13: 68.5 | I13: =IF(D13=0," ",(G13)*(Details!$C$4+Details!$C$8)) -> 4.777875 | J13: =IF(D13=0," ",(H13)*(Details!$C$6+Details!$C$8)) -> 10.275 | K13: =+G13*C13 -> 487.9803 | L13: =+H13*C13 -> 1049.42 | M13: =IF(D13=0," ",(I13*C13)) -> 73.197045 | N13: =IF(D13=0," ",(J13*C13)) -> 157.413 | Z13: 1 | AC13: m | AD13: =G13+H13+J13+I13 -> 115.40538 | AE13: =E13*C13 -> 1768.0103 | AF13: =O13*1.75*Details!$M$36 -> 0 | AG13: =O13*3+500/1000*O13*C13 -> 0 | AH13: =IF(D13=0," ",(G13)*(Details!$C$4+Details!$C$8)) -> 4.777875 | AI13: =IF(D13=0," ",(H13)*(Details!$C$6+Details!$C$8)) -> 10.275 | AJ13: =+G13*C13 -> 487.9803 | AK13: =+H13*C13 -> 1049.42 | AL13: =IF(D13=0," ",(I13*C13)) -> 73.197045 | AM13: =IF(D13=0," ",(J13*C13)) -> 157.413 | AN13: 0
A15: =IF(F15<>"",(LARGE(A$7:A13,1)+1),"") -> 2 | B15: UC152x152 | C15: 11.6655 | D15: m | E15: =G15+H15+J15+I15 -> 91.818875 | F15: =E15*C15 -> 1071.1131 | G15: 25.3425 | H15: 54.5 | I15: =IF(D15=0," ",(G15)*(Details!$C$4+Details!$C$8)) -> 3.801375 | J15: =IF(D15=0," ",(H15)*(Details!$C$6+Details!$C$8)) -> 8.175 | K15: =+G15*C15 -> 295.63293 | L15: =+H15*C15 -> 635.76975 | M15: =IF(D15=0," ",(I15*C15)) -> 44.34494 | N15: =IF(D15=0," ",(J15*C15)) -> 95.365463
A17: =IF(F17<>"",(LARGE(A$7:A15,1)+1),"") -> 3 | B17: UC152x152 Steel Beam | C17: 81.61 | D17: m | E17: =G17+H17+J17+I17 -> 91.818875 | F17: =E17*C17 -> 7493.3384 | G17: 25.3425 | H17: 54.5 | I17: =IF(D17=0," ",(G17)*(Details!$C$4+Details!$C$8)) -> 3.801375 | J17: =IF(D17=0," ",(H17)*(Details!$C$6+Details!$C$8)) -> 8.175 | K17: =+G17*C17 -> 2068.2014 | L17: =+H17*C17 -> 4447.745 | M17: =IF(D17=0," ",(I17*C17)) -> 310.23021 | N17: =IF(D17=0," ",(J17*C17)) -> 667.16175
A19: =IF(F19<>"",(LARGE(A$7:A17,1)+1),"") -> 4 | B19: UC203x203 | C19: 36.04 | D19: m | E19: =G19+H19+J19+I19 -> 122.14438 | F19: =E19*C19 -> 4402.0833 | G19: 33.7125 | H19: 72.5 | I19: =IF(D19=0," ",(G19)*(Details!$C$4+Details!$C$8)) -> 5.056875 | J19: =IF(D19=0," ",(H19)*(Details!$C$6+Details!$C$8)) -> 10.875 | K19: =+G19*C19 -> 1214.9985 | L19: =+H19*C19 -> 2612.9 | M19: =IF(D19=0," ",(I19*C19)) -> 182.24978 | N19: =IF(D19=0," ",(J19*C19)) -> 391.935
A21: =IF(F21<>"",(LARGE(A$7:A19,1)+1),"") -> 5 | B21: UC203x203 Steel Beam | C21: 14.82 | D21: m | E21: =G21+H21+J21+I21 -> 122.14438 | F21: =E21*C21 -> 1810.1796 | G21: 33.7125 | H21: 72.5 | I21: =IF(D21=0," ",(G21)*(Details!$C$4+Details!$C$8)) -> 5.056875 | J21: =IF(D21=0," ",(H21)*(Details!$C$6+Details!$C$8)) -> 10.875 | K21: =+G21*C21 -> 499.61925 | L21: =+H21*C21 -> 1074.45 | M21: =IF(D21=0," ",(I21*C21)) -> 74.942888 | N21: =IF(D21=0," ",(J21*C21)) -> 161.1675
A23: =IF(F23<>"",(LARGE(A$7:A21,1)+1),"") -> 6 | B23: UC254x254x132 Steel Beam | C23: 14.83 | D23: m | E23: =G23+H23+J23+I23 -> 128.88338 | F23: =E23*C23 -> 1911.3405 | G23: 35.5725 | H23: 76.5 | I23: =IF(D23=0," ",(G23)*(Details!$C$4+Details!$C$8)) -> 5.335875 | J23: =IF(D23=0," ",(H23)*(Details!$C$6+Details!$C$8)) -> 11.475 | K23: =+G23*C23 -> 527.54018 | L23: =+H23*C23 -> 1134.495 | M23: =IF(D23=0," ",(I23*C23)) -> 79.131026 | N23: =IF(D23=0," ",(J23*C23)) -> 170.17425
A25: =IF(F25<>"",(LARGE(A$7:A23,1)+1),"") -> 7 | B25: UC305x305 Steel Beam | C25: 14.81 | D25: m | E25: =G25+H25+J25+I25 -> 137.30713 | F25: =E25*C25 -> 2033.5185 | G25: 37.8975 | H25: 81.5 | I25: =IF(D25=0," ",(G25)*(Details!$C$4+Details!$C$8)) -> 5.684625 | J25: =IF(D25=0," ",(H25)*(Details!$C$6+Details!$C$8)) -> 12.225 | K25: =+G25*C25 -> 561.26198 | L25: =+H25*C25 -> 1207.015 | M25: =IF(D25=0," ",(I25*C25)) -> 84.189296 | N25: =IF(D25=0," ",(J25*C25)) -> 181.05225
A26: =IF(F26<>"",(LARGE(A$7:A25,1)+1),"")
A27: =IF(F27<>"",(LARGE(A$7:A26,1)+1),"") | B27: COLUMNS
A28: =IF(F28<>"",(LARGE(A$7:A27,1)+1),"")
A29: =IF(F29<>"",(LARGE(A$7:A28,1)+1),"") -> 8 | B29: SHS Column 100x5 (08 EA, 6.5 M High) | C29: 51.2 | D29: m | E29: =G29+H29+J29+I29 -> 194.0832 | F29: =E29*C29 -> 9937.0598 | G29: 53.568 | H29: 115.2 | I29: =IF(D29=0," ",(G29)*(Details!$C$4+Details!$C$8)) -> 8.0352 | J29: =IF(D29=0," ",(H29)*(Details!$C$6+Details!$C$8)) -> 17.28 | K29: =+G29*C29 -> 2742.6816 | L29: =+H29*C29 -> 5898.24 | M29: =IF(D29=0," ",(I29*C29)) -> 411.40224 | N29: =IF(D29=0," ",(J29*C29)) -> 884.736
A30: =IF(F30<>"",(LARGE(A$7:A29,1)+1),"") | P30: Check
E31: Sub Total | F31: =SUM(F8:F30) -> 30426.644 | J31: =IF(D31=0," ",(G31+H31)*(Details!$C$4+Details!$C$6)) | K31: =SUM(K8:K30) -> 8397.9162 | L31: =SUM(L8:L30) -> 18060.035 | M31: =SUM(M8:M30) -> 1259.6874 | N31: =SUM(N8:N30) -> 2709.0052 | P31: =+F31-K31-L31-N31-M31 -> 5.4569682e-12
A32: =IF(D32=0," ",(LARGE(A$8:A31,1)+1)) | J32: =IF(D32=0," ",(G32+H32)*(Details!$C$4+Details!$C$6))

Sheet Roof
B2: =+'Qual, Excl & Assum'!B2 -> PROJECT NAME: SQUAIRRELS LEAP GUILDFORD ROAD, CHERTSEY KT16 9RU
B3: =+'Qual, Excl & Assum'!B3 -> DATE: 25TH NOVEMBER 2025
B5: Roof | G5: RATES | K5: TOTALS
B7: Description | C7: Quantity | D7: Unit | E7: Rate | F7: Total | G7: Labour | H7: Materials | I7: L Markup | J7: M Markup | K7: Labour | L7: Materials | M7: L Markup | N7: M Markup
N8: =IF(D8=0," ",(J8*C8))
B9: PITCHED ROOF
A11: 1 | B11: Tiles; Slat Roof tiles | C11: 239.42 | D11: m2 | E11: =G11+H11+J11+I11 -> 91.818875 | F11: =E11*C11 -> 21983.275 | G11: 25.3425 | H11: 54.5 | I11: =IF(D11=0," ",(G11)*(Details!$C$4+Details!$C$8)) -> 3.801375 | J11: =IF(D11=0," ",(H11)*(Details!$C$6+Details!$C$8)) -> 8.175 | K11: =+G11*C11 -> 6067.5013 | L11: =+H11*C11 -> 13048.39 | M11: =IF(D11=0," ",(I11*C11)) -> 910.1252 | N11: =IF(D11=0," ",(J11*C11)) -> 1957.2585
A12: =IF(F12<>"",(LARGE(A$4:A11,1)+1),"")
A13: =IF(F13<>"",(LARGE(A$4:A12,1)+1),"") -> 2 | B13: Battens; 25mm x 38mm | C13: 239.42 | D13: m2 | E13: =G13+H13+J13+I13 -> 58.123875 | F13: =E13*C13 -> 13916.018 | G13: 16.0425 | H13: 34.5 | I13: =IF(D13=0," ",(G13)*(Details!$C$4+Details!$C$8)) -> 2.406375 | J13: =IF(D13=0," ",(H13)*(Details!$C$6+Details!$C$8)) -> 5.175 | K13: =+G13*C13 -> 3840.8953 | L13: =+H13*C13 -> 8259.99 | M13: =IF(D13=0," ",(I13*C13)) -> 576.1343 | N13: =IF(D13=0," ",(J13*C13)) -> 1238.9985
A14: =IF(F14<>"",(LARGE(A$4:A13,1)+1),"")
A15: =IF(F15<>"",(LARGE(A$4:A14,1)+1),"") -> 3 | B15: Breather membrane (Klober Permo Air 160) | C15: 239.42 | D15: m2 | E15: =G15+H15+J15+I15 -> 27.798375 | F15: =E15*C15 -> 6655.4869 | G15: 7.6725 | H15: 16.5 | I15: =IF(D15=0," ",(G15)*(Details!$C$4+Details!$C$8)) -> 1.150875 | J15: =IF(D15=0," ",(H15)*(Details!$C$6+Details!$C$8)) -> 2.475 | K15: =+G15*C15 -> 1836.9499 | L15: =+H15*C15 -> 3950.43 | M15: =IF(D15=0," ",(I15*C15)) -> 275.54249 | N15: =IF(D15=0," ",(J15*C15)) -> 592.5645
A16: =IF(F16<>"",(LARGE(A$4:A15,1)+1),"")
A17: =IF(F17<>"",(LARGE(A$4:A16,1)+1),"") -> 4 | B17: 150mm PIR Inulation | C17: 239.42 | D17: m2 | E17: =G17+H17+J17+I17 -> 24.428875 | F17: =E17*C17 -> 5848.7613 | G17: 6.7425 | H17: 14.5 | I17: =IF(D17=0," ",(G17)*(Details!$C$4+Details!$C$8)) -> 1.011375 | J17: =IF(D17=0," ",(H17)*(Details!$C$6+Details!$C$8)) -> 2.175 | K17: =+G17*C17 -> 1614.2894 | L17: =+H17*C17 -> 3471.59 | M17: =IF(D17=0," ",(I17*C17)) -> 242.1434 | N17: =IF(D17=0," ",(J17*C17)) -> 520.7385
A18: =IF(F18<>"",(LARGE(A$4:A17,1)+1),"")
A19: =IF(F19<>"",(LARGE(A$4:A18,1)+1),"") -> 5 | B19: Klober Wallint 50 AVCL | C19: 239.42 | D19: m2 | E19: =G19+H19+J19+I19 -> 42.961125 | F19: =E19*C19 -> 10285.753 | G19: 11.8575 | H19: 25.5 | I19: =IF(D19=0," ",(G19)*(Details!$C$4+Details!$C$8)) -> 1.778625 | J19: =IF(D19=0," ",(H19)*(Details!$C$6+Details!$C$8)) -> 3.825 | K19: =+G19*C19 -> 2838.9226 | L19: =+H19*C19 -> 6105.21 | M19: =IF(D19=0," ",(I19*C19)) -> 425.8384 | N19: =IF(D19=0," ",(J19*C19)) -> 915.7815
A20: =IF(F20<>"",(LARGE(A$4:A19,1)+1),"")
A21: =IF(F21<>"",(LARGE(A$4:A20,1)+1),"") -> 6 | B21: Exterior Grade Plywood Sheathing | C21: 239.42 | D21: m2 | E21: =G21+H21+J21+I21 -> 21.312088 | F21: =E21*C21 -> 5102.54 | G21: 5.88225 | H21: 12.65 | I21: =IF(D21=0," ",(G21)*(Details!$C$4+Details!$C$8)) -> 0.8823375 | J21: =IF(D21=0," ",(H21)*(Details!$C$6+Details!$C$8)) -> 1.8975 | K21: =+G21*C21 -> 1408.3283 | L21: =+H21*C21 -> 3028.663 | M21: =IF(D21=0," ",(I21*C21)) -> 211.24924 | N21: =IF(D21=0," ",(J21*C21)) -> 454.29945
A22: =IF(F22<>"",(LARGE(A$4:A21,1)+1),"")
A23: =IF(F23<>"",(LARGE(A$4:A22,1)+1),"") | B23: ROOF SUNDRIES
A24: =IF(F24<>"",(LARGE(A$4:A23,1)+1),"")
A25: =IF(F25<>"",(LARGE(A$4:A24,1)+1),"") -> 7 | B25: Ridge | C25: 48.44 | D25: m | E25: =G25+H25+J25+I25 -> 29.483125 | F25: =E25*C25 -> 1428.1626 | G25: 8.1375 | H25: 17.5 | I25: =IF(D25=0," ",(G25)*(Details!$C$4+Details!$C$8)) -> 1.220625 | J25: =IF(D25=0," ",(H25)*(Details!$C$6+Details!$C$8)) -> 2.625 | K25: =+G25*C25 -> 394.1805 | L25: =+H25*C25 -> 847.7 | M25: =IF(D25=0," ",(I25*C25)) -> 59.127075 | N25: =IF(D25=0," ",(J25*C25)) -> 127.155
A26: =IF(F26<>"",(LARGE(A$4:A25,1)+1),"")
A27: =IF(F27<>"",(LARGE(A$4:A26,1)+1),"") -> 8 | B27: Valley | C27: 24.22 | D27: m | E27: =G27+H27+J27+I27 -> 27.798375 | F27: =E27*C27 -> 673.27664 | G27: 7.6725 | H27: 16.5 | I27: =IF(D27=0," ",(G27)*(Details!$C$4+Details!$C$8)) -> 1.150875 | J27: =IF(D27=0," ",(H27)*(Details!$C$6+Details!$C$8)) -> 2.475 | K27: =+G27*C27 -> 185.82795 | L27: =+H27*C27 -> 399.63 | M27: =IF(D27=0," ",(I27*C27)) -> 27.874193 | N27: =IF(D27=0," ",(J27*C27)) -> 59.9445
A28: =IF(F28<>"",(LARGE(A$4:A27,1)+1),"")
A29: =IF(F29<>"",(LARGE(A$4:A28,1)+1),"") -> 9 | B29: Hips | C29: 8.55 | D29: m | E29: =G29+H29+J29+I29 -> 29.061937 | F29: =E29*C29 -> 248.47957 | G29: 8.02125 | H29: 17.25 | I29: =IF(D29=0," ",(G29)*(Details!$C$4+Details!$C$8)) -> 1.2031875 | J29: =IF(D29=0," ",(H29)*(Details!$C$6+Details!$C$8)) -> 2.5875 | K29: =+G29*C29 -> 68.581688 | L29: =+H29*C29 -> 147.4875 | M29: =IF(D29=0," ",(I29*C29)) -> 10.287253 | N29: =IF(D29=0," ",(J29*C29)) -> 22.123125
A30: =IF(F30<>"",(LARGE(A$4:A29,1)+1),"")
A31: =IF(F31<>"",(LARGE(A$4:A30,1)+1),"") | B31: SOFFITS AND FASCIAS - UPVC
A32: =IF(F32<>"",(LARGE(A$4:A31,1)+1),"")
A33: =IF(F33<>"",(LARGE(A$4:A32,1)+1),"") -> 10 | B33: 600 mm Soffit | C33: 14.78 | D33: m | E33: =G33+H33+J33+I33 -> 37.906875 | F33: =E33*C33 -> 560.26361 | G33: 10.4625 | H33: 22.5 | I33: =IF(D33=0," ",(G33)*(Details!$C$4+Details!$C$8)) -> 1.569375 | J33: =IF(D33=0," ",(H33)*(Details!$C$6+Details!$C$8)) -> 3.375 | K33: =+G33*C33 -> 154.63575 | L33: =+H33*C33 -> 332.55 | M33: =IF(D33=0," ",(I33*C33)) -> 23.195363 | N33: =IF(D33=0," ",(J33*C33)) -> 49.8825
A34: =IF(F34<>"",(LARGE(A$4:A33,1)+1),"") | I34: =IF(D34=0," ",(G34)*(Details!$C$4+Details!$C$8)) | J34: =IF(D34=0," ",(H34)*(Details!$C$6+Details!$C$8))
A35: =IF(F35<>"",(LARGE(A$4:A34,1)+1),"") -> 11 | B35: Fascia | C35: 48.9 | D35: m | E35: =G35+H35+J35+I35 -> 41.276375 | F35: =E35*C35 -> 2018.4147 | G35: 11.3925 | H35: 24.5 | I35: =IF(D35=0," ",(G35)*(Details!$C$4+Details!$C$8)) -> 1.708875 | J35: =IF(D35=0," ",(H35)*(Details!$C$6+Details!$C$8)) -> 3.675 | K35: =+G35*C35 -> 557.09325 | L35: =+H35*C35 -> 1198.05 | M35: =IF(D35=0," ",(I35*C35)) -> 83.563988 | N35: =IF(D35=0," ",(J35*C35)) -> 179.7075
A36: =IF(F36<>"",(LARGE(A$4:A35,1)+1),"") | I36: =IF(D36=0," ",(G36)*(Details!$C$4+Details!$C$8)) | J36: =IF(D36=0," ",(H36)*(Details!$C$6+Details!$C$8))
A37: =IF(F37<>"",(LARGE(A$4:A36,1)+1),"") | B37: RAINWATER GOODS - UPVC | I37: =IF(D37=0," ",(G37)*(Details!$C$4+Details!$C$8)) | J37: =IF(D37=0," ",(H37)*(Details!$C$6+Details!$C$8))
A38: =IF(F38<>"",(LARGE(A$4:A37,1)+1),"") | I38: =IF(D38=0," ",(G38)*(Details!$C$4+Details!$C$8)) | J38: =IF(D38=0," ",(H38)*(Details!$C$6+Details!$C$8))
A39: =IF(F39<>"",(LARGE(A$4:A38,1)+1),"") -> 12 | B39: Gutters | C39: 23.34 | D39: m | E39: =G39+H39+J39+I39 -> 44.645875 | F39: =E39*C39 -> 1042.0347 | G39: 12.3225 | H39: 26.5 | I39: =IF(D39=0," ",(G39)*(Details!$C$4+Details!$C$8)) -> 1.848375 | J39: =IF(D39=0," ",(H39)*(Details!$C$6+Details!$C$8)) -> 3.975 | K39: =+G39*C39 -> 287.60715 | L39: =+H39*C39 -> 618.51 | M39: =IF(D39=0," ",(I39*C39)) -> 43.141073 | N39: =IF(D39=0," ",(J39*C39)) -> 92.7765
A40: =IF(F40<>"",(LARGE(A$4:A39,1)+1),"") | I40: =IF(D40=0," ",(G40)*(Details!$C$4+Details!$C$8)) | J40: =IF(D40=0," ",(H40)*(Details!$C$6+Details!$C$8)) | N40: =IF(D40=0," ",(J40*C40))
A41: =IF(F41<>"",(LARGE(A$4:A40,1)+1),"") -> 13 | B41: Downpipes | C41: 45.67 | D41: m | E41: =G41+H41+J41+I41 -> 39.591625 | F41: =E41*C41 -> 1808.1495 | G41: 10.9275 | H41: 23.5 | I41: =IF(D41=0," ",(G41)*(Details!$C$4+Details!$C$8)) -> 1.639125 | J41: =IF(D41=0," ",(H41)*(Details!$C$6+Details!$C$8)) -> 3.525 | K41: =+G41*C41 -> 499.05893 | L41: =+H41*C41 -> 1073.245 | M41: =IF(D41=0," ",(I41*C41)) -> 74.858839 | N41: =IF(D41=0," ",(J41*C41)) -> 160.98675
A42: =IF(F42<>"",(LARGE(A$7:A41,1)+1),"") | I42: =IF(D42=0," ",(G42)*(Details!$C$4+Details!$C$8)) | J42: =IF(D42=0," ",(H42)*(Details!$C$6+Details!$C$8)) | P42: Check
E43: Sub Total | F43: =SUM(F8:F42) -> 71570.615 | J43: =IF(D43=0," ",(G43+H43)*(Details!$C$4+Details!$C$6)) | K43: =SUM(K8:K42) -> 19753.872 | L43: =SUM(L8:L42) -> 42481.446 | M43: =SUM(M8:M42) -> 2963.0808 | N43: =SUM(N8:N42) -> 6372.2168 | P43: =+F43-K43-L43-N43-M43 -> 3.6379788e-12
A44: =IF(F44<>"",(LARGE(A$7:A43,1)+1),"") | J44: =IF(D44=0," ",(G44+H44)*(Details!$C$4+Details!$C$6))

Sheet Windows, Doors & Rooflights
U1: 1
B2: =+Roof!B2 -> PROJECT NAME: SQUAIRRELS LEAP GUILDFORD ROAD, CHERTSEY KT16 9RU | R2: UPVC | S2: UPVC
B3: =+Roof!B3 -> DATE: 25TH NOVEMBER 2025 | R3: Doors | S3: Windows | T3: Roof lights
R4: =IF($R$2="Multiple", "Input", IF($R$2="UPVC",$U$1*750,0) +IF($R$2="Aluminium",$U$1*1250,0) +IF($R$2="Timber",$U$1*1250,0) +IF($R$2="Composite",$U$1*1500,0) +IF($R$2="Crittall",$U$1*2000,0) ) -> 750 | S4: =IF($S$2="Multiple", "Input", IF($S$2="UPVC",$U$1*250,0) +IF($S$2="Aluminium",$U$1*600,0) +IF($S$2="Timber",$U$1*550,0) +IF($S$2="Composite",$U$1*450,0) +IF($S$2="Crittall",$U$1*1250,0) ) -> 250 | T4: 800
R5: =IF($R$2="Multiple", "Input", "") | S5: =IF($S$2="Multiple", "Input", "")
B6: External Windows, Doors and Roof lights | I6: RATES | M6: TOTALS
B8: Description | E8: Quantity | F8: Unit | G8: Rate | H8: Total | I8: Labor | J8: Materials | K8: L Markup | L8: M Markup | M8: Labor | N8: Materials | O8: L Markup | P8: M Markup
C9: Approx. | D9: Approx. | P9: =IF(F9=0," ",(L9*E9))
B11: DOORS | C11: Width (mm) | D11: Height (mm) | P11: =IF(F11=0," ",(L11*E11))
P12: =IF(F12=0," ",(L12*E12))
A13: 1 | B13: Single Leaf Door w/ Frame | C13: 800 | D13: 1900mm | E13: 20 | F13: no. | G13: =I13+J13+L13+K13 -> 1255.1388 | H13: =G13*E13 -> 25102.775 | I13: 346.425 | J13: 745 | K13: =IF(F13=0," ",(I13)*([1]Details!$C$4+[1]Details!$C$8)) -> 51.96375 | L13: =IF(F13=0," ",(J13)*([1]Details!$C$6+[1]Details!$C$8)) -> 111.75 | M13: =+I13*E13 -> 6928.5 | N13: =+J13*E13 -> 14900 | O13: =IF(F13=0," ",(K13*E13)) -> 1039.275 | P13: =IF(F13=0," ",(L13*E13)) -> 2235
A15: 2 | B15: Single Leaf Door w/ Frame | C15: 1200 | D15: 2400 | E15: 1 | F15: no. | G15: =I15+J15+L15+K15 -> 1288.8338 | H15: =G15*E15 -> 1288.8338 | I15: 355.725 | J15: 765 | K15: =IF(F15=0," ",(I15)*([1]Details!$C$4+[1]Details!$C$8)) -> 53.35875 | L15: =IF(F15=0," ",(J15)*([1]Details!$C$6+[1]Details!$C$8)) -> 114.75 | M15: =+I15*E15 -> 355.725 | N15: =+J15*E15 -> 765 | O15: =IF(F15=0," ",(K15*E15)) -> 53.35875 | P15: =IF(F15=0," ",(L15*E15)) -> 114.75
A17: =IF(F17<>"",(LARGE(A$8:A15,1)+1),"") -> 3 | B17: Single Leaf Door W/ Two Fixed Panels On Both Sides w/ Frame | C17: 2000 | D17: 2400 | E17: 1 | F17: no. | G17: =I17+J17+L17+K17 -> 1322.5288 | H17: =G17*E17 -> 1322.5288 | I17: 365.025 | J17: 785 | K17: =IF(F17=0," ",(I17)*([1]Details!$C$4+[1]Details!$C$8)) -> 54.75375 | L17: =IF(F17=0," ",(J17)*([1]Details!$C$6+[1]Details!$C$8)) -> 117.75 | M17: =+I17*E17 -> 365.025 | N17: =+J17*E17 -> 785 | O17: =IF(F17=0," ",(K17*E17)) -> 54.75375 | P17: =IF(F17=0," ",(L17*E17)) -> 117.75
A19: =IF(F19<>"",(LARGE(A$8:A17,1)+1),"") -> 4 | B19: Single Leaf Side Lite Door w/ Frame | C19: 1600 | D19: 2000 | E19: 1 | F19: no. | G19: =I19+J19+L19+K19 -> 1373.0712 | H19: =G19*E19 -> 1373.0712 | I19: 378.975 | J19: 815 | K19: =IF(F19=0," ",(I19)*([1]Details!$C$4+[1]Details!$C$8)) -> 56.84625 | L19: =IF(F19=0," ",(J19)*([1]Details!$C$6+[1]Details!$C$8)) -> 122.25 | M19: =+I19*E19 -> 378.975 | N19: =+J19*E19 -> 815 | O19: =IF(F19=0," ",(K19*E19)) -> 56.84625 | P19: =IF(F19=0," ",(L19*E19)) -> 122.25
A21: =IF(F21<>"",(LARGE(A$8:A19,1)+1),"") -> 5 | B21: Double Leaf Side Lite Door w/ Frame | C21: 2900 | D21: 2000 | E21: 2 | F21: no. | G21: =I21+J21+L21+K21 -> 1423.6137 | H21: =G21*E21 -> 2847.2275 | I21: 392.925 | J21: 845 | K21: =IF(F21=0," ",(I21)*([1]Details!$C$4+[1]Details!$C$8)) -> 58.93875 | L21: =IF(F21=0," ",(J21)*([1]Details!$C$6+[1]Details!$C$8)) -> 126.75 | M21: =+I21*E21 -> 785.85 | N21: =+J21*E21 -> 1690 | O21: =IF(F21=0," ",(K21*E21)) -> 117.8775 | P21: =IF(F21=0," ",(L21*E21)) -> 253.5
A23: =IF(F23<>"",(LARGE(A$8:A21,1)+1),"") -> 6 | B23: Garage Door | C23: 4800 | D23: 2400 | E23: 1 | F23: no. | G23: =I23+J23+L23+K23 -> 2442.8875 | H23: =G23*E23 -> 2442.8875 | I23: 674.25 | J23: 1450 | K23: =IF(F23=0," ",(I23)*([1]Details!$C$4+[1]Details!$C$8)) -> 101.1375 | L23: =IF(F23=0," ",(J23)*([1]Details!$C$6+[1]Details!$C$8)) -> 217.5 | M23: =+I23*E23 -> 674.25 | N23: =+J23*E23 -> 1450 | O23: =IF(F23=0," ",(K23*E23)) -> 101.1375 | P23: =IF(F23=0," ",(L23*E23)) -> 217.5
A25: =IF(F25<>"",(LARGE(A$8:A23,1)+1),"") -> 7 | B25: Double Leaf Door w/ Frame | C25: 1200 | D25: 1900 | E25: 2 | F25: no. | G25: =I25+J25+L25+K25 -> 1937.4625 | H25: =G25*E25 -> 3874.925 | I25: 534.75 | J25: 1150 | K25: =IF(F25=0," ",(I25)*([1]Details!$C$4+[1]Details!$C$8)) -> 80.2125 | L25: =IF(F25=0," ",(J25)*([1]Details!$C$6+[1]Details!$C$8)) -> 172.5 | M25: =+I25*E25 -> 1069.5 | N25: =+J25*E25 -> 2300 | O25: =IF(F25=0," ",(K25*E25)) -> 160.425 | P25: =IF(F25=0," ",(L25*E25)) -> 345
A27: =IF(F27<>"",(LARGE(A$8:A25,1)+1),"") -> 8 | B27: Sliding Door w/ Frame | C27: 1700 | D27: 1900 | E27: 1 | F27: no. | G27: =I27+J27+L27+K27 -> 1625.7837 | H27: =G27*E27 -> 1625.7837 | I27: 448.725 | J27: 965 | K27: =IF(F27=0," ",(I27)*([1]Details!$C$4+[1]Details!$C$8)) -> 67.30875 | L27: =IF(F27=0," ",(J27)*([1]Details!$C$6+[1]Details!$C$8)) -> 144.75 | M27: =+I27*E27 -> 448.725 | N27: =+J27*E27 -> 965 | O27: =IF(F27=0," ",(K27*E27)) -> 67.30875 | P27: =IF(F27=0," ",(L27*E27)) -> 144.75
A28: =IF(F28<>"",(LARGE(A$8:A27,1)+1),"")
A29: =IF(F29<>"",(LARGE(A$8:A28,1)+1),"") | B29: WINDOWS | C29: Width (mm) | D29: Height (mm) | K29: =IF(F29=0," ",(I29)*([1]Details!$C$4+[1]Details!$C$8)) | L29: =IF(F29=0," ",(J29)*([1]Details!$C$6+[1]Details!$C$8)) | O29: =IF(F29=0," ",(K29*E29)) | P29: =IF(F29=0," ",(L29*E29))
A30: =IF(F30<>"",(LARGE(A$8:A29,1)+1),"")
A31: =IF(F31<>"",(LARGE(A$8:A30,1)+1),"") -> 9 | B31: Window W/ Frame | C31: 900 | D31: 1600 | E31: 5 | F31: no. | G31: =I31+J31+L31+K31 -> 918.18875 | H31: =G31*E31 -> 4590.9437 | I31: 253.425 | J31: 545 | K31: =IF(F31=0," ",(I31)*([1]Details!$C$4+[1]Details!$C$8)) -> 38.01375 | L31: =IF(F31=0," ",(J31)*([1]Details!$C$6+[1]Details!$C$8)) -> 81.75 | M31: =+I31*E31 -> 1267.125 | N31: =+J31*E31 -> 2725 | O31: =IF(F31=0," ",(K31*E31)) -> 190.06875 | P31: =IF(F31=0," ",(L31*E31)) -> 408.75
A33: =IF(F33<>"",(LARGE(A$8:A31,1)+1),"") -> 10 | B33: Four Panel Window w/ Frame | C33: 5900 | D33: 2400 | E33: 1 | F33: no. | G33: =I33+J33+L33+K33 -> 2105.9375 | H33: =G33*E33 -> 2105.9375 | I33: 581.25 | J33: 1250 | K33: =IF(F33=0," ",(I33)*([1]Details!$C$4+[1]Details!$C$8)) -> 87.1875 | L33: =IF(F33=0," ",(J33)*([1]Details!$C$6+[1]Details!$C$8)) -> 187.5 | M33: =+I33*E33 -> 581.25 | N33: =+J33*E33 -> 1250 | O33: =IF(F33=0," ",(K33*E33)) -> 87.1875 | P33: =IF(F33=0," ",(L33*E33)) -> 187.5
A35: =IF(F35<>"",(LARGE(A$8:A33,1)+1),"") -> 11 | B35: Window W/ Frame | C35: 700 | D35: 1600 | E35: 2 | F35: no. | G35: =I35+J35+L35+K35 -> 867.64625 | H35: =G35*E35 -> 1735.2925 | I35: 239.475 | J35: 515 | K35: =IF(F35=0," ",(I35)*([1]Details!$C$4+[1]Details!$C$8)) -> 35.92125 | L35: =IF(F35=0," ",(J35)*([1]Details!$C$6+[1]Details!$C$8)) -> 77.25 | M35: =+I35*E35 -> 478.95 | N35: =+J35*E35 -> 1030 | O35: =IF(F35=0," ",(K35*E35)) -> 71.8425 | P35: =IF(F35=0," ",(L35*E35)) -> 154.5
A37: =IF(F37<>"",(LARGE(A$8:A35,1)+1),"") -> 12 | B37: Window W/ Frame | C37: 700 | D37: 1800 | E37: 2 | F37: no. | G37: =I37+J37+L37+K37 -> 901.34125 | H37: =G37*E37 -> 1802.6825 | I37: 248.775 | J37: 535 | K37: =IF(F37=0," ",(I37)*([1]Details!$C$4+[1]Details!$C$8)) -> 37.31625 | L37: =IF(F37=0," ",(J37)*([1]Details!$C$6+[1]Details!$C$8)) -> 80.25 | M37: =+I37*E37 -> 497.55 | N37: =+J37*E37 -> 1070 | O37: =IF(F37=0," ",(K37*E37)) -> 74.6325 | P37: =IF(F37=0," ",(L37*E37)) -> 160.5
A39: =IF(F39<>"",(LARGE(A$8:A37,1)+1),"") -> 13 | B39: Window W/ Frame | C39: 1900 | D39: 1700 | E39: 2 | F39: no. | G39: =I39+J39+L39+K39 -> 1086.6637 | H39: =G39*E39 -> 2173.3275 | I39: 299.925 | J39: 645 | K39: =IF(F39=0," ",(I39)*([1]Details!$C$4+[1]Details!$C$8)) -> 44.98875 | L39: =IF(F39=0," ",(J39)*([1]Details!$C$6+[1]Details!$C$8)) -> 96.75 | M39: =+I39*E39 -> 599.85 | N39: =+J39*E39 -> 1290 | O39: =IF(F39=0," ",(K39*E39)) -> 89.9775 | P39: =IF(F39=0," ",(L39*E39)) -> 193.5
A41: =IF(F41<>"",(LARGE(A$8:A39,1)+1),"") -> 14 | B41: Window w/ Frame | C41: 2700 | D41: 1600 | E41: 1 | F41: no. | G41: =I41+J41+L41+K41 -> 1221.4437 | H41: =G41*E41 -> 1221.4437 | I41: 337.125 | J41: 725 | K41: =IF(F41=0," ",(I41)*([1]Details!$C$4+[1]Details!$C$8)) -> 50.56875 | L41: =IF(F41=0," ",(J41)*([1]Details!$C$6+[1]Details!$C$8)) -> 108.75 | M41: =+I41*E41 -> 337.125 | N41: =+J41*E41 -> 725 | O41: =IF(F41=0," ",(K41*E41)) -> 50.56875 | P41: =IF(F41=0," ",(L41*E41)) -> 108.75
A43: =IF(F43<>"",(LARGE(A$8:A41,1)+1),"") -> 15 | B43: Window/ W/ Frame | C43: 2000 | D43: 1600 | E43: 1 | F43: no. | G43: =I43+J43+L43+K43 -> 1423.6137 | H43: =G43*E43 -> 1423.6137 | I43: 392.925 | J43: 845 | K43: =IF(F43=0," ",(I43)*([1]Details!$C$4+[1]Details!$C$8)) -> 58.93875 | L43: =IF(F43=0," ",(J43)*([1]Details!$C$6+[1]Details!$C$8)) -> 126.75 | M43: =+I43*E43 -> 392.925 | N43: =+J43*E43 -> 845 | O43: =IF(F43=0," ",(K43*E43)) -> 58.93875 | P43: =IF(F43=0," ",(L43*E43)) -> 126.75
A44: =IF(F44<>"",(LARGE(A$8:A43,1)+1),"") | K44: =IF(F44=0," ",(I44)*(Details!$C$4+Details!$C$8)) | L44: =IF(F44=0," ",(J44)*(Details!$C$6+Details!$C$8))
A45: =IF(F45=0," ",(LARGE(A$44:A44,1)+1)) | G45: Sub Total | H45: =SUM(H9:H44) -> 54931.274 | L45: =IF(F45=0," ",(I45+J45)*(Details!$C$4+Details!$C$6)) | M45: =SUM(M9:M44) -> 15161.325 | N45: =SUM(N9:N44) -> 32605 | O45: =SUM(O9:O44) -> 2274.1988 | P45: =SUM(P9:P44) -> 4890.75
L46: =IF(F46=0," ",(I46+J46)*(Details!$C$4+Details!$C$6))

Sheet Partitions
B2: =+'Qual, Excl & Assum'!B2 -> PROJECT NAME: SQUAIRRELS LEAP GUILDFORD ROAD, CHERTSEY KT16 9RU
B3: =+'Qual, Excl & Assum'!B3 -> DATE: 25TH NOVEMBER 2025
B5: Internal Walls and Partitions | G5: RATES | K5: TOTALS
B7: Description | C7: Quantity | D7: Unit | E7: Rate | F7: Total | G7: Labor | H7: Materials | I7: L Markup | J7: M Markup | K7: Labor | L7: Materials | M7: L Markup | N7: M Markup
N8: =IF(D8=0," ",(J8*C8))
B9: STUD WALL | N9: =IF(D9=0," ",(J9*C9))
N10: =IF(D10=0," ",(J10*C10))
A11: 1 | B11: 38 x 89 mm Wood Studs | C11: 339.22 | D11: m | E11: =G11+H11+J11+I11 -> 22.996838 | F11: =E11*C11 -> 7800.9872 | G11: 6.34725 | H11: 13.65 | I11: =IF(D11=0," ",(G11)*(Details!$C$4+Details!$C$8)) -> 0.9520875 | J11: =IF(D11=0," ",(H11)*(Details!$C$6+Details!$C$8)) -> 2.0475 | K11: =+G11*C11 -> 2153.1141 | L11: =+H11*C11 -> 4630.353 | M11: =IF(D11=0," ",(I11*C11)) -> 322.96712 | N11: =IF(D11=0," ",(J11*C11)) -> 694.55295
A13: =IF(F13<>"",(LARGE(A$9:A11,1)+1),"") -> 2 | B13: 38 x 89 mm Top Plates | C13: 96.92 | D13: m | E13: =G13+H13+J13+I13 -> 22.996838 | F13: =E13*C13 -> 2228.8535 | G13: 6.34725 | H13: 13.65 | I13: =IF(D13=0," ",(G13)*(Details!$C$4+Details!$C$8)) -> 0.9520875 | J13: =IF(D13=0," ",(H13)*(Details!$C$6+Details!$C$8)) -> 2.0475 | K13: =+G13*C13 -> 615.17547 | L13: =+H13*C13 -> 1322.958 | M13: =IF(D13=0," ",(I13*C13)) -> 92.276321 | N13: =IF(D13=0," ",(J13*C13)) -> 198.4437
A15: =IF(F15<>"",(LARGE(A$9:A13,1)+1),"") -> 3 | B15: 38 x 89 mm Bottom Plates | C15: 48.46 | D15: m | E15: =G15+H15+J15+I15 -> 22.996838 | F15: =E15*C15 -> 1114.4267 | G15: 6.34725 | H15: 13.65 | I15: =IF(D15=0," ",(G15)*(Details!$C$4+Details!$C$8)) -> 0.9520875 | J15: =IF(D15=0," ",(H15)*(Details!$C$6+Details!$C$8)) -> 2.0475 | K15: =+G15*C15 -> 307.58774 | L15: =+H15*C15 -> 661.479 | M15: =IF(D15=0," ",(I15*C15)) -> 46.13816 | N15: =IF(D15=0," ",(J15*C15)) -> 99.22185
A16: =IF(F16<>"",(LARGE(A$9:A14,1)+1),"")
A17: =IF(F17<>"",(LARGE(A$9:A15,1)+1),"") | B17: WALLS | I17: =IF(D17=0," ",(G17)*(Details!$C$4+Details!$C$8)) | J17: =IF(D17=0," ",(H17)*(Details!$C$6+Details!$C$8)) | M17: =IF(D17=0," ",(I17*C17)) | N17: =IF(D17=0," ",(J17*C17))
A18: =IF(F18<>"",(LARGE(A$9:A16,1)+1),"")
A19: =IF(F19<>"",(LARGE(A$9:A17,1)+1),"") -> 4 | B19: 12.5 mm Thick Moisture Resistant Plaster Board | C19: 77.8624 | D19: m2 | E19: =G19+H19+J19+I19 -> 20.638187 | F19: =E19*C19 -> 1606.9388 | G19: 5.69625 | H19: 12.25 | I19: =IF(D19=0," ",(G19)*(Details!$C$4+Details!$C$8)) -> 0.8544375 | J19: =IF(D19=0," ",(H19)*(Details!$C$6+Details!$C$8)) -> 1.8375 | K19: =+G19*C19 -> 443.5237 | L19: =+H19*C19 -> 953.8144 | M19: =IF(D19=0," ",(I19*C19)) -> 66.528554 | N19: =IF(D19=0," ",(J19*C19)) -> 143.07216
A20: =IF(F20<>"",(LARGE(A$9:A18,1)+1),"")
A21: =IF(F21<>"",(LARGE(A$9:A19,1)+1),"") -> 5 | B21: 12.5 mm Thick Plaster Board | C21: 135.688 | D21: m2 | E21: =G21+H21+J21+I21 -> 19.627337 | F21: =E21*C21 -> 2663.1942 | G21: 5.41725 | H21: 11.65 | I21: =IF(D21=0," ",(G21)*(Details!$C$4+Details!$C$8)) -> 0.8125875 | J21: =IF(D21=0," ",(H21)*(Details!$C$6+Details!$C$8)) -> 1.7475 | K21: =+G21*C21 -> 735.05582 | L21: =+H21*C21 -> 1580.7652 | M21: =IF(D21=0," ",(I21*C21)) -> 110.25837 | N21: =IF(D21=0," ",(J21*C21)) -> 237.11478
A22: =IF(F22<>"",(LARGE(A$9:A20,1)+1),"")
A23: =IF(F23<>"",(LARGE(A$9:A21,1)+1),"") | B23: CEILINGS | I23: =IF(D23=0," ",(G23)*(Details!$C$4+Details!$C$8)) | J23: =IF(D23=0," ",(H23)*(Details!$C$6+Details!$C$8)) | M23: =IF(D23=0," ",(I23*C23)) | N23: =IF(D23=0," ",(J23*C23))
A24: =IF(F24<>"",(LARGE(A$9:A22,1)+1),"")
A25: =IF(F25<>"",(LARGE(A$9:A23,1)+1),"") -> 6 | B25: 12.5 mm Thick Moisture Resistant Plaster Board Ceiling | C25: 35.72 | D25: m2 | E25: =G25+H25+J25+I25 -> 29.483125 | F25: =E25*C25 -> 1053.1372 | G25: 8.1375 | H25: 17.5 | I25: =IF(D25=0," ",(G25)*(Details!$C$4+Details!$C$8)) -> 1.220625 | J25: =IF(D25=0," ",(H25)*(Details!$C$6+Details!$C$8)) -> 2.625 | K25: =+G25*C25 -> 290.6715 | L25: =+H25*C25 -> 625.1 | M25: =IF(D25=0," ",(I25*C25)) -> 43.600725 | N25: =IF(D25=0," ",(J25*C25)) -> 93.765
A26: =IF(F26<>"",(LARGE(A$9:A24,1)+1),"")
A27: =IF(F27<>"",(LARGE(A$9:A25,1)+1),"") -> 7 | B27: 12.5 mm Thick Plaster Board Ceiling | C27: 374.88 | D27: m2 | E27: =G27+H27+J27+I27 -> 27.798375 | F27: =E27*C27 -> 10421.055 | G27: 7.6725 | H27: 16.5 | I27: =IF(D27=0," ",(G27)*(Details!$C$4+Details!$C$8)) -> 1.150875 | J27: =IF(D27=0," ",(H27)*(Details!$C$6+Details!$C$8)) -> 2.475 | K27: =+G27*C27 -> 2876.2668 | L27: =+H27*C27 -> 6185.52 | M27: =IF(D27=0," ",(I27*C27)) -> 431.44002 | N27: =IF(D27=0," ",(J27*C27)) -> 927.828
A28: =IF(F28<>"",(LARGE(A$9:A26,1)+1),"")
A29: =IF(F29<>"",(LARGE(A$9:A27,1)+1),"") | B29: RAILINGS
A30: =IF(F30<>"",(LARGE(A$9:A28,1)+1),"")
A31: =IF(F31<>"",(LARGE(A$9:A29,1)+1),"") -> 8 | B31: 600 mm High Glass Railing | C31: 15 | D31: m | E31: =G31+H31+J31+I31 -> 210.59375 | F31: =E31*C31 -> 3158.9062 | G31: 58.125 | H31: 125 | I31: =IF(D31=0," ",(G31)*(Details!$C$4+Details!$C$8)) -> 8.71875 | J31: =IF(D31=0," ",(H31)*(Details!$C$6+Details!$C$8)) -> 18.75 | K31: =+G31*C31 -> 871.875 | L31: =+H31*C31 -> 1875 | M31: =IF(D31=0," ",(I31*C31)) -> 130.78125 | N31: =IF(D31=0," ",(J31*C31)) -> 281.25
A32: =IF(F32<>"",(LARGE(A$9:A30,1)+1),"") | J32: =IF(D32=0," ",(G32+H32)*(Details!$C$4+Details!$C$6)) | P32: Check
E33: Sub Total | F33: =SUM(F8:F32) -> 30047.499 | J33: =IF(D33=0," ",(G33+H33)*(Details!$C$4+Details!$C$6)) | K33: =SUM(K8:K32) -> 8293.2702 | L33: =SUM(L8:L32) -> 17834.99 | M33: =SUM(M8:M32) -> 1243.9905 | N33: =SUM(N8:N32) -> 2675.2484 | P33: =+F33-K33-L33-N33-M33 -> -6.8212103e-12
A34: =IF(F34<>"",(LARGE(A$7:A33,1)+1),"") | J34: =IF(D34=0," ",(G34+H34)*(Details!$C$4+Details!$C$6))

Sheet Joinery
B2: =+'Qual, Excl & Assum'!B2 -> PROJECT NAME: SQUAIRRELS LEAP GUILDFORD ROAD, CHERTSEY KT16 9RU
B3: =+'Qual, Excl & Assum'!B3 -> DATE: 25TH NOVEMBER 2025
B5: Joinery | G5: RATES | K5: TOTALS
B7: Description | C7: Quantity | D7: Unit | E7: Rate | F7: Total | G7: Labor | H7: Materials | I7: L Markup | J7: M Markup | K7: Labor | L7: Materials | M7: L Markup | N7: M Markup
N8: =IF(D8=0," ",(J8*C8))
A9: =IF(F9<>"",(LARGE(#REF!,1)+1),"") | B9: ARCHITRAVES | I9: =IF(D9=0," ",(G9)*([1]Details!$C$4+[1]Details!$C$8)) | J9: =IF(D9=0," ",(H9)*([1]Details!$C$6+[1]Details!$C$8)) | M9: =IF(D9=0," ",(I9*C9)) | N9: =IF(D9=0," ",(J9*C9))
A10: =IF(F10<>"",(LARGE(A$9:A9,1)+1),"") | N10: =IF(D10=0," ",(J10*C10))
A11: 1 | B11: Architraves | C11: 299 | D11: m | E11: =G11+H11+J11+I11 -> 29.735838 | F11: =E11*C11 -> 8891.0154 | G11: 8.20725 | H11: 17.65 | I11: =IF(D11=0," ",(G11)*([1]Details!$C$4+[1]Details!$C$8)) -> 1.2310875 | J11: =IF(D11=0," ",(H11)*([1]Details!$C$6+[1]Details!$C$8)) -> 2.6475 | K11: =+G11*C11 -> 2453.9678 | L11: =+H11*C11 -> 5277.35 | M11: =IF(D11=0," ",(I11*C11)) -> 368.09516 | N11: =IF(D11=0," ",(J11*C11)) -> 791.6025
A12: =IF(F12<>"",(LARGE(A$9:A11,1)+1),"")
A13: =IF(F13<>"",(LARGE(A$9:A12,1)+1),"") | B13: WINDOW BOARDS | I13: =IF(D13=0," ",(G13)*([1]Details!$C$4+[1]Details!$C$8)) | J13: =IF(D13=0," ",(H13)*([1]Details!$C$6+[1]Details!$C$8)) | M13: =IF(D13=0," ",(I13*C13)) | N13: =IF(D13=0," ",(J13*C13))
A14: =IF(F14<>"",(LARGE(A$9:A13,1)+1),"")
A15: =IF(F15<>"",(LARGE(A$9:A14,1)+1),"") -> 2 | B15: Window boards | C15: 85 | D15: m | E15: =G15+H15+J15+I15 -> 37.906875 | F15: =E15*C15 -> 3222.0844 | G15: 10.4625 | H15: 22.5 | I15: =IF(D15=0," ",(G15)*([1]Details!$C$4+[1]Details!$C$8)) -> 1.569375 | J15: =IF(D15=0," ",(H15)*([1]Details!$C$6+[1]Details!$C$8)) -> 3.375 | K15: =+G15*C15 -> 889.3125 | L15: =+H15*C15 -> 1912.5 | M15: =IF(D15=0," ",(I15*C15)) -> 133.39688 | N15: =IF(D15=0," ",(J15*C15)) -> 286.875
A16: =IF(F16<>"",(LARGE(A$9:A15,1)+1),"")
A17: =IF(F17<>"",(LARGE(A$9:A16,1)+1),"") | B17: SPECIALIST JOINERY
A18: =IF(F18<>"",(LARGE(A$9:A17,1)+1),"")
A19: =IF(F19<>"",(LARGE(A$9:A18,1)+1),"") -> 3 | B19: (120mm H) Splash Back | C19: 16.98 | D19: m | E19: =G19+H19+J19+I19 -> 42.961125 | F19: =E19*C19 -> 729.4799 | G19: 11.8575 | H19: 25.5 | I19: =IF(D19=0," ",(G19)*([1]Details!$C$4+[1]Details!$C$8)) -> 1.778625 | J19: =IF(D19=0," ",(H19)*([1]Details!$C$6+[1]Details!$C$8)) -> 3.825 | K19: =+G19*C19 -> 201.34035 | L19: =+H19*C19 -> 432.99 | M19: =IF(D19=0," ",(I19*C19)) -> 30.201053 | N19: =IF(D19=0," ",(J19*C19)) -> 64.9485
A20: =IF(F20<>"",(LARGE(A$9:A19,1)+1),"")
A21: =IF(F21<>"",(LARGE(A$9:A20,1)+1),"") -> 4 | B21: (0.6m W) Utility Countertop | C21: 8.12 | D21: m | E21: =G21+H21+J21+I21 -> 283.88038 | F21: =E21*C21 -> 2305.1086 | G21: 78.3525 | H21: 168.5 | I21: =IF(D21=0," ",(G21)*([1]Details!$C$4+[1]Details!$C$8)) -> 11.752875 | J21: =IF(D21=0," ",(H21)*([1]Details!$C$6+[1]Details!$C$8)) -> 25.275 | K21: =+G21*C21 -> 636.2223 | L21: =+H21*C21 -> 1368.22 | M21: =IF(D21=0," ",(I21*C21)) -> 95.433345 | N21: =IF(D21=0," ",(J21*C21)) -> 205.233
A22: =IF(F22<>"",(LARGE(A$9:A21,1)+1),"")
A23: =IF(F23<>"",(LARGE(A$9:A22,1)+1),"") -> 5 | B23: (0.6m W) Kitchen Countertop | C23: 5.22 | D23: m | E23: =G23+H23+J23+I23 -> 283.88038 | F23: =E23*C23 -> 1481.8556 | G23: 78.3525 | H23: 168.5 | I23: =IF(D23=0," ",(G23)*([1]Details!$C$4+[1]Details!$C$8)) -> 11.752875 | J23: =IF(D23=0," ",(H23)*([1]Details!$C$6+[1]Details!$C$8)) -> 25.275 | K23: =+G23*C23 -> 409.00005 | L23: =+H23*C23 -> 879.57 | M23: =IF(D23=0," ",(I23*C23)) -> 61.350008 | N23: =IF(D23=0," ",(J23*C23)) -> 131.9355
A24: =IF(F24<>"",(LARGE(A$9:A23,1)+1),"")
A25: =IF(F25<>"",(LARGE(A$9:A24,1)+1),"") -> 6 | B25: (0.6m W x 0.8m H) Utility Cabinet At Base | C25: 8.11 | D25: m | E25: =G25+H25+J25+I25 -> 211.43613 | F25: =E25*C25 -> 1714.747 | G25: 58.3575 | H25: 125.5 | I25: =IF(D25=0," ",(G25)*([1]Details!$C$4+[1]Details!$C$8)) -> 8.753625 | J25: =IF(D25=0," ",(H25)*([1]Details!$C$6+[1]Details!$C$8)) -> 18.825 | K25: =+G25*C25 -> 473.27932 | L25: =+H25*C25 -> 1017.805 | M25: =IF(D25=0," ",(I25*C25)) -> 70.991899 | N25: =IF(D25=0," ",(J25*C25)) -> 152.67075
A26: =IF(F26<>"",(LARGE(A$9:A25,1)+1),"")
