Workbook

Sheet Cover
B24: TENDER
B31: FOR
B38: PROPOSED SIDE EXTENSION
B47: PROJECT: Mr & Mrs Hawkes-Cowands House
B57: DATE: 25TH SEPTEMBER 2025

Sheet Qual, Excl & Assum
B2: =Cover!B47 -> PROJECT: Mr & Mrs Hawkes-Cowands House
B3: =Cover!B57 -> DATE: 25TH SEPTEMBER 2025
B6: QUALIFICATIONS, ASSUMPTIONS & EXCLUSIONS:
A8: 1 | B8: Qualifications:-
A10: 1.1 | B10: Prices exclude VAT
A11: =+A10+0.1 -> 1.2 | B11: Pre-start meeting and site investigation will be required before commencement on site
A12: =+A11+0.1 -> 1.3 | B12: Provisional sums and PC Sums mentioned within the estimate are subject to re-measure and re-price
A13: =+A12+0.1 -> 1.4 | B13: Changes to drawings, design or specification which deviate from the information used as stated below may be subject to further cost
A14: =+A13+0.1 -> 1.5 | B14: Site inspections to be carried out, this may cause additions/omissions to the tender documents
A15: =+A14+0.1 -> 1.6 | B15: All quantities are re-measurable and used for indicative purposes only and are subject to re-measure once the project has commenced
A16: =+A15+0.1 -> 1.7 | B16: All M&E is provisional sum (as no detailed design has been provided) and a detailed design will be required in order to finalise costs
A17: =+A16+0.1 -> 1.8 | B17: We have assumed free unfettered access and normal working hours to the site
A18: =+A17+0.1 -> 1.9 | B18: The prices are valid for 8 weeks and we assume that works will commence within 12 weeks from the date of this estimate
A19: 1.1 | B19: No level surveys have been provided so all excavation quantities are provisional
A20: 1.11 | B20: There may be some items where alternative specification is used and these may differ to the specification provided
A21: 1.12 | B21: Any items not mentioned within this estimate have been specifically excluded and will be subject to further costs
A23: 2 | B23: The following items are to be organised and paid for by the client and are excluded from the total cost:
A25: 2.1 | B25: Building insurance
A26: 2.2 | B26: Utility and council tax bills
A27: 2.3 | B27: Party Wall costs and complying with conditions
A28: 2.4 | B28: Building control and costs
A29: 2.5 | B29: Structural engineers' and building regulation details
A30: 2.6 | B30: Specialist surveys
A31: 2.7 | B31: Topographical surveys
A32: 2.8 | B32: CCTV drainage surveys
... A70: 4.16 | B70: A/C

Sheet Documents
B2: =+Cover!B47 -> PROJECT: Mr & Mrs Hawkes-Cowands House
B3: =+Cover!B57 -> DATE: 25TH SEPTEMBER 2025
B5: INFORMATION USED
B7: The information used in the preparation of this estimate are as listed below:
B9: Document reference:
B11: HR91-02-1001
B12: HR91-02-1002
B13: HR91-02-1003
B14: HR91-02-1004
B15: HR91-02-1005
B16: PHOTOS

Sheet Summary
B2: =+Documents!B2 -> PROJECT: Mr & Mrs Hawkes-Cowands House
B3: =+Documents!B3 -> DATE: 25TH SEPTEMBER 2025
F4: TOTALS
B5: SUMMARY | F5: LABOUR | G5: MATERIALS | H5: L MARKUP | I5: M MARKUP | K5: Check | L5: =CheckMissingTabs(B7:B33) -> #NAME?
B7: Demolition | D7: =+Demolition!F52 -> 9774.8486 | F7: =+Demolition!K52 -> 9774.8486 | G7: =+Demolition!L52 -> 0 | H7: =+Demolition!M52 -> 1466.2273 | I7: =+Demolition!N52 -> 0 | K7: =+F7+G7+I7+H7-D7 -> 1466.2273
B9: Substructure | D9: =+Substructure!F130 -> 22343.907 | F9: =+Substructure!K130 -> 11408.234 | G9: =+Substructure!L130 -> 10935.673 | H9: =+Substructure!M130 -> 1711.2351 | I9: =+Substructure!N130 -> 1640.351 | K9: =+F9+G9+I9+H9-D9 -> 3351.586
B11: Superstructure | D11: =+Superstructure!F65 -> 16830.696 | F11: =+Superstructure!K65 -> 5730.6235 | G11: =+Superstructure!L65 -> 11100.073 | H11: =+Superstructure!M65 -> 859.59353 | I11: =+Superstructure!N65 -> 1665.0109 | K11: =+F11+G11+I11+H11-D11 -> 2524.6044
B13: Structural Steelwork | D13: =+'Structural Steelwork'!F23 -> 1420.352 | F13: =+'Structural Steelwork'!K23 -> 562.166 | G13: =+'Structural Steelwork'!L23 -> 858.186 | H13: =+'Structural Steelwork'!M23 -> 84.3249 | I13: =+'Structural Steelwork'!N23 -> 128.7279 | K13: =+F13+G13+I13+H13-D13 -> 213.0528
B15: Roof | D15: =+Roof!F54 -> 8338.76 | F15: =+Roof!K54 -> 3361.998 | G15: =+Roof!L54 -> 5404.488 | H15: =+Roof!M54 -> 504.2997 | I15: =+Roof!N54 -> 810.6732 | K15: =+F15+G15+I15+H15-D15 -> 1742.6989
B17: Windows, Doors & Rooflights | D17: =+'Windows, Doors & Rooflights'!H34 -> 17145 | F17: =+'Windows, Doors & Rooflights'!M34 -> 3920 | G17: =+'Windows, Doors & Rooflights'!N34 -> 13225 | H17: =+'Windows, Doors & Rooflights'!O34 -> 588 | I17: =+'Windows, Doors & Rooflights'!P34 -> 1983.75 | K17: =+F17+G17+I17+H17-D17 -> 2571.75
B19: Partitions | D19: =+Partitions!F100 -> 20580.606 | F19: =+Partitions!K100 -> 8070.292 | G19: =+Partitions!L100 -> 11851.694 | H19: =+Partitions!M100 -> 1210.5438 | I19: =+Partitions!N100 -> 1777.7541 | K19: =+F19+G19+I19+H19-D19 -> 2329.6779
B21: Joinery | D21: =+Joinery!F121 -> 50949.343 | F21: =+Joinery!K121 -> 5084.6 | G21: =+Joinery!L121 -> 35680.68 | H21: =+Joinery!M121 -> 2290.2995 | I21: =+Joinery!N121 -> 5352.102 | K21: =+F21+G21+I21+H21-D21 -> -2541.6615
B23: Decoration | D23: =+Decoration!F28 -> 14213.378 | F23: =+Decoration!K28 -> 5749.202 | G23: =+Decoration!L28 -> 8464.176 | H23: =+Decoration!M28 -> 862.3803 | I23: =+Decoration!N28 -> 1269.6264 | K23: =+F23+G23+I23+H23-D23 -> 2132.0067
B25: Floor Finishes | D25: =+'Floor finishes'!F21 -> 14521.326 | F25: =+'Floor finishes'!K21 -> 5171.8955 | G25: =+'Floor finishes'!L21 -> 9349.431 | H25: =+'Floor finishes'!M21 -> 775.78433 | I25: =+'Floor finishes'!N21 -> 1402.4147 | K25: =+F25+G25+I25+H25-D25 -> 2178.199
B27: Wall Finishes | D27: =+'Wall finishes'!F18 -> 2047.2 | F27: =+'Wall finishes'!K18 -> 636 | G27: =+'Wall finishes'!L18 -> 1411.2 | H27: =+'Wall finishes'!M18 -> 95.4 | I27: =+'Wall finishes'!N18 -> 211.68 | K27: =+F27+G27+I27+H27-D27 -> 307.08
B29: Kitchens & Bathrooms | D29: =+'Kitchens & Bathrooms'!F58 -> 25670.212 | F29: =+'Kitchens & Bathrooms'!K58 -> 4863.332 | G29: =+'Kitchens & Bathrooms'!L58 -> 20806.88 | H29: =+'Kitchens & Bathrooms'!M58 -> 729.4998 | I29: =+'Kitchens & Bathrooms'!N58 -> 3121.032 | K29: =+F29+G29+I29+H29-D29 -> 3850.5318
B31: Electrical | D31: =+Electrical!F60 -> 15679.4 | F31: =+Electrical!K60 -> 6060 | G31: =+Electrical!L60 -> 9619.4 | H31: =+Electrical!M60 -> 909 | I31: =+Electrical!N60 -> 1442.91 | K31: =+F31+G31+I31+H31-D31 -> 2351.91
B33: Mechanical | D33: =+Mechanical!F59 -> 8248.536 | F33: =+Mechanical!K59 -> 4328.9 | G33: =+Mechanical!L59 -> 3919.636 | H33: =+Mechanical!M59 -> 649.335 | I33: =+Mechanical!N59 -> 587.9454 | K33: =+F33+G33+I33+H33-D33 -> 1237.2804
B36: SUB TOTAL | D36: =SUM(D3:D35) -> 227763.57 | F36: =SUM(F6:F34) -> 74722.092 | G36: =SUM(G6:G35) -> 142626.52 | H36: =SUM(H6:H35) -> 12735.923 | I36: =SUM(I6:I35) -> 21393.977 | K36: =+F36+G36+I36+H36-D36 -> 23714.944
B38: Preliminaries | D38: =+Preliminaries!F65 -> 14550
B40: TOTAL COST (EXCLUDING VAT) | D40: =+D38+D36 -> 242313.57
B42: Anticipated Number of Weeks | C42: =+Preliminaries!J4 -> 0 | D42: Weeks

Sheet Demolition
B2: =+'Qual, Excl & Assum'!B2 -> PROJECT: Mr & Mrs Hawkes-Cowands House
B3: =+'Qual, Excl & Assum'!B3 -> DATE: 25TH SEPTEMBER 2025
B5: Demolition | G5: RATES | K5: TOTALS
B7: Description | C7: Quantity | D7: Unit | E7: Rate | F7: Total | G7: Labour | H7: Materials | I7: L Markup | J7: M Markup | K7: Labour | L7: Materials | M7: L Markup | N7: M Markup
N8: =IF(D8=0," ",(J8*C8))
A9: 1 | B9: Existing Single Leaf Door To Be Removed | C9: 7 | D9: no | E9: =G9+H9 -> 110 | F9: =E9*C9 -> 770 | G9: 110 | I9: =IF(D9=0," ",(G9)*(Details!$C$4+Details!$C$8)) -> 16.5 | J9: =IF(D9=0," ",(H9)*(Details!$C$6+Details!$C$8)) -> 0 | K9: =+G9*C9 -> 770 | L9: =+H9*C9 -> 0 | M9: =IF(D9=0," ",(I9*C9)) -> 115.5 | N9: =IF(D9=0," ",(J9*C9)) -> 0
A11: 2 | B11: Existing Window To Be Removed | C11: 4 | D11: no | E11: =G11+H11 -> 90 | F11: =E11*C11 -> 360 | G11: 90 | I11: =IF(D11=0," ",(G11)*(Details!$C$4+Details!$C$8)) -> 13.5 | J11: =IF(D11=0," ",(H11)*(Details!$C$6+Details!$C$8)) -> 0 | K11: =+G11*C11 -> 360 | L11: =+H11*C11 -> 0 | M11: =IF(D11=0," ",(I11*C11)) -> 54 | N11: =IF(D11=0," ",(J11*C11)) -> 0
A13: 3 | B13: Existing Double Leaf Glazed Door To Be Removed | C13: 1 | D13: no | E13: =G13+H13 -> 160 | F13: =E13*C13 -> 160 | G13: 160 | I13: =IF(D13=0," ",(G13)*(Details!$C$4+Details!$C$8)) -> 24 | J13: =IF(D13=0," ",(H13)*(Details!$C$6+Details!$C$8)) -> 0 | K13: =+G13*C13 -> 160 | L13: =+H13*C13 -> 0 | M13: =IF(D13=0," ",(I13*C13)) -> 24 | N13: =IF(D13=0," ",(J13*C13)) -> 0
A15: 4 | B15: Existing Single Leaf Door To Be Removed (Store) | C15: 1 | D15: no | E15: =G15+H15 -> 110 | F15: =E15*C15 -> 110 | G15: 110 | I15: =IF(D15=0," ",(G15)*(Details!$C$4+Details!$C$8)) -> 16.5 | J15: =IF(D15=0," ",(H15)*(Details!$C$6+Details!$C$8)) -> 0 | K15: =+G15*C15 -> 110 | L15: =+H15*C15 -> 0 | M15: =IF(D15=0," ",(I15*C15)) -> 16.5 | N15: =IF(D15=0," ",(J15*C15)) -> 0
A17: 5 | B17: Existing Fixture To Be Removed | C17: 11 | D17: no | E17: =G17+H17 -> 90 | F17: =E17*C17 -> 990 | G17: 90 | I17: =IF(D17=0," ",(G17)*(Details!$C$4+Details!$C$8)) -> 13.5 | J17: =IF(D17=0," ",(H17)*(Details!$C$6+Details!$C$8)) -> 0 | K17: =+G17*C17 -> 990 | L17: =+H17*C17 -> 0 | M17: =IF(D17=0," ",(I17*C17)) -> 148.5 | N17: =IF(D17=0," ",(J17*C17)) -> 0
A19: 6 | B19: Existing Appliances To Be Removed | C19: 3 | D19: no | E19: =G19+H19 -> 90 | F19: =E19*C19 -> 270 | G19: 90 | I19: =IF(D19=0," ",(G19)*(Details!$C$4+Details!$C$8)) -> 13.5 | J19: =IF(D19=0," ",(H19)*(Details!$C$6+Details!$C$8)) -> 0 | K19: =+G19*C19 -> 270 | L19: =+H19*C19 -> 0 | M19: =IF(D19=0," ",(I19*C19)) -> 40.5 | N19: =IF(D19=0," ",(J19*C19)) -> 0
A21: 7 | B21: Existing Bath Accessories To Be Removed | C21: 18 | D21: no | E21: =G21+H21 -> 90 | F21: =E21*C21 -> 1620 | G21: 90 | I21: =IF(D21=0," ",(G21)*(Details!$C$4+Details!$C$8)) -> 13.5 | J21: =IF(D21=0," ",(H21)*(Details!$C$6+Details!$C$8)) -> 0 | K21: =+G21*C21 -> 1620 | L21: =+H21*C21 -> 0 | M21: =IF(D21=0," ",(I21*C21)) -> 243 | N21: =IF(D21=0," ",(J21*C21)) -> 0
A23: 8 | B23: Existing Rooflight To Be Removed | C23: 2 | D23: no | E23: =G23+H23 -> 110 | F23: =E23*C23 -> 220 | G23: 110 | I23: =IF(D23=0," ",(G23)*(Details!$C$4+Details!$C$8)) -> 16.5 | J23: =IF(D23=0," ",(H23)*(Details!$C$6+Details!$C$8)) -> 0 | K23: =+G23*C23 -> 220 | L23: =+H23*C23 -> 0 | M23: =IF(D23=0," ",(I23*C23)) -> 33 | N23: =IF(D23=0," ",(J23*C23)) -> 0
A25: 9 | B25: Existing Manhole Unable To Lift Client Advised Well Positioned | C25: 1 | D25: no | E25: =G25+H25 -> 180 | F25: =E25*C25 -> 180 | G25: 180 | I25: =IF(D25=0," ",(G25)*(Details!$C$4+Details!$C$8)) -> 27 | J25: =IF(D25=0," ",(H25)*(Details!$C$6+Details!$C$8)) -> 0 | K25: =+G25*C25 -> 180 | L25: =+H25*C25 -> 0 | M25: =IF(D25=0," ",(I25*C25)) -> 27 | N25: =IF(D25=0," ",(J25*C25)) -> 0
A27: 10 | B27: Existing Load Bearing Wall To Be Removed | C27: 35.525 | D27: m2 | E27: =G27+H27 -> 23.4 | F27: =E27*C27 -> 831.285 | G27: 23.4 | I27: =IF(D27=0," ",(G27)*(Details!$C$4+Details!$C$8)) -> 3.51 | J27: =IF(D27=0," ",(H27)*(Details!$C$6+Details!$C$8)) -> 0 | K27: =+G27*C27 -> 831.285 | L27: =+H27*C27 -> 0 | M27: =IF(D27=0," ",(I27*C27)) -> 124.69275 | N27: =IF(D27=0," ",(J27*C27)) -> 0
A29: 11 | B29: Existing Non-Load Bearing Wall To Be Removed | C29: 42.096 | D29: m2 | E29: =G29+H29 -> 32.4 | F29: =E29*C29 -> 1363.9104 | G29: 32.4 | I29: =IF(D29=0," ",(G29)*(Details!$C$4+Details!$C$8)) -> 4.86 | J29: =IF(D29=0," ",(H29)*(Details!$C$6+Details!$C$8)) -> 0 | K29: =+G29*C29 -> 1363.9104 | L29: =+H29*C29 -> 0 | M29: =IF(D29=0," ",(I29*C29)) -> 204.58656 | N29: =IF(D29=0," ",(J29*C29)) -> 0
A31: 12 | B31: Existing Non-Load Bearing Wall To Be Removed (Store) | C31: 4.018 | D31: m2 | E31: =G31+H31 -> 32.4 | F31: =E31*C31 -> 130.1832 | G31: 32.4 | I31: =IF(D31=0," ",(G31)*(Details!$C$4+Details!$C$8)) -> 4.86 | J31: =IF(D31=0," ",(H31)*(Details!$C$6+Details!$C$8)) -> 0 | K31: =+G31*C31 -> 130.1832 | L31: =+H31*C31 -> 0 | M31: =IF(D31=0," ",(I31*C31)) -> 19.52748 | N31: =IF(D31=0," ",(J31*C31)) -> 0
... A49: 21 | B49: Existing Pipework, Fittings, Electrical work & hvac work To Be Removed as Req. | C49: 1 | D49: item | E49: =G49+H49 -> 90 | F49: =E49*C49 -> 90 | G49: 90 | I49: =IF(D49=0," ",(G49)*(Details!$C$4+Details!$C$8)) -> 13.5 | J49: =IF(D49=0," ",(H49)*(Details!$C$6+Details!$C$8)) -> 0 | K49: =+G49*C49 -> 90 | L49: =+H49*C49 -> 0 | M49: =IF(D49=0," ",(I49*C49)) -> 13.5 | N49: =IF(D49=0," ",(J49*C49)) -> 0
A51: =IF(F51<>"",(LARGE(A$7:A9,1)+1),"") | J51: =IF(D51=0," ",(G51+H51)*(Details!$C$4+Details!$C$6))
E52: Sub Total | F52: =SUM(F1:F51) -> 9774.8486 | K52: =SUM(K8:K51) -> 9774.8486 | L52: =SUM(L8:L51) -> 0 | M52: =SUM(M8:M51) -> 1466.2273 | N52: =SUM(N8:N51) -> 0

Sheet Substructure
B2: =+'Qual, Excl & Assum'!B2 -> PROJECT: Mr & Mrs Hawkes-Cowands House
B3: =+'Qual, Excl & Assum'!B3 -> DATE: 25TH SEPTEMBER 2025
B5: Substructure | G5: RATES | K5: TOTALS
B7: Description | C7: Quantity | D7: Unit | E7: Rate | F7: Total | G7: Labour | H7: Materials | I7: L Markup | J7: M Markup | K7: Labour | L7: Materials | M7: L Markup | N7: M Markup
N8: =IF(D8=0," ",(J8*C8))
B9: REDUCE LEVELS | N9: =IF(D9=0," ",(J9*C9))
A10: 1 | B10: Excavate to reduce levels | C10: =(C83+C95)*0.45 -> 27.45 | D10: m2 | E10: =G10+H10 -> 19.4 | F10: =E10*C10 -> 532.53 | G10: 19.4 | I10: =IF(D10=0," ",(G10)*(Details!$C$4+Details!$C$8)) -> 2.91 | J10: =IF(D10=0," ",(H10)*(Details!$C$6+Details!$C$8)) -> 0 | K10: =+G10*C10 -> 532.53 | L10: =+H10*C10 -> 0 | M10: =IF(D10=0," ",(I10*C10)) -> 79.8795 | N10: =IF(D10=0," ",(J10*C10)) -> 0
N11: =IF(D11=0," ",(J11*C11))
A12: 2 | B12: Cart away spoil (assume clean and inert) | C12: =C10 -> 27.45 | D12: m2 | E12: =G12+H12 -> 15.8 | F12: =E12*C12 -> 433.71 | G12: 15.8 | I12: =IF(D12=0," ",(G12)*(Details!$C$4+Details!$C$8)) -> 2.37 | J12: =IF(D12=0," ",(H12)*(Details!$C$6+Details!$C$8)) -> 0 | K12: =+G12*C12 -> 433.71 | L12: =+H12*C12 -> 0 | M12: =IF(D12=0," ",(I12*C12)) -> 65.0565 | N12: =IF(D12=0," ",(J12*C12)) -> 0
A13: =IF(F13<>"",(LARGE(A$7:A12,1)+1),"") | N13: =IF(D13=0," ",(J13*C13))
A14: =IF(F14<>"",(LARGE(A$7:A13,1)+1),"") | B14: FOUNDATION EXCAVATION | I14: =IF(D14=0," ",(G14)*(Details!$C$4+Details!$C$8)) | J14: =IF(D14=0," ",(H14)*(Details!$C$6+Details!$C$8)) | N14: =IF(D14=0," ",(J14*C14))
A15: =IF(F15<>"",(LARGE(A$7:A14,1)+1),"") -> 3 | B15: Excavate foundations; | C15: 19.88 | D15: m3 | E15: =G15+H15 -> 55 | F15: =E15*C15 -> 1093.4 | G15: 55 | I15: =IF(D15=0," ",(G15)*(Details!$C$4+Details!$C$8)) -> 8.25 | J15: =IF(D15=0," ",(H15)*(Details!$C$6+Details!$C$8)) -> 0 | K15: =+G15*C15 -> 1093.4 | L15: =+H15*C15 -> 0 | M15: =IF(D15=0," ",(I15*C15)) -> 164.01 | N15: =IF(D15=0," ",(J15*C15)) -> 0
A16: =IF(F16<>"",(LARGE(A$7:A15,1)+1),"")
A17: =IF(F17<>"",(LARGE(A$7:A16,1)+1),"") -> 4 | B17: Cart away spoil (assume clean and inert) | C17: =C15 -> 19.88 | D17: m3 | E17: =G17+H17 -> 46.5 | F17: =E17*C17 -> 924.42 | G17: 46.5 | I17: =IF(D17=0," ",(G17)*(Details!$C$4+Details!$C$8)) -> 6.975 | J17: =IF(D17=0," ",(H17)*(Details!$C$6+Details!$C$8)) -> 0 | K17: =+G17*C17 -> 924.42 | L17: =+H17*C17 -> 0 | M17: =IF(D17=0," ",(I17*C17)) -> 138.663 | N17: =IF(D17=0," ",(J17*C17)) -> 0
A18: =IF(F18<>"",(LARGE(A$7:A17,1)+1),"") | N18: =IF(D18=0," ",(J18*C18))
A19: =IF(F19<>"",(LARGE(A$7:A18,1)+1),"") | B19: STRIP FOOTING
A20: =IF(F20<>"",(LARGE(A$7:A19,1)+1),"") -> 5 | B20: (500mmW x 850mmD) Concrete Strip Footing | C20: =15*0.5*0.85 -> 6.375 | D20: m3 | E20: =G20+H20 -> 310 | F20: =E20*C20 -> 1976.25 | G20: 130 | H20: 180 | I20: =IF(D20=0," ",(G20)*(Details!$C$4+Details!$C$8)) -> 19.5 | J20: =IF(D20=0," ",(H20)*(Details!$C$6+Details!$C$8)) -> 27 | K20: =+G20*C20 -> 828.75 | L20: =+H20*C20 -> 1147.5 | M20: =IF(D20=0," ",(I20*C20)) -> 124.3125 | N20: =IF(D20=0," ",(J20*C20)) -> 172.125
A22: =IF(F22<>"",(LARGE(A$7:A20,1)+1),"") -> 6 | B22: A82 Wire Mesh @ T&B | C22: =15*0.5 -> 7.5 | D22: m2 | E22: =G22+H22 -> 29.4 | F22: =E22*C22 -> 220.5 | G22: 10 | H22: 19.4 | I22: =IF(D22=0," ",(G22)*(Details!$C$4+Details!$C$8)) -> 1.5 | J22: =IF(D22=0," ",(H22)*(Details!$C$6+Details!$C$8)) -> 2.91 | K22: =+G22*C22 -> 75 | L22: =+H22*C22 -> 145.5 | M22: =IF(D22=0," ",(I22*C22)) -> 11.25 | N22: =IF(D22=0," ",(J22*C22)) -> 21.825
A24: =IF(F24<>"",(LARGE(A$7:A22,1)+1),"") -> 7 | B24: Formwork | C24: =15*0.85*2 -> 25.5 | D24: m2 | E24: =G24+H24 -> 13.4 | F24: =E24*C24 -> 341.7 | G24: 13.4 | H24: 0 | I24: =IF(D24=0," ",(G24)*(Details!$C$4+Details!$C$8)) -> 2.01 | J24: =IF(D24=0," ",(H24)*(Details!$C$6+Details!$C$8)) -> 0 | K24: =+G24*C24 -> 341.7 | L24: =+H24*C24 -> 0 | M24: =IF(D24=0," ",(I24*C24)) -> 51.255 | N24: =IF(D24=0," ",(J24*C24)) -> 0
A25: =IF(F25<>"",(LARGE(A$7:A24,1)+1),"")
A26: =IF(F26<>"",(LARGE(A$7:A25,1)+1),"") -> 8 | B26: (600mmW x 850mmD) Concrete Strip Footing | C26: =3*0.6*0.85 -> 1.53 | D26: m3 | E26: =G26+H26 -> 310 | F26: =E26*C26 -> 474.3 | G26: 130 | H26: 180 | I26: =IF(D26=0," ",(G26)*(Details!$C$4+Details!$C$8)) -> 19.5 | J26: =IF(D26=0," ",(H26)*(Details!$C$6+Details!$C$8)) -> 27 | K26: =+G26*C26 -> 198.9 | L26: =+H26*C26 -> 275.4 | M26: =IF(D26=0," ",(I26*C26)) -> 29.835 | N26: =IF(D26=0," ",(J26*C26)) -> 41.31
A28: =IF(F28<>"",(LARGE(A$7:A26,1)+1),"") -> 9 | B28: A82 Wire Mesh @ T&B | C28: =3*0.6 -> 1.8 | D28: m2 | E28: =G28+H28 -> 29.4 | F28: =E28*C28 -> 52.92 | G28: 10 | H28: 19.4 | I28: =IF(D28=0," ",(G28)*(Details!$C$4+Details!$C$8)) -> 1.5 | J28: =IF(D28=0," ",(H28)*(Details!$C$6+Details!$C$8)) -> 2.91 | K28: =+G28*C28 -> 18 | L28: =+H28*C28 -> 34.92 | M28: =IF(D28=0," ",(I28*C28)) -> 2.7 | N28: =IF(D28=0," ",(J28*C28)) -> 5.238
A30: =IF(F30<>"",(LARGE(A$7:A28,1)+1),"") -> 10 | B30: Formwork | C30: =3*0.85*2 -> 5.1 | D30: m2 | E30: =G30+H30 -> 13.4 | F30: =E30*C30 -> 68.34 | G30: 13.4 | H30: 0 | I30: =IF(D30=0," ",(G30)*(Details!$C$4+Details!$C$8)) -> 2.01 | J30: =IF(D30=0," ",(H30)*(Details!$C$6+Details!$C$8)) -> 0 | K30: =+G30*C30 -> 68.34 | L30: =+H30*C30 -> 0 | M30: =IF(D30=0," ",(I30*C30)) -> 10.251 | N30: =IF(D30=0," ",(J30*C30)) -> 0
A31: =IF(F31<>"",(LARGE(A$7:A30,1)+1),"")
A32: =IF(F32<>"",(LARGE(A$7:A31,1)+1),"") -> 11 | B32: (600mmW x 800mmD) Concrete Strip Footing | C32: =4*0.6*0.8 -> 1.92 | D32: m3 | E32: =G32+H32 -> 310 | F32: =E32*C32 -> 595.2 | G32: 130 | H32: 180 | I32: =IF(D32=0," ",(G32)*(Details!$C$4+Details!$C$8)) -> 19.5 | J32: =IF(D32=0," ",(H32)*(Details!$C$6+Details!$C$8)) -> 27 | K32: =+G32*C32 -> 249.6 | L32: =+H32*C32 -> 345.6 | M32: =IF(D32=0," ",(I32*C32)) -> 37.44 | N32: =IF(D32=0," ",(J32*C32)) -> 51.84
A34: =IF(F34<>"",(LARGE(A$7:A32,1)+1),"") -> 12 | B34: A82 Wire Mesh @ T&B | C34: =4*0.6 -> 2.4 | D34: m2 | E34: =G34+H34 -> 29.4 | F34: =E34*C34 -> 70.56 | G34: 10 | H34: 19.4 | I34: =IF(D34=0," ",(G34)*(Details!$C$4+Details!$C$8)) -> 1.5 | J34: =IF(D34=0," ",(H34)*(Details!$C$6+Details!$C$8)) -> 2.91 | K34: =+G34*C34 -> 24 | L34: =+H34*C34 -> 46.56 | M34: =IF(D34=0," ",(I34*C34)) -> 3.6 | N34: =IF(D34=0," ",(J34*C34)) -> 6.984
A36: =IF(F36<>"",(LARGE(A$7:A34,1)+1),"") -> 13 | B36: Formwork | C36: =4*0.8*2 -> 6.4 | D36: m2 | E36: =G36+H36 -> 13.4 | F36: =E36*C36 -> 85.76 | G36: 13.4 | H36: 0 | I36: =IF(D36=0," ",(G36)*(Details!$C$4+Details!$C$8)) -> 2.01 | J36: =IF(D36=0," ",(H36)*(Details!$C$6+Details!$C$8)) -> 0 | K36: =+G36*C36 -> 85.76 | L36: =+H36*C36 -> 0 | M36: =IF(D36=0," ",(I36*C36)) -> 12.864 | N36: =IF(D36=0," ",(J36*C36)) -> 0
A37: =IF(F37<>"",(LARGE(A$7:A36,1)+1),"")
A38: =IF(F38<>"",(LARGE(A$7:A37,1)+1),"") -> 14 | B38: (300mmW x 800mmD) Concrete Strip Footing | C38: =8*0.3*0.8 -> 1.92 | D38: m3 | E38: =G38+H38 -> 310 | F38: =E38*C38 -> 595.2 | G38: 130 | H38: 180 | I38: =IF(D38=0," ",(G38)*(Details!$C$4+Details!$C$8)) -> 19.5 | J38: =IF(D38=0," ",(H38)*(Details!$C$6+Details!$C$8)) -> 27 | K38: =+G38*C38 -> 249.6 | L38: =+H38*C38 -> 345.6 | M38: =IF(D38=0," ",(I38*C38)) -> 37.44 | N38: =IF(D38=0," ",(J38*C38)) -> 51.84
A40: =IF(F40<>"",(LARGE(A$7:A38,1)+1),"") -> 15 | B40: A82 Wire Mesh @ T&B | C40: =8*0.3 -> 2.4 | D40: m2 | E40: =G40+H40 -> 29.4 | F40: =E40*C40 -> 70.56 | G40: 10 | H40: 19.4 | I40: =IF(D40=0," ",(G40)*(Details!$C$4+Details!$C$8)) -> 1.5 | J40: =IF(D40=0," ",(H40)*(Details!$C$6+Details!$C$8)) -> 2.91 | K40: =+G40*C40 -> 24 | L40: =+H40*C40 -> 46.56 | M40: =IF(D40=0," ",(I40*C40)) -> 3.6 | N40: =IF(D40=0," ",(J40*C40)) -> 6.984
A42: =IF(F42<>"",(LARGE(A$7:A40,1)+1),"") -> 16 | B42: Formwork | C42: =8*0.8*2 -> 12.8 | D42: m2 | E42: =G42+H42 -> 13.4 | F42: =E42*C42 -> 171.52 | G42: 13.4 | H42: 0 | I42: =IF(D42=0," ",(G42)*(Details!$C$4+Details!$C$8)) -> 2.01 | J42: =IF(D42=0," ",(H42)*(Details!$C$6+Details!$C$8)) -> 0 | K42: =+G42*C42 -> 171.52 | L42: =+H42*C42 -> 0 | M42: =IF(D42=0," ",(I42*C42)) -> 25.728 | N42: =IF(D42=0," ",(J42*C42)) -> 0
A43: =IF(F43<>"",(LARGE(A$7:A42,1)+1),"")
A44: =IF(F44<>"",(LARGE(A$7:A43,1)+1),"") | B44: FOUNDATION WALL
A45: =IF(F45<>"",(LARGE(A$7:A44,1)+1),"") | B45: DPC Wall (530mm H)
A46: =IF(F46<>"",(LARGE(A$7:A45,1)+1),"") -> 17 | B46: Damp Proof Course | C46: 11 | D46: m | E46: =G46+H46 -> 12.8 | F46: =E46*C46 -> 140.8 | G46: 5 | H46: 7.8 | I46: =IF(D46=0," ",(G46)*(Details!$C$4+Details!$C$8)) -> 0.75 | J46: =IF(D46=0," ",(H46)*(Details!$C$6+Details!$C$8)) -> 1.17 | K46: =+G46*C46 -> 55 | L46: =+H46*C46 -> 85.8 | M46: =IF(D46=0," ",(I46*C46)) -> 8.25 | N46: =IF(D46=0," ",(J46*C46)) -> 12.87
A48: =IF(F48<>"",(LARGE(A$7:A46,1)+1),"") -> 18 | B48: 102.5mm Brickwork Wall | C48: =11*0.53 -> 5.83 | D48: m2 | E48: =G48+H48 -> 102.3 | F48: =E48*C48 -> 596.409 | G48: 34.5 | H48: 67.8 | I48: =IF(D48=0," ",(G48)*(Details!$C$4+Details!$C$8)) -> 5.175 | J48: =IF(D48=0," ",(H48)*(Details!$C$6+Details!$C$8)) -> 10.17 | K48: =+G48*C48 -> 201.135 | L48: =+H48*C48 -> 395.274 | M48: =IF(D48=0," ",(I48*C48)) -> 30.17025 | N48: =IF(D48=0," ",(J48*C48)) -> 59.2911
A50: =IF(F50<>"",(LARGE(A$7:A48,1)+1),"") -> 19 | B50: 100mm Lean Mix Fill Concrete Cavity | C50: =11*0.53 -> 5.83 | D50: m2 | E50: =G50+H50 -> 54.8 | F50: =E50*C50 -> 319.484 | G50: 20 | H50: 34.8 | I50: =IF(D50=0," ",(G50)*(Details!$C$4+Details!$C$8)) -> 3 | J50: =IF(D50=0," ",(H50)*(Details!$C$6+Details!$C$8)) -> 5.22 | K50: =+G50*C50 -> 116.6 | L50: =+H50*C50 -> 202.884 | M50: =IF(D50=0," ",(I50*C50)) -> 17.49 | N50: =IF(D50=0," ",(J50*C50)) -> 30.4326
A52: =IF(F52<>"",(LARGE(A$7:A50,1)+1),"") -> 20 | B52: 100mm Blockwork Wall | C52: =11*0.53 -> 5.83 | D52: m2 | E52: =G52+H52 -> 112.3 | F52: =E52*C52 -> 654.709 | G52: 37.8 | H52: 74.5 | I52: =IF(D52=0," ",(G52)*(Details!$C$4+Details!$C$8)) -> 5.67 | J52: =IF(D52=0," ",(H52)*(Details!$C$6+Details!$C$8)) -> 11.175 | K52: =+G52*C52 -> 220.374 | L52: =+H52*C52 -> 434.335 | M52: =IF(D52=0," ",(I52*C52)) -> 33.0561 | N52: =IF(D52=0," ",(J52*C52)) -> 65.15025
A53: =IF(F53<>"",(LARGE(A$7:A52,1)+1),"")
A54: =IF(F54<>"",(LARGE(A$7:A53,1)+1),"") | B54: DPC Wall (600mm H)
...

Sheet Superstructure
B2: =+'Qual, Excl & Assum'!B2 -> PROJECT: Mr & Mrs Hawkes-Cowands House
B3: =+'Qual, Excl & Assum'!B3 -> DATE: 25TH SEPTEMBER 2025
B5: Superstructure | G5: RATES | K5: TOTALS
B7: Description | C7: Quantity | D7: Unit | E7: Rate | F7: Total | G7: Labour | H7: Materials | I7: L Markup | J7: M Markup | K7: Labour | L7: Materials | M7: L Markup | N7: M Markup
N8: =IF(D8=0," ",(J8*C8))
B9: EXTERIOR WALL | N9: =IF(D9=0," ",(J9*C9))
A10: =IF(F10<>"",(LARGE(A$7:A9,1)+1),"") | B10: WL-EXT01 - External Cavity Wall (2600mm H) | N10: =IF(D10=0," ",(J10*C10))
A12: 1 | B12: 108mm Cream Facing Imperial Brick | C12: 16.9 | D12: m2 | E12: =G12+H12 -> 98.3 | F12: =E12*C12 -> 1661.27 | G12: 30.5 | H12: 67.8 | I12: =IF(D12=0," ",(G12)*(Details!$C$4+Details!$C$8)) -> 4.575 | J12: =IF(D12=0," ",(H12)*(Details!$C$6+Details!$C$8)) -> 10.17 | K12: =+G12*C12 -> 515.45 | L12: =+H12*C12 -> 1145.82 | M12: =IF(D12=0," ",(I12*C12)) -> 77.3175 | N12: =IF(D12=0," ",(J12*C12)) -> 171.873
A14: 2 | B14: 150mm DriTherm Cavity Slab 32 | C14: 16.9 | D14: m2 | E14: =G14+H14 -> 54.5 | F14: =E14*C14 -> 921.05 | G14: 20 | H14: 34.5 | I14: =IF(D14=0," ",(G14)*(Details!$C$4+Details!$C$8)) -> 3 | J14: =IF(D14=0," ",(H14)*(Details!$C$6+Details!$C$8)) -> 5.175 | K14: =+G14*C14 -> 338 | L14: =+H14*C14 -> 583.05 | M14: =IF(D14=0," ",(I14*C14)) -> 50.7 | N14: =IF(D14=0," ",(J14*C14)) -> 87.4575
A16: 3 | B16: 100mm Medium Desity Blockwork | C16: 16.9 | D16: m2 | E16: =G16+H16 -> 100 | F16: =E16*C16 -> 1690 | G16: 34.5 | H16: 65.5 | I16: =IF(D16=0," ",(G16)*(Details!$C$4+Details!$C$8)) -> 5.175 | J16: =IF(D16=0," ",(H16)*(Details!$C$6+Details!$C$8)) -> 9.825 | K16: =+G16*C16 -> 583.05 | L16: =+H16*C16 -> 1106.95 | M16: =IF(D16=0," ",(I16*C16)) -> 87.4575 | N16: =IF(D16=0," ",(J16*C16)) -> 166.0425
A18: =IF(F18<>"",(LARGE(A$7:A17,1)+1),"") | B18: WL-EXT02 - Internal Existing Wall (2350mm H)
A20: =IF(F20<>"",(LARGE(A$7:A18,1)+1),"") -> 4 | B20: 150mm DriTherm Cavity Slab 32 | C20: 10.575 | D20: m2 | E20: =G20+H20 -> 79.8 | F20: =E20*C20 -> 843.885 | G20: 30 | H20: 49.8 | I20: =IF(D20=0," ",(G20)*(Details!$C$4+Details!$C$8)) -> 4.5 | J20: =IF(D20=0," ",(H20)*(Details!$C$6+Details!$C$8)) -> 7.47 | K20: =+G20*C20 -> 317.25 | L20: =+H20*C20 -> 526.635 | M20: =IF(D20=0," ",(I20*C20)) -> 47.5875 | N20: =IF(D20=0," ",(J20*C20)) -> 78.99525
A22: =IF(F22<>"",(LARGE(A$7:A20,1)+1),"") -> 5 | B22: 100mm Medium Desity Blockwork | C22: 10.575 | D22: m2 | E22: =G22+H22 -> 95 | F22: =E22*C22 -> 1004.625 | G22: 30.5 | H22: 64.5 | I22: =IF(D22=0," ",(G22)*(Details!$C$4+Details!$C$8)) -> 4.575 | J22: =IF(D22=0," ",(H22)*(Details!$C$6+Details!$C$8)) -> 9.675 | K22: =+G22*C22 -> 322.5375 | L22: =+H22*C22 -> 682.0875 | M22: =IF(D22=0," ",(I22*C22)) -> 48.380625 | N22: =IF(D22=0," ",(J22*C22)) -> 102.31313
A23: =IF(F23<>"",(LARGE(A$7:A22,1)+1),"")
A24: =IF(F24<>"",(LARGE(A$7:A23,1)+1),"") | B24: WL-EXT03 - External Timber Wall (2450mm H)
A26: =IF(F26<>"",(LARGE(A$7:A24,1)+1),"") -> 6 | B26: 100x50mm Timber Stud Wall @ 600mm Ctrs | C26: 26.95 | D26: m2 | E26: =G26+H26 -> 52.4 | F26: =E26*C26 -> 1412.18 | G26: 20 | H26: 32.4 | I26: =IF(D26=0," ",(G26)*(Details!$C$4+Details!$C$8)) -> 3 | J26: =IF(D26=0," ",(H26)*(Details!$C$6+Details!$C$8)) -> 4.86 | K26: =+G26*C26 -> 539 | L26: =+H26*C26 -> 873.18 | M26: =IF(D26=0," ",(I26*C26)) -> 80.85 | N26: =IF(D26=0," ",(J26*C26)) -> 130.977
A28: =IF(F28<>"",(LARGE(A$7:A26,1)+1),"") -> 7 | B28: Timber Head Plate | C28: 22 | D28: m | E28: =G28+H28 -> 22.4 | F28: =E28*C28 -> 492.8 | G28: 9 | H28: 13.4 | I28: =IF(D28=0," ",(G28)*(Details!$C$4+Details!$C$8)) -> 1.35 | J28: =IF(D28=0," ",(H28)*(Details!$C$6+Details!$C$8)) -> 2.01 | K28: =+G28*C28 -> 198 | L28: =+H28*C28 -> 294.8 | M28: =IF(D28=0," ",(I28*C28)) -> 29.7 | N28: =IF(D28=0," ",(J28*C28)) -> 44.22
A30: =IF(F30<>"",(LARGE(A$7:A28,1)+1),"") -> 8 | B30: Timber Sole Plate | C30: 11 | D30: m | E30: =G30+H30 -> 22.4 | F30: =E30*C30 -> 246.4 | G30: 9 | H30: 13.4 | I30: =IF(D30=0," ",(G30)*(Details!$C$4+Details!$C$8)) -> 1.35 | J30: =IF(D30=0," ",(H30)*(Details!$C$6+Details!$C$8)) -> 2.01 | K30: =+G30*C30 -> 99 | L30: =+H30*C30 -> 147.4 | M30: =IF(D30=0," ",(I30*C30)) -> 14.85 | N30: =IF(D30=0," ",(J30*C30)) -> 22.11
A32: =IF(F32<>"",(LARGE(A$7:A30,1)+1),"") -> 9 | B32: Horizontal Timber Noggings @ 450mm Ctrs | C32: 26.95 | D32: m2 | E32: =G32+H32 -> 32.3 | F32: =E32*C32 -> 870.485 | G32: 12.5 | H32: 19.8 | I32: =IF(D32=0," ",(G32)*(Details!$C$4+Details!$C$8)) -> 1.875 | J32: =IF(D32=0," ",(H32)*(Details!$C$6+Details!$C$8)) -> 2.97 | K32: =+G32*C32 -> 336.875 | L32: =+H32*C32 -> 533.61 | M32: =IF(D32=0," ",(I32*C32)) -> 50.53125 | N32: =IF(D32=0," ",(J32*C32)) -> 80.0415
A34: =IF(F34<>"",(LARGE(A$7:A32,1)+1),"") -> 10 | B34: 90mm Frame Therm Roll 32 | C34: 26.95 | D34: m2 | E34: =G34+H34 -> 20.4 | F34: =E34*C34 -> 549.78 | G34: 9 | H34: 11.4 | I34: =IF(D34=0," ",(G34)*(Details!$C$4+Details!$C$8)) -> 1.35 | J34: =IF(D34=0," ",(H34)*(Details!$C$6+Details!$C$8)) -> 1.71 | K34: =+G34*C34 -> 242.55 | L34: =+H34*C34 -> 307.23 | M34: =IF(D34=0," ",(I34*C34)) -> 36.3825 | N34: =IF(D34=0," ",(J34*C34)) -> 46.0845
A36: =IF(F36<>"",(LARGE(A$7:A34,1)+1),"") -> 11 | B36: 9mm OSB Sheathing Board | C36: 26.95 | D36: m2 | E36: =G36+H36 -> 28.2 | F36: =E36*C36 -> 759.99 | G36: 10.8 | H36: 17.4 | I36: =IF(D36=0," ",(G36)*(Details!$C$4+Details!$C$8)) -> 1.62 | J36: =IF(D36=0," ",(H36)*(Details!$C$6+Details!$C$8)) -> 2.61 | K36: =+G36*C36 -> 291.06 | L36: =+H36*C36 -> 468.93 | M36: =IF(D36=0," ",(I36*C36)) -> 43.659 | N36: =IF(D36=0," ",(J36*C36)) -> 70.3395
A38: =IF(F38<>"",(LARGE(A$7:A36,1)+1),"") -> 12 | B38: 1mm Vapour Barrier | C38: 26.95 | D38: m2 | E38: =G38+H38 -> 7.2 | F38: =E38*C38 -> 194.04 | G38: 3 | H38: 4.2 | I38: =IF(D38=0," ",(G38)*(Details!$C$4+Details!$C$8)) -> 0.45 | J38: =IF(D38=0," ",(H38)*(Details!$C$6+Details!$C$8)) -> 0.63 | K38: =+G38*C38 -> 80.85 | L38: =+H38*C38 -> 113.19 | M38: =IF(D38=0," ",(I38*C38)) -> 12.1275 | N38: =IF(D38=0," ",(J38*C38)) -> 16.9785
A39: =IF(F39<>"",(LARGE(A$7:A38,1)+1),"")
A40: =IF(F40<>"",(LARGE(A$7:A39,1)+1),"") | B40: TIMBER BEAM
A41: =IF(F41<>"",(LARGE(A$7:A40,1)+1),"") -> 13 | B41: 3no. 150x50 C24 Timber Beam | C41: 6.09 | D41: m | E41: =G41+H41 -> 23.7 | F41: =E41*C41 -> 144.333 | G41: 9.5 | H41: 14.2 | I41: =IF(D41=0," ",(G41)*(Details!$C$4+Details!$C$8)) -> 1.425 | J41: =IF(D41=0," ",(H41)*(Details!$C$6+Details!$C$8)) -> 2.13 | K41: =+G41*C41 -> 57.855 | L41: =+H41*C41 -> 86.478 | M41: =IF(D41=0," ",(I41*C41)) -> 8.67825 | N41: =IF(D41=0," ",(J41*C41)) -> 12.9717
A42: =IF(F42<>"",(LARGE(A$7:A41,1)+1),"")
A43: =IF(F43<>"",(LARGE(A$7:A42,1)+1),"") | B43: TIMBER POST
A44: =IF(F44<>"",(LARGE(A$7:A43,1)+1),"") -> 14 | B44: (150mm x 150mm x 2450mm) External Timber Column | C44: 3 | D44: no | E44: =G44+H44 -> 110 | F44: =E44*C44 -> 330 | G44: 35 | H44: 75 | I44: =IF(D44=0," ",(G44)*(Details!$C$4+Details!$C$8)) -> 5.25 | J44: =IF(D44=0," ",(H44)*(Details!$C$6+Details!$C$8)) -> 11.25 | K44: =+G44*C44 -> 105 | L44: =+H44*C44 -> 225 | M44: =IF(D44=0," ",(I44*C44)) -> 15.75 | N44: =IF(D44=0," ",(J44*C44)) -> 33.75
A45: =IF(F45<>"",(LARGE(A$7:A44,1)+1),"")
A46: =IF(F46<>"",(LARGE(A$7:A45,1)+1),"") | B46: ROOF FRAMING
A47: =IF(F47<>"",(LARGE(A$7:A46,1)+1),"") -> 15 | B47: 147x47mm C24 Timber Flat Roof Joist @ 400mm Ctrs | C47: 24 | D47: m2 | E47: =G47+H47 -> 52.4 | F47: =E47*C47 -> 1257.6 | G47: 20 | H47: 32.4 | I47: =IF(D47=0," ",(G47)*(Details!$C$4+Details!$C$8)) -> 3 | J47: =IF(D47=0," ",(H47)*(Details!$C$6+Details!$C$8)) -> 4.86 | K47: =+G47*C47 -> 480 | L47: =+H47*C47 -> 777.6 | M47: =IF(D47=0," ",(I47*C47)) -> 72 | N47: =IF(D47=0," ",(J47*C47)) -> 116.64
A49: =IF(F49<>"",(LARGE(A$7:A47,1)+1),"") -> 16 | B49: 147x47mm C24 Timber Pitched Roof Rafter @ 400mm Ctrs | C49: 13 | D49: m2 | E49: =G49+H49 -> 52.4 | F49: =E49*C49 -> 681.2 | G49: 20 | H49: 32.4 | I49: =IF(D49=0," ",(G49)*(Details!$C$4+Details!$C$8)) -> 3 | J49: =IF(D49=0," ",(H49)*(Details!$C$6+Details!$C$8)) -> 4.86 | K49: =+G49*C49 -> 260 | L49: =+H49*C49 -> 421.2 | M49: =IF(D49=0," ",(I49*C49)) -> 39 | N49: =IF(D49=0," ",(J49*C49)) -> 63.18
A50: =IF(F50<>"",(LARGE(A$7:A49,1)+1),"")
A51: =IF(F51<>"",(LARGE(A$7:A50,1)+1),"") | B51: CEILING FRAMING
A52: =IF(F52<>"",(LARGE(A$7:A51,1)+1),"") -> 17 | B52: 147x47mm C24 Timber Ceiling Joist @ 400mm Ctrs | C52: 13 | D52: m2 | E52: =G52+H52 -> 52.4 | F52: =E52*C52 -> 681.2 | G52: 20 | H52: 32.4 | I52: =IF(D52=0," ",(G52)*(Details!$C$4+Details!$C$8)) -> 3 | J52: =IF(D52=0," ",(H52)*(Details!$C$6+Details!$C$8)) -> 4.86 | K52: =+G52*C52 -> 260 | L52: =+H52*C52 -> 421.2 | M52: =IF(D52=0," ",(I52*C52)) -> 39 | N52: =IF(D52=0," ",(J52*C52)) -> 63.18
A53: =IF(F53<>"",(LARGE(A$7:A52,1)+1),"")
A54: =IF(F54<>"",(LARGE(A$7:A53,1)+1),"") | B54: LINTEL
A55: =IF(F55<>"",(LARGE(A$7:A54,1)+1),"") -> 18 | B55: (215mmW x 215mmD) Ancon Nexus XI Lintel | C55: 8.14 | D55: m | E55: =G55+H55 -> 29.2 | F55: =E55*C55 -> 237.688 | G55: 11.4 | H55: 17.8 | I55: =IF(D55=0," ",(G55)*(Details!$C$4+Details!$C$8)) -> 1.71 | J55: =IF(D55=0," ",(H55)*(Details!$C$6+Details!$C$8)) -> 2.67 | K55: =+G55*C55 -> 92.796 | L55: =+H55*C55 -> 144.892 | M55: =IF(D55=0," ",(I55*C55)) -> 13.9194 | N55: =IF(D55=0," ",(J55*C55)) -> 21.7338
A57: =IF(F57<>"",(LARGE(A$7:A55,1)+1),"") -> 19 | B57: BSD100 Catnic Lintel | C57: 3.3 | D57: m | E57: =G57+H57 -> 24.9 | F57: =E57*C57 -> 82.17 | G57: 9.5 | H57: 15.4 | I57: =IF(D57=0," ",(G57)*(Details!$C$4+Details!$C$8)) -> 1.425 | J57: =IF(D57=0," ",(H57)*(Details!$C$6+Details!$C$8)) -> 2.31 | K57: =+G57*C57 -> 31.35 | L57: =+H57*C57 -> 50.82 | M57: =IF(D57=0," ",(I57*C57)) -> 4.7025 | N57: =IF(D57=0," ",(J57*C57)) -> 7.623
A58: =IF(F58<>"",(LARGE(A$7:A57,1)+1),"")
...

Sheet Structural Steelwork
B2: =+'Qual, Excl & Assum'!B2 -> PROJECT: Mr & Mrs Hawkes-Cowands House
B3: =+'Qual, Excl & Assum'!B3 -> DATE: 25TH SEPTEMBER 2025
B5: Structural Steelwork & Timberwork | G5: RATES | K5: TOTALS
B7: Description | C7: Quantity | D7: Unit | E7: Rate | F7: Total | G7: Labour | H7: Materials | I7: L Markup | J7: M Markup | K7: Labour | L7: Materials | M7: L Markup | N7: M Markup
A8: =IF(F8<>"",(LARGE(A$7:A7,1)+1),"") | J8: =IF(D8=0," ",(G8+H8)*(Details!$C$4)) | N8: =IF(D8=0," ",(J8*C8))
A9: =IF(F9<>"",(LARGE(A$7:A8,1)+1),"") | B9: STRUCTURAL STEELWORK | Z9: =IF(F9<>"",(LARGE(A$7:A8,1)+1),"") | AA9: STRUCTURAL STEELWORK
A10: =IF(F10<>"",(LARGE(A$7:A9,1)+1),"") | B10: STEEL BEAM | Z10: =IF(F10<>"",(LARGE(A$7:A9,1)+1),"") | AN10: KG/M
A11: 1 | B11: 152x152x23 UC | C11: 18.77 | D11: m | E11: =G11+H11 -> 33.2 | F11: =E11*C11 -> 623.164 | G11: 13.4 | H11: 19.8 | I11: =IF(D11=0," ",(G11)*(Details!$C$4+Details!$C$8)) -> 2.01 | J11: =IF(D11=0," ",(H11)*(Details!$C$6+Details!$C$8)) -> 2.97 | K11: =+G11*C11 -> 251.518 | L11: =+H11*C11 -> 371.646 | M11: =IF(D11=0," ",(I11*C11)) -> 37.7277 | N11: =IF(D11=0," ",(J11*C11)) -> 55.7469 | Z11: 1 | AC11: m | AD11: =G11+H11+J11+I11 -> 38.18 | AE11: =E11*C11 -> 623.164 | AF11: =O11*1.75*Details!$M$36 -> 0 | AG11: =O11*3+500/1000*O11*C11 -> 0 | AH11: =IF(D11=0," ",(G11)*(Details!$C$4+Details!$C$8)) -> 2.01 | AI11: =IF(D11=0," ",(H11)*(Details!$C$6+Details!$C$8)) -> 2.97 | AJ11: =+G11*C11 -> 251.518 | AK11: =+H11*C11 -> 371.646 | AL11: =IF(D11=0," ",(I11*C11)) -> 37.7277 | AM11: =IF(D11=0," ",(J11*C11)) -> 55.7469 | AN11: 0
A13: 2 | B13: 203x133x30 UB | C13: 6.8 | D13: m | E13: =G13+H13 -> 39.2 | F13: =E13*C13 -> 266.56 | G13: 15.8 | H13: 23.4 | I13: =IF(D13=0," ",(G13)*(Details!$C$4+Details!$C$8)) -> 2.37 | J13: =IF(D13=0," ",(H13)*(Details!$C$6+Details!$C$8)) -> 3.51 | K13: =+G13*C13 -> 107.44 | L13: =+H13*C13 -> 159.12 | M13: =IF(D13=0," ",(I13*C13)) -> 16.116 | N13: =IF(D13=0," ",(J13*C13)) -> 23.868 | Z13: =IF(F13<>"",(LARGE(A$7:A11,1)+1),"") -> 2
A15: 3 | B15: 230x102x23 UB | C15: 4.61 | D15: m | E15: =G15+H15 -> 41.7 | F15: =E15*C15 -> 192.237 | G15: 16.2 | H15: 25.5 | I15: =IF(D15=0," ",(G15)*(Details!$C$4+Details!$C$8)) -> 2.43 | J15: =IF(D15=0," ",(H15)*(Details!$C$6+Details!$C$8)) -> 3.825 | K15: =+G15*C15 -> 74.682 | L15: =+H15*C15 -> 117.555 | M15: =IF(D15=0," ",(I15*C15)) -> 11.2023 | N15: =IF(D15=0," ",(J15*C15)) -> 17.63325
A17: 4 | B17: 2no. 230x102x23 UB | C17: 4.23 | D17: m | E17: =G17+H17 -> 41.7 | F17: =E17*C17 -> 176.391 | G17: 16.2 | H17: 25.5 | I17: =IF(D17=0," ",(G17)*(Details!$C$4+Details!$C$8)) -> 2.43 | J17: =IF(D17=0," ",(H17)*(Details!$C$6+Details!$C$8)) -> 3.825 | K17: =+G17*C17 -> 68.526 | L17: =+H17*C17 -> 107.865 | M17: =IF(D17=0," ",(I17*C17)) -> 10.2789 | N17: =IF(D17=0," ",(J17*C17)) -> 16.17975
B19: STEEL POST
A20: 5 | B20: 90x90x5 SHS | C20: 1 | D20: no | E20: =G20+H20 -> 162 | F20: =E20*C20 -> 162 | G20: 60 | H20: 102 | I20: =IF(D20=0," ",(G20)*(Details!$C$4+Details!$C$8)) -> 9 | J20: =IF(D20=0," ",(H20)*(Details!$C$6+Details!$C$8)) -> 15.3 | K20: =+G20*C20 -> 60 | L20: =+H20*C20 -> 102 | M20: =IF(D20=0," ",(I20*C20)) -> 9 | N20: =IF(D20=0," ",(J20*C20)) -> 15.3
A21: =IF(F21<>"",(LARGE(A$7:A20,1)+1),"")
A22: =IF(F22<>"",(LARGE(A$7:A21,1)+1),"") | P22: Check
E23: Sub Total | F23: =SUM(F10:F21) -> 1420.352 | J23: =IF(D23=0," ",(G23+H23)*(Details!$C$4+Details!$C$6)) | K23: =SUM(K5:K22) -> 562.166 | L23: =SUM(L5:L22) -> 858.186 | M23: =SUM(M5:M22) -> 84.3249 | N23: =SUM(N5:N22) -> 128.7279 | P23: =+F23-K23-L23-N23-M23 -> -213.0528
A24: =IF(D24=0," ",(LARGE(A$8:A23,1)+1)) | J24: =IF(D24=0," ",(G24+H24)*(Details!$C$4+Details!$C$6))

Sheet Roof
B2: =+'Qual, Excl & Assum'!B2 -> PROJECT: Mr & Mrs Hawkes-Cowands House
B3: =+'Qual, Excl & Assum'!B3 -> DATE: 25TH SEPTEMBER 2025
B5: Roof | G5: RATES | K5: TOTALS
B7: Description | C7: Quantity | D7: Unit | E7: Rate | F7: Total | G7: Labour | H7: Materials | I7: L Markup | J7: M Markup | K7: Labour | L7: Materials | M7: L Markup | N7: M Markup
N8: =IF(D8=0," ",(J8*C8))
B9: RL 01 - Flat Roof Build-Up
A10: 1 | B10: 2mm Standing Seam Roof Finish (Bronze) | C10: 32 | D10: m2 | E10: =G10+H10 -> 49.8 | F10: =E10*C10 -> 1593.6 | G10: 20 | H10: 29.8 | I10: =IF(D10=0," ",(G10)*(Details!$C$4+Details!$C$8)) -> 3 | J10: =IF(D10=0," ",(H10)*(Details!$C$6+Details!$C$8)) -> 4.47 | K10: =+G10*C10 -> 640 | L10: =+H10*C10 -> 953.6 | M10: =IF(D10=0," ",(I10*C10)) -> 96 | N10: =IF(D10=0," ",(J10*C10)) -> 143.04
A12: 2 | B12: 18mm Plywood Roof Decking | C12: 32 | D12: m2 | E12: =G12+H12 -> 25.4 | F12: =E12*C12 -> 812.8 | G12: 10 | H12: 15.4 | I12: =IF(D12=0," ",(G12)*(Details!$C$4+Details!$C$8)) -> 1.5 | J12: =IF(D12=0," ",(H12)*(Details!$C$6+Details!$C$8)) -> 2.31 | K12: =+G12*C12 -> 320 | L12: =+H12*C12 -> 492.8 | M12: =IF(D12=0," ",(I12*C12)) -> 48 | N12: =IF(D12=0," ",(J12*C12)) -> 73.92
A14: 3 | B14: 150mm Celotex XR4000 Insulation | C14: 32 | D14: m2 | E14: =G14+H14 -> 21.4 | F14: =E14*C14 -> 684.8 | G14: 8 | H14: 13.4 | I14: =IF(D14=0," ",(G14)*(Details!$C$4+Details!$C$8)) -> 1.2 | J14: =IF(D14=0," ",(H14)*(Details!$C$6+Details!$C$8)) -> 2.01 | K14: =+G14*C14 -> 256 | L14: =+H14*C14 -> 428.8 | M14: =IF(D14=0," ",(I14*C14)) -> 38.4 | N14: =IF(D14=0," ",(J14*C14)) -> 64.32
A16: 4 | B16: Vapour Control Barrier | C16: 32 | D16: m2 | E16: =G16+H16 -> 8.4 | F16: =E16*C16 -> 268.8 | G16: 3 | H16: 5.4 | I16: =IF(D16=0," ",(G16)*(Details!$C$4+Details!$C$8)) -> 0.45 | J16: =IF(D16=0," ",(H16)*(Details!$C$6+Details!$C$8)) -> 0.81 | K16: =+G16*C16 -> 96 | L16: =+H16*C16 -> 172.8 | M16: =IF(D16=0," ",(I16*C16)) -> 14.4 | N16: =IF(D16=0," ",(J16*C16)) -> 25.92
A18: 5 | B18: 12mm WBP Plywood | C18: 32 | D18: m2 | E18: =G18+H18 -> 23.2 | F18: =E18*C18 -> 742.4 | G18: 10 | H18: 13.2 | I18: =IF(D18=0," ",(G18)*(Details!$C$4+Details!$C$8)) -> 1.5 | J18: =IF(D18=0," ",(H18)*(Details!$C$6+Details!$C$8)) -> 1.98 | K18: =+G18*C18 -> 320 | L18: =+H18*C18 -> 422.4 | M18: =IF(D18=0," ",(I18*C18)) -> 48 | N18: =IF(D18=0," ",(J18*C18)) -> 63.36
A20: =IF(F20<>"",(LARGE(A$4:A18,1)+1),"") -> 6 | B20: 40mm Timber Firrings (1:80 Fall) | C20: 32 | D20: m2 | E20: =G20+H20 -> 54.8 | F20: =E20*C20 -> 1753.6 | G20: 20 | H20: 34.8 | I20: =IF(D20=0," ",(G20)*(Details!$C$4+Details!$C$8)) -> 3 | J20: =IF(D20=0," ",(H20)*(Details!$C$6+Details!$C$8)) -> 5.22 | K20: =+G20*C20 -> 640 | L20: =+H20*C20 -> 1113.6 | M20: =IF(D20=0," ",(I20*C20)) -> 96 | N20: =IF(D20=0," ",(J20*C20)) -> 167.04
A21: =IF(F21<>"",(LARGE(A$4:A20,1)+1),"")
B22: RL 01 - Pitched Roof Build-Up
A23: =IF(F23<>"",(LARGE(A$4:A22,1)+1),"")
A24: 7 | B24: 2mm Standing Seam Roof Finish (Bronze) | C24: 13 | D24: m2 | E24: =G24+H24 -> 49.8 | F24: =E24*C24 -> 647.4 | G24: 20 | H24: 29.8 | I24: =IF(D24=0," ",(G24)*(Details!$C$4+Details!$C$8)) -> 3 | J24: =IF(D24=0," ",(H24)*(Details!$C$6+Details!$C$8)) -> 4.47 | K24: =+G24*C24 -> 260 | L24: =+H24*C24 -> 387.4 | M24: =IF(D24=0," ",(I24*C24)) -> 39 | N24: =IF(D24=0," ",(J24*C24)) -> 58.11
A26: =IF(F26<>"",(LARGE(A$4:A24,1)+1),"") -> 8 | B26: 25x38mm Timber SW Battens | C26: 13 | D26: m2 | E26: =G26+H26 -> 47.9 | F26: =E26*C26 -> 622.7 | G26: 15.5 | H26: 32.4 | I26: =IF(D26=0," ",(G26)*(Details!$C$4+Details!$C$8)) -> 2.325 | J26: =IF(D26=0," ",(H26)*(Details!$C$6+Details!$C$8)) -> 4.86 | K26: =+G26*C26 -> 201.5 | L26: =+H26*C26 -> 421.2 | M26: =IF(D26=0," ",(I26*C26)) -> 30.225 | N26: =IF(D26=0," ",(J26*C26)) -> 63.18
A28: 10 | B28: 18mm Plywood Roof Decking | C28: 13 | D28: m2 | E28: =G28+H28 -> 25.4 | F28: =E28*C28 -> 330.2 | G28: 10 | H28: 15.4 | I28: =IF(D28=0," ",(G28)*(Details!$C$4+Details!$C$8)) -> 1.5 | J28: =IF(D28=0," ",(H28)*(Details!$C$6+Details!$C$8)) -> 2.31 | K28: =+G28*C28 -> 130 | L28: =+H28*C28 -> 200.2 | M28: =IF(D28=0," ",(I28*C28)) -> 19.5 | N28: =IF(D28=0," ",(J28*C28)) -> 30.03
A30: =IF(F30<>"",(LARGE(A$4:A28,1)+1),"") -> 11 | B30: 100mm Loft Roll b/w Joist | C30: 13 | D30: m2 | E30: =G30+H30 -> 21.4 | F30: =E30*C30 -> 278.2 | G30: 8 | H30: 13.4 | I30: =IF(D30=0," ",(G30)*(Details!$C$4+Details!$C$8)) -> 1.2 | J30: =IF(D30=0," ",(H30)*(Details!$C$6+Details!$C$8)) -> 2.01 | K30: =+G30*C30 -> 104 | L30: =+H30*C30 -> 174.2 | M30: =IF(D30=0," ",(I30*C30)) -> 15.6 | N30: =IF(D30=0," ",(J30*C30)) -> 26.13
A32: 12 | B32: 200mm Loft Roll Over Joist | C32: 13 | D32: m2 | E32: =G32+H32 -> 33.3 | F32: =E32*C32 -> 432.9 | G32: 13.5 | H32: 19.8 | I32: =IF(D32=0," ",(G32)*(Details!$C$4+Details!$C$8)) -> 2.025 | J32: =IF(D32=0," ",(H32)*(Details!$C$6+Details!$C$8)) -> 2.97 | K32: =+G32*C32 -> 175.5 | L32: =+H32*C32 -> 257.4 | M32: =IF(D32=0," ",(I32*C32)) -> 26.325 | N32: =IF(D32=0," ",(J32*C32)) -> 38.61
A34: =IF(F34<>"",(LARGE(A$4:A32,1)+1),"") -> 13 | B34: Vapour Control Barrier | C34: 13 | D34: m2 | E34: =G34+H34 -> 8.4 | F34: =E34*C34 -> 109.2 | G34: 3 | H34: 5.4 | I34: =IF(D34=0," ",(G34)*(Details!$C$4+Details!$C$8)) -> 0.45 | J34: =IF(D34=0," ",(H34)*(Details!$C$6+Details!$C$8)) -> 0.81 | K34: =+G34*C34 -> 39 | L34: =+H34*C34 -> 70.2 | M34: =IF(D34=0," ",(I34*C34)) -> 5.85 | N34: =IF(D34=0," ",(J34*C34)) -> 10.53
A36: =IF(F36<>"",(LARGE(A$4:A35,1)+1),"") | B36: SOFFITS AND FASCIAS
A37: =IF(F37<>"",(LARGE(A$4:A36,1)+1),"")
A38: =IF(F38<>"",(LARGE(A$4:A37,1)+1),"") -> 14 | B38: Soffit | C38: 7.4 | D38: m | E38: =G38+H38 -> 8.4 | F38: =E38*C38 -> 62.16 | G38: 3 | H38: 5.4 | I38: =IF(D38=0," ",(G38)*(Details!$C$4+Details!$C$8)) -> 0.45 | J38: =IF(D38=0," ",(H38)*(Details!$C$6+Details!$C$8)) -> 0.81 | K38: =+G38*C38 -> 22.2 | L38: =+H38*C38 -> 39.96 | M38: =IF(D38=0," ",(I38*C38)) -> 3.33 | N38: =IF(D38=0," ",(J38*C38)) -> 5.994
A39: =IF(F39<>"",(LARGE(A$4:A38,1)+1),"") | I39: =IF(D39=0," ",(G39)*(Details!$C$4+Details!$C$8)) | J39: =IF(D39=0," ",(H39)*(Details!$C$6+Details!$C$8))
A40: =IF(F40<>"",(LARGE(A$4:A39,1)+1),"") -> 15 | B40: Fascia | C40: 7.4 | D40: m | E40: =G40+H40 -> 7.8 | F40: £109.20 | G40: 3 | H40: 4.8 | I40: =IF(D40=0," ",(G40)*(Details!$C$4+Details!$C$8)) -> 0.45 | J40: =IF(D40=0," ",(H40)*(Details!$C$6+Details!$C$8)) -> 0.72 | K40: =+G40*C40 -> 22.2 | L40: =+H40*C40 -> 35.52 | M40: =IF(D40=0," ",(I40*C40)) -> 3.33 | N40: =IF(D40=0," ",(J40*C40)) -> 5.328
A41: =IF(F41<>"",(LARGE(A$4:A40,1)+1),"") | I41: =IF(D41=0," ",(G41)*(Details!$C$4+Details!$C$8)) | J41: =IF(D41=0," ",(H41)*(Details!$C$6+Details!$C$8))
A42: =IF(F42<>"",(LARGE(A$4:A41,1)+1),"") | B42: RAINWATER GOODS - UPVC | I42: =IF(D42=0," ",(G42)*(Details!$C$4+Details!$C$8)) | J42: =IF(D42=0," ",(H42)*(Details!$C$6+Details!$C$8))
A43: =IF(F43<>"",(LARGE(A$4:A42,1)+1),"") | I43: =IF(D43=0," ",(G43)*(Details!$C$4+Details!$C$8)) | J43: =IF(D43=0," ",(H43)*(Details!$C$6+Details!$C$8))
A44: =IF(F44<>"",(LARGE(A$4:A43,1)+1),"") -> 16 | B44: (100mm Dia) Half-Round Gutter w/ Clips | C44: 3 | D44: M | E44: =G44+H44 -> 45.3 | F44: £109.20 | G44: 15.5 | H44: 29.8 | I44: =IF(D44=0," ",(G44)*(Details!$C$4+Details!$C$8)) -> 2.325 | J44: =IF(D44=0," ",(H44)*(Details!$C$6+Details!$C$8)) -> 4.47 | K44: =+G44*C44 -> 46.5 | L44: =+H44*C44 -> 89.4 | M44: =IF(D44=0," ",(I44*C44)) -> 6.975 | N44: =IF(D44=0," ",(J44*C44)) -> 13.41
A45: =IF(F45<>"",(LARGE(A$4:A44,1)+1),"") | I45: =IF(D45=0," ",(G45)*(Details!$C$4+Details!$C$8)) | J45: =IF(D45=0," ",(H45)*(Details!$C$6+Details!$C$8)) | N45: =IF(D45=0," ",(J45*C45))
A46: =IF(F46<>"",(LARGE(A$4:A45,1)+1),"") -> 17 | B46: (90mm Dia) Downpipe | C46: 2.44 | D46: M | E46: =G46+H46 -> 40.9 | F46: £109.20 | G46: 14.2 | H46: 26.7 | I46: =IF(D46=0," ",(G46)*(Details!$C$4+Details!$C$8)) -> 2.13 | J46: =IF(D46=0," ",(H46)*(Details!$C$6+Details!$C$8)) -> 4.005 | K46: =+G46*C46 -> 34.648 | L46: =+H46*C46 -> 65.148 | M46: =IF(D46=0," ",(I46*C46)) -> 5.1972 | N46: =IF(D46=0," ",(J46*C46)) -> 9.7722
A47: =IF(F47<>"",(LARGE(A$4:A46,1)+1),"") | I47: =IF(D47=0," ",(G47)*(Details!$C$4+Details!$C$8)) | J47: =IF(D47=0," ",(H47)*(Details!$C$6+Details!$C$8)) | N47: =IF(D47=0," ",(J47*C47))
A48: =IF(F48<>"",(LARGE(A$4:A47,1)+1),"") | B48: LEAD FLASHING | I48: =IF(D48=0," ",(G48)*(Details!$C$4+Details!$C$8)) | J48: =IF(D48=0," ",(H48)*(Details!$C$6+Details!$C$8)) | N48: =IF(D48=0," ",(J48*C48))
A49: =IF(F49<>"",(LARGE(A$4:A48,1)+1),"") | I49: =IF(D49=0," ",(G49)*(Details!$C$4+Details!$C$8)) | J49: =IF(D49=0," ",(H49)*(Details!$C$6+Details!$C$8)) | N49: =IF(D49=0," ",(J49*C49))
A50: 18 | B50: Code 4 Lead Flashing @ Rooflight | C50: 9.89 | D50: m | E50: =G50+H50 -> 7.4 | F50: £109.20 | G50: 3 | H50: 4.4 | I50: =IF(D50=0," ",(G50)*(Details!$C$4+Details!$C$8)) -> 0.45 | J50: =IF(D50=0," ",(H50)*(Details!$C$6+Details!$C$8)) -> 0.66 | K50: =+G50*C50 -> 29.67 | L50: =+H50*C50 -> 43.516 | M50: =IF(D50=0," ",(I50*C50)) -> 4.4505 | N50: =IF(D50=0," ",(J50*C50)) -> 6.5274
A52: 19 | B52: Code 4 Lead Flashing @ Building | C52: 8.26 | D52: m | E52: =G52+H52 -> 7.4 | F52: £109.20 | G52: 3 | H52: 4.4 | I52: =IF(D52=0," ",(G52)*(Details!$C$4+Details!$C$8)) -> 0.45 | J52: =IF(D52=0," ",(H52)*(Details!$C$6+Details!$C$8)) -> 0.66 | K52: =+G52*C52 -> 24.78 | L52: =+H52*C52 -> 36.344 | M52: =IF(D52=0," ",(I52*C52)) -> 3.717 | N52: =IF(D52=0," ",(J52*C52)) -> 5.4516
A53: =IF(F53<>"",(LARGE(A$7:A52,1)+1),"") | I53: =IF(D53=0," ",(G53)*(Details!$C$4+Details!$C$8)) | J53: =IF(D53=0," ",(H53)*(Details!$C$6+Details!$C$8)) | P53: Check
E54: Sub Total | F54: =SUM(F1:F53) -> 8338.76 | J54: =IF(D54=0," ",(G54+H54)*(Details!$C$4+Details!$C$6)) | K54: =SUM(K5:K53) -> 3361.998 | L54: =SUM(L5:L53) -> 5404.488 | M54: =SUM(M5:M53) -> 504.2997 | N54: =SUM(N5:N53) -> 810.6732 | P54: =+F54-K54-L54-N54-M54 -> -1742.6989
A55: =IF(F55<>"",(LARGE(A$7:A54,1)+1),"") | J55: =IF(D55=0," ",(G55+H55)*(Details!$C$4+Details!$C$6))

Sheet Windows, Doors & Rooflights
U1: 1
B2: =+Roof!B2 -> PROJECT: Mr & Mrs Hawkes-Cowands House | R2: UPVC | S2: UPVC
B3: =+Roof!B3 -> DATE: 25TH SEPTEMBER 2025 | R3: Doors | S3: Windows | T3: Rooflights
R4: =IF($R$2="Multiple", "Input", IF($R$2="UPVC",$U$1*750,0) +IF($R$2="Aluminium",$U$1*1250,0) +IF($R$2="Timber",$U$1*1250,0) +IF($R$2="Composite",$U$1*1500,0) +IF($R$2="Crittall",$U$1*2000,0) ) -> 750 | S4: =IF($S$2="Multiple", "Input", IF($S$2="UPVC",$U$1*250,0) +IF($S$2="Aluminium",$U$1*600,0) +IF($S$2="Timber",$U$1*550,0) +IF($S$2="Composite",$U$1*450,0) +IF($S$2="Crittall",$U$1*1250,0) ) -> 250 | T4: 800
R5: =IF($R$2="Multiple", "Input", "") | S5: =IF($S$2="Multiple", "Input", "")
B6: External Windows, Doors and Rooflights | I6: RATES | M6: TOTALS
B8: Description | E8: Quantity | F8: Unit | G8: Rate | H8: Total | I8: Labour | J8: Materials | K8: L Markup | L8: M Markup | M8: Labour | N8: Materials | O8: L Markup | P8: M Markup
C9: Approx. | D9: Approx. | P9: =IF(F9=0," ",(L9*E9))
B13: EXTERNAL DOORS | C13: Width (mm) | D13: Height (mm) | P13: =IF(F13=0," ",(L13*E13))
P14: =IF(F14=0," ",(L14*E14))
A15: 1 | B15: Exterior Door | C15: 1420 | D15: 2225 | E15: 5 | F15: no. | G15: =I15+J15 -> 1225 | H15: =G15*E15 -> 6125 | I15: 280 | J15: 945 | K15: =IF(F15=0," ",(I15)*(Details!$C$4+Details!$C$8)) -> 42 | L15: =IF(F15=0," ",(J15)*(Details!$C$6+Details!$C$8)) -> 141.75 | M15: =+I15*E15 -> 1400 | N15: =+J15*E15 -> 4725 | O15: =IF(F15=0," ",(K15*E15)) -> 210 | P15: =IF(F15=0," ",(L15*E15)) -> 708.75
A17: =IF(F17<>"",(LARGE(A$8:A16,1)+1),"") -> 2 | B17: Interior Door | C17: 685 | D17: 2100 | E17: 4 | F17: no. | G17: =I17+J17 -> 740 | H17: =G17*E17 -> 2960 | I17: 200 | J17: 540 | K17: =IF(F17=0," ",(I17)*(Details!$C$4+Details!$C$8)) -> 30 | L17: =IF(F17=0," ",(J17)*(Details!$C$6+Details!$C$8)) -> 81 | M17: =+I17*E17 -> 800 | N17: =+J17*E17 -> 2160 | O17: =IF(F17=0," ",(K17*E17)) -> 120 | P17: =IF(F17=0," ",(L17*E17)) -> 324
A18: =IF(F18<>"",(LARGE(A$8:A17,1)+1),"")
A19: =IF(F19<>"",(LARGE(A$8:A18,1)+1),"") -> 3 | B19: Interior Door | C19: 760 | D19: 2100 | E19: 3 | F19: no. | G19: =I19+J19 -> 810 | H19: =G19*E19 -> 2430 | I19: 220 | J19: 590 | K19: =IF(F19=0," ",(I19)*(Details!$C$4+Details!$C$8)) -> 33 | L19: =IF(F19=0," ",(J19)*(Details!$C$6+Details!$C$8)) -> 88.5 | M19: =+I19*E19 -> 660 | N19: =+J19*E19 -> 1770 | O19: =IF(F19=0," ",(K19*E19)) -> 99 | P19: =IF(F19=0," ",(L19*E19)) -> 265.5
A20: =IF(F20<>"",(LARGE(A$8:A19,1)+1),"")
A21: 4 | B21: Interior Door | C21: 825 | D21: 2100 | E21: 1 | F21: no. | G21: =I21+J21 -> 850 | H21: =G21*E21 -> 850 | I21: 220 | J21: 630 | K21: =IF(F21=0," ",(I21)*(Details!$C$4+Details!$C$8)) -> 33 | L21: =IF(F21=0," ",(J21)*(Details!$C$6+Details!$C$8)) -> 94.5 | M21: =+I21*E21 -> 220 | N21: =+J21*E21 -> 630 | O21: =IF(F21=0," ",(K21*E21)) -> 33 | P21: =IF(F21=0," ",(L21*E21)) -> 94.5
A23: 5 | B23: Interior Door (Double Door) | C23: 1065 | D23: 2100 | E23: 1 | F23: no. | G23: =I23+J23 -> 1300 | H23: =G23*E23 -> 1300 | I23: 280 | J23: 1020 | K23: =IF(F23=0," ",(I23)*(Details!$C$4+Details!$C$8)) -> 42 | L23: =IF(F23=0," ",(J23)*(Details!$C$6+Details!$C$8)) -> 153 | M23: =+I23*E23 -> 280 | N23: =+J23*E23 -> 1020 | O23: =IF(F23=0," ",(K23*E23)) -> 42 | P23: =IF(F23=0," ",(L23*E23)) -> 153
A25: 6 | B25: Interior Door (Pocket Door) | C25: 760 | D25: 2100 | E25: 1 | F25: no. | G25: =I25+J25 -> 1200 | H25: =G25*E25 -> 1200 | I25: 260 | J25: 940 | K25: =IF(F25=0," ",(I25)*(Details!$C$4+Details!$C$8)) -> 39 | L25: =IF(F25=0," ",(J25)*(Details!$C$6+Details!$C$8)) -> 141 | M25: =+I25*E25 -> 260 | N25: =+J25*E25 -> 940 | O25: =IF(F25=0," ",(K25*E25)) -> 39 | P25: =IF(F25=0," ",(L25*E25)) -> 141
A27: =IF(F27<>"",(LARGE(A$8:A26,1)+1),"")
A28: =IF(F28<>"",(LARGE(A$8:A27,1)+1),"") | B28: ROOFLIGHTS | C28: Width (mm) | D28: Length (mm) | K28: =IF(F28=0," ",(I28)*(Details!$C$4+Details!$C$8)) | L28: =IF(F28=0," ",(J28)*(Details!$C$6+Details!$C$8)) | O28: =IF(F28=0," ",(K28*E28)) | P28: =IF(F28=0," ",(L28*E28))
A29: =IF(F29<>"",(LARGE(A$8:A28,1)+1),"")
A30: =IF(F30<>"",(LARGE(A$8:A29,1)+1),"") -> 7 | B30: Double Glazed Roof Light | C30: 1230 | D30: 3800 | E30: 1 | F30: no. | G30: =I30+J30 -> 2280 | H30: =G30*E30 -> 2280 | I30: 300 | J30: 1980 | K30: =IF(F30=0," ",(I30)*(Details!$C$4+Details!$C$8)) -> 45 | L30: =IF(F30=0," ",(J30)*(Details!$C$6+Details!$C$8)) -> 297 | M30: =+I30*E30 -> 300 | N30: =+J30*E30 -> 1980 | O30: =IF(F30=0," ",(K30*E30)) -> 45 | P30: =IF(F30=0," ",(L30*E30)) -> 297
A31: =IF(F31<>"",(LARGE(A$8:A30,1)+1),"")
A32: =IF(F32<>"",(LARGE(A$8:A31,1)+1),"") | R32: =+H34-M34-N34-P34-O34 -> -2571.75
A33: =IF(F33<>"",(LARGE(A$8:A32,1)+1),"") | K33: =IF(F33=0," ",(I33)*(Details!$C$4+Details!$C$8)) | L33: =IF(F33=0," ",(J33)*(Details!$C$6+Details!$C$8))
A34: =IF(F34=0," ",(LARGE(A$13:A33,1)+1)) | G34: Sub Total | H34: =SUM(H1:H33) -> 17145 | L34: =IF(F34=0," ",(I34+J34)*(Details!$C$4+Details!$C$6)) | M34: =SUM(M4:M33) -> 3920 | N34: =SUM(N4:N33) -> 13225 | O34: =SUM(O4:O33) -> 588 | P34: =SUM(P9:P33) -> 1983.75
L35: =IF(F35=0," ",(I35+J35)*(Details!$C$4+Details!$C$6))

Sheet Partitions
B2: =+'Qual, Excl & Assum'!B2 -> PROJECT: Mr & Mrs Hawkes-Cowands House
B3: =+'Qual, Excl & Assum'!B3 -> DATE: 25TH SEPTEMBER 2025
B5: Internal Walls and Partitions | G5: RATES | K5: TOTALS
B7: Description | C7: Quantity | D7: Unit | E7: Rate | F7: Total | G7: Labour | H7: Materials | I7: L Markup | J7: M Markup | K7: Labour | L7: Materials | M7: L Markup | N7: M Markup
N8: =IF(D8=0," ",(J8*C8))
B9: STUDWORK PARTITIONS
A11: 1 | B11: WL-INT01 - Internal Timber Wall (2450mm H)
A13: 2 | B13: 89x38mm Carcass Timber Stud Wall @ 400mm Ctrs | C13: 12.25 | D13: m2 | E13: =G13+H13 -> 39.9 | F13: =E13*C13 -> 488.775 | G13: 13.4 | H13: 26.5 | I13: =IF(D13=0," ",(G13)*(Details!$C$4+Details!$C$8)) -> 2.01 | J13: =IF(D13=0," ",(H13)*(Details!$C$6+Details!$C$8)) -> 3.975 | K13: =+G13*C13 -> 164.15 | L13: =+H13*C13 -> 324.625 | M13: =IF(D13=0," ",(I13*C13)) -> 24.6225 | N13: =IF(D13=0," ",(J13*C13)) -> 48.69375
A15: 3 | B15: Timber Head Plate | C15: 10 | D15: m | E15: =G15+H15 -> 22.4 | F15: =E15*C15 -> 224 | G15: 9 | H15: 13.4 | I15: =IF(D15=0," ",(G15)*(Details!$C$4+Details!$C$8)) -> 1.35 | J15: =IF(D15=0," ",(H15)*(Details!$C$6+Details!$C$8)) -> 2.01 | K15: =+G15*C15 -> 90 | L15: =+H15*C15 -> 134 | M15: =IF(D15=0," ",(I15*C15)) -> 13.5 | N15: =IF(D15=0," ",(J15*C15)) -> 20.1
A17: =IF(F17<>"",(LARGE(A$7:A15,1)+1),"") -> 4 | B17: Timber Sole Plate | C17: 5 | D17: m | E17: =G17+H17 -> 22.4 | F17: =E17*C17 -> 112 | G17: 9 | H17: 13.4 | I17: =IF(D17=0," ",(G17)*(Details!$C$4+Details!$C$8)) -> 1.35 | J17: =IF(D17=0," ",(H17)*(Details!$C$6+Details!$C$8)) -> 2.01 | K17: =+G17*C17 -> 45 | L17: =+H17*C17 -> 67 | M17: =IF(D17=0," ",(I17*C17)) -> 6.75 | N17: =IF(D17=0," ",(J17*C17)) -> 10.05
A19: =IF(F19<>"",(LARGE(A$7:A17,1)+1),"") -> 5 | B19: 50mm Rockwool Acoustic Insulation b/w Stud | C19: 12.25 | D19: m2 | E19: =G19+H19 -> 19.4 | F19: =E19*C19 -> 237.65 | G19: 8 | H19: 11.4 | I19: =IF(D19=0," ",(G19)*(Details!$C$4+Details!$C$8)) -> 1.2 | J19: =IF(D19=0," ",(H19)*(Details!$C$6+Details!$C$8)) -> 1.71 | K19: =+G19*C19 -> 98 | L19: =+H19*C19 -> 139.65 | M19: =IF(D19=0," ",(I19*C19)) -> 14.7 | N19: =IF(D19=0," ",(J19*C19)) -> 20.9475
A20: =IF(F20<>"",(LARGE(A$7:A19,1)+1),"")
A21: =IF(F21<>"",(LARGE(A$7:A20,1)+1),"") | B21: WL-INT02 - Internal Timber Wall (2450mm H)
A23: =IF(F23<>"",(LARGE(A$7:A21,1)+1),"") -> 6 | B23: 89x38mm Carcass Timber Stud Wall @ 400mm Ctrs | C23: 9.8 | D23: m2 | E23: =G23+H23 -> 39.9 | F23: =E23*C23 -> 391.02 | G23: 13.4 | H23: 26.5 | I23: =IF(D23=0," ",(G23)*(Details!$C$4+Details!$C$8)) -> 2.01 | J23: =IF(D23=0," ",(H23)*(Details!$C$6+Details!$C$8)) -> 3.975 | K23: =+G23*C23 -> 131.32 | L23: =+H23*C23 -> 259.7 | M23: =IF(D23=0," ",(I23*C23)) -> 19.698 | N23: =IF(D23=0," ",(J23*C23)) -> 38.955
A25: =IF(F25<>"",(LARGE(A$7:A23,1)+1),"") -> 7 | B25: Timber Head Plate | C25: 8 | D25: m | E25: =G25+H25 -> 22.4 | F25: =E25*C25 -> 179.2 | G25: 9 | H25: 13.4 | I25: =IF(D25=0," ",(G25)*(Details!$C$4+Details!$C$8)) -> 1.35 | J25: =IF(D25=0," ",(H25)*(Details!$C$6+Details!$C$8)) -> 2.01 | K25: =+G25*C25 -> 72 | L25: =+H25*C25 -> 107.2 | M25: =IF(D25=0," ",(I25*C25)) -> 10.8 | N25: =IF(D25=0," ",(J25*C25)) -> 16.08
A27: =IF(F27<>"",(LARGE(A$7:A25,1)+1),"") -> 8 | B27: Timber Sole Plate | C27: 4 | D27: m | E27: =G27+H27 -> 22.4 | F27: =E27*C27 -> 89.6 | G27: 9 | H27: 13.4 | I27: =IF(D27=0," ",(G27)*(Details!$C$4+Details!$C$8)) -> 1.35 | J27: =IF(D27=0," ",(H27)*(Details!$C$6+Details!$C$8)) -> 2.01 | K27: =+G27*C27 -> 36 | L27: =+H27*C27 -> 53.6 | M27: =IF(D27=0," ",(I27*C27)) -> 5.4 | N27: =IF(D27=0," ",(J27*C27)) -> 8.04
A29: =IF(F29<>"",(LARGE(A$7:A27,1)+1),"") -> 9 | B29: 50mm Rockwool Acoustic Insulation b/w Stud | C29: 9.8 | D29: m2 | E29: =G29+H29 -> 19.4 | F29: =E29*C29 -> 190.12 | G29: 8 | H29: 11.4 | I29: =IF(D29=0," ",(G29)*(Details!$C$4+Details!$C$8)) -> 1.2 | J29: =IF(D29=0," ",(H29)*(Details!$C$6+Details!$C$8)) -> 1.71 | K29: =+G29*C29 -> 78.4 | L29: =+H29*C29 -> 111.72 | M29: =IF(D29=0," ",(I29*C29)) -> 11.76 | N29: =IF(D29=0," ",(J29*C29)) -> 16.758
A31: =IF(F31<>"",(LARGE(A$7:A29,1)+1),"") -> 10 | B31: 9mm OSB Sheathing Board | C31: 9.8 | D31: m2 | E31: =G31+H31 -> 23.2 | F31: =E31*C31 -> 227.36 | G31: 10.8 | H31: 12.4 | I31: =IF(D31=0," ",(G31)*(Details!$C$4+Details!$C$8)) -> 1.62 | J31: =IF(D31=0," ",(H31)*(Details!$C$6+Details!$C$8)) -> 1.86 | K31: =+G31*C31 -> 105.84 | L31: =+H31*C31 -> 121.52 | M31: =IF(D31=0," ",(I31*C31)) -> 15.876 | N31: =IF(D31=0," ",(J31*C31)) -> 18.228
A32: =IF(F32<>"",(LARGE(A$7:A31,1)+1),"")
A33: =IF(F33<>"",(LARGE(A$7:A32,1)+1),"") | B33: WL-INT03 - Internal Timber Wall (2450mm H)
A35: =IF(F35<>"",(LARGE(A$7:A33,1)+1),"") -> 11 | B35: 89x38mm Carcass Timber Stud Wall @ 400mm Ctrs | C35: 31.85 | D35: m2 | E35: =G35+H35 -> 39.9 | F35: =E35*C35 -> 1270.815 | G35: 13.4 | H35: 26.5 | I35: =IF(D35=0," ",(G35)*(Details!$C$4+Details!$C$8)) -> 2.01 | J35: =IF(D35=0," ",(H35)*(Details!$C$6+Details!$C$8)) -> 3.975 | K35: =+G35*C35 -> 426.79 | L35: =+H35*C35 -> 844.025 | M35: =IF(D35=0," ",(I35*C35)) -> 64.0185 | N35: =IF(D35=0," ",(J35*C35)) -> 126.60375
A37: =IF(F37<>"",(LARGE(A$7:A35,1)+1),"") -> 12 | B37: Timber Head Plate | C37: 26 | D37: m | E37: =G37+H37 -> 22.4 | F37: =E37*C37 -> 582.4 | G37: 9 | H37: 13.4 | I37: =IF(D37=0," ",(G37)*(Details!$C$4+Details!$C$8)) -> 1.35 | J37: =IF(D37=0," ",(H37)*(Details!$C$6+Details!$C$8)) -> 2.01 | K37: =+G37*C37 -> 234 | L37: =+H37*C37 -> 348.4 | M37: =IF(D37=0," ",(I37*C37)) -> 35.1 | N37: =IF(D37=0," ",(J37*C37)) -> 52.26
A39: =IF(F39<>"",(LARGE(A$7:A37,1)+1),"") -> 13 | B39: Timber Sole Plate | C39: 13 | D39: m | E39: =G39+H39 -> 22.4 | F39: =E39*C39 -> 291.2 | G39: 9 | H39: 13.4 | I39: =IF(D39=0," ",(G39)*(Details!$C$4+Details!$C$8)) -> 1.35 | J39: =IF(D39=0," ",(H39)*(Details!$C$6+Details!$C$8)) -> 2.01 | K39: =+G39*C39 -> 117 | L39: =+H39*C39 -> 174.2 | M39: =IF(D39=0," ",(I39*C39)) -> 17.55 | N39: =IF(D39=0," ",(J39*C39)) -> 26.13
A41: =IF(F41<>"",(LARGE(A$7:A39,1)+1),"") -> 14 | B41: 50mm Rockwool Acoustic Insulation b/w Stud | C41: 31.85 | D41: m2 | E41: =G41+H41 -> 19.4 | F41: =E41*C41 -> 617.89 | G41: 8 | H41: 11.4 | I41: =IF(D41=0," ",(G41)*(Details!$C$4+Details!$C$8)) -> 1.2 | J41: =IF(D41=0," ",(H41)*(Details!$C$6+Details!$C$8)) -> 1.71 | K41: =+G41*C41 -> 254.8 | L41: =+H41*C41 -> 363.09 | M41: =IF(D41=0," ",(I41*C41)) -> 38.22 | N41: =IF(D41=0," ",(J41*C41)) -> 54.4635
A43: =IF(F43<>"",(LARGE(A$7:A41,1)+1),"") -> 15 | B43: 9mm OSB Sheathing Board On BS | C43: 31.85 | D43: m2 | E43: =G43+H43 -> 23.2 | F43: =E43*C43 -> 738.92 | G43: 10.8 | H43: 12.4 | I43: =IF(D43=0," ",(G43)*(Details!$C$4+Details!$C$8)) -> 1.62 | J43: =IF(D43=0," ",(H43)*(Details!$C$6+Details!$C$8)) -> 1.86 | K43: =+G43*C43 -> 343.98 | L43: =+H43*C43 -> 394.94 | M43: =IF(D43=0," ",(I43*C43)) -> 51.597 | N43: =IF(D43=0," ",(J43*C43)) -> 59.241
A44: =IF(F44<>"",(LARGE(A$7:A43,1)+1),"")
A45: =IF(F45<>"",(LARGE(A$7:A44,1)+1),"") | B45: WL-INT07 - Internal Timber Wall (2450mm H)
A47: =IF(F47<>"",(LARGE(A$7:A45,1)+1),"") -> 16 | B47: 50x38mm Timber Stud Wall @ 400mm Ctrs | C47: 2.94 | D47: m2 | E47: =G47+H47 -> 35.2 | F47: =E47*C47 -> 103.488 | G47: 11.8 | H47: 23.4 | I47: =IF(D47=0," ",(G47)*(Details!$C$4+Details!$C$8)) -> 1.77 | J47: =IF(D47=0," ",(H47)*(Details!$C$6+Details!$C$8)) -> 3.51 | K47: =+G47*C47 -> 34.692 | L47: =+H47*C47 -> 68.796 | M47: =IF(D47=0," ",(I47*C47)) -> 5.2038 | N47: =IF(D47=0," ",(J47*C47)) -> 10.3194
A49: =IF(F49<>"",(LARGE(A$7:A47,1)+1),"") -> 17 | B49: Timber Head Plate | C49: 2.4 | D49: m | E49: =G49+H49 -> 19.8 | F49: =E49*C49 -> 47.52 | G49: 8 | H49: 11.8 | I49: =IF(D49=0," ",(G49)*(Details!$C$4+Details!$C$8)) -> 1.2 | J49: =IF(D49=0," ",(H49)*(Details!$C$6+Details!$C$8)) -> 1.77 | K49: =+G49*C49 -> 19.2 | L49: =+H49*C49 -> 28.32 | M49: =IF(D49=0," ",(I49*C49)) -> 2.88 | N49: =IF(D49=0," ",(J49*C49)) -> 4.248
A51: =IF(F51<>"",(LARGE(A$7:A49,1)+1),"") -> 18 | B51: Timber Sole Plate | C51: 1.2 | D51: m | E51: =G51+H51 -> 19.2 | F51: =E51*C51 -> 23.04 | G51: 8 | H51: 11.2 | I51: =IF(D51=0," ",(G51)*(Details!$C$4+Details!$C$8)) -> 1.2 | J51: =IF(D51=0," ",(H51)*(Details!$C$6+Details!$C$8)) -> 1.68 | K51: =+G51*C51 -> 9.6 | L51: =+H51*C51 -> 13.44 | M51: =IF(D51=0," ",(I51*C51)) -> 1.44 | N51: =IF(D51=0," ",(J51*C51)) -> 2.016
A53: =IF(F53<>"",(LARGE(A$7:A51,1)+1),"") -> 19 | B53: 30mm Rockwool Acoustic Insulation b/w Stud | C53: 2.94 | D53: m2 | E53: =G53+H53 -> 19.2 | F53: =E53*C53 -> 56.448 | G53: 8 | H53: 11.2 | I53: =IF(D53=0," ",(G53)*(Details!$C$4+Details!$C$8)) -> 1.2 | J53: =IF(D53=0," ",(H53)*(Details!$C$6+Details!$C$8)) -> 1.68 | K53: =+G53*C53 -> 23.52 | L53: =+H53*C53 -> 32.928 | M53: =IF(D53=0," ",(I53*C53)) -> 3.528 | N53: =IF(D53=0," ",(J53*C53)) -> 4.9392
A54: =IF(F54<>"",(LARGE(A$7:A53,1)+1),"")
A55: =IF(F55<>"",(LARGE(A$7:A54,1)+1),"") | B55: MASONRY WALL
