Workbook

Sheet Cover
B24: ESTIMATE
B31: FOR
B38: PROPOSED TWO STOREY REAR EXTENSION
B47: PROJECT: Sample for Windows, Doors & Rooflights
B57: DATE:

Sheet Qual, Excl & Assum
B2: =Cover!B47 -> PROJECT: Sample for Windows, Doors & Rooflights
B3: =Cover!B57 -> DATE:
B6: QUALIFICATIONS, ASSUMPTIONS & EXCLUSIONS:
A8: 1 | B8: Qualifications:-
A10: 1.1 | B10: Prices exclude VAT
A11: =+A10+0.1 -> 1.2 | B11: Pre-start meeting and site investigation will be required before commencement on site
A12: =+A11+0.1 -> 1.3 | B12: Provisional sums and PC Sums mentioned within the estimate are subject to re-measure and re-price
A13: =+A12+0.1 -> 1.4 | B13: Changes to drawings, design or specification which deviate from the information used as stated below may be subject to further cost
A14: =+A13+0.1 -> 1.5 | B14: Site inspections to be carried out, this may cause additions/omissions to the tender documents
A15: =+A14+0.1 -> 1.6 | B15: All quantities are re-measurable and used for indicative purposes only and are subject to re-measure once the project has commenced
A16: =+A15+0.1 -> 1.7 | B16: All M&E is provisional sum (as no detailed design has been provided) and a detailed design will be required in order to finalise costs
A17: =+A16+0.1 -> 1.8 | B17: We have assumed free unfettered access and normal working hours to the site
A18: =+A17+0.1 -> 1.9 | B18: The prices are valid for 8 weeks and we assume that works will commence within 12 weeks from the date of this estimate
A19: 1.1 | B19: No level surveys have been provided so all excavation quantities are provisional
A20: 1.11 | B20: There may be some items where alternative specification is used and these may differ to the specification provided
A21: 1.12 | B21: Any items not mentioned within this estimate have been specifically excluded and will be subject to further costs
A23: 2 | B23: The following items are to be organised and paid for by the client and are excluded from the total cost:
A25: 2.1 | B25: Building insurance
A26: 2.2 | B26: Utility and council tax bills
A27: 2.3 | B27: Party Wall costs and complying with conditions
A28: 2.4 | B28: Building control and costs
A29: 2.5 | B29: Structural engineers' and building regulation details
A30: 2.6 | B30: Specialist surveys
A31: 2.7 | B31: Topographical surveys
A32: 2.8 | B32: CCTV drainage surveys
... A70: 4.16 | B70: A/C

Sheet Documents
B2: =+Cover!B47 -> PROJECT: Sample for Windows, Doors & Rooflights
B3: =+Cover!B57 -> DATE:
B5: INFORMATION USED
B7: The information used in the preparation of this estimate are as listed below:
B9: Document reference:
B11: HR91-02-1001
B12: HR91-02-1002
B13: HR91-02-1003
B14: HR91-02-1004
B15: HR91-02-1005
B16: PHOTOS

Sheet Summary
B2: =+Documents!B2 -> PROJECT: Sample for Windows, Doors & Rooflights
B3: =+Documents!B3 -> DATE:
F4: TOTALS
B5: SUMMARY | F5: LABOUR | G5: MATERIALS | H5: L MARKUP | I5: M MARKUP | K5: Check | L5: {=CheckMissingTabs(B7:B8)} -> #NAME?
B7: Windows, Doors & Rooflights | D7: =+'Windows, Doors & Rooflights'!H44 -> 3570.75 | F7: =+'Windows, Doors & Rooflights'!M44 -> 3105 | G7: =+'Windows, Doors & Rooflights'!N44 -> 0 | H7: =+'Windows, Doors & Rooflights'!O44 -> 465.75 | I7: =+'Windows, Doors & Rooflights'!P44 -> 0 | K7: =+F7+G7+I7+H7-D7 -> 0
B10: SUB TOTAL | D10: =SUM(D3:D9) -> 3570.75 | F10: =SUM(F6:F8) -> 3105 | G10: =SUM(G6:G9) -> 0 | H10: =SUM(H6:H9) -> 465.75 | I10: =SUM(I6:I9) -> 0 | K10: =+F10+G10+I10+H10-D10 -> 0
B12: Preliminaries | D12: =+Preliminaries!F65 -> 0
B14: TOTAL COST (EXCLUDING VAT) | D14: =+D12+D10 -> 3570.75
B16: Anticipated Number of Weeks | C16: =+Preliminaries!J4 -> 0 | D16: Weeks

Sheet Windows, Doors & Rooflights
U1: 1
B2: =+#REF! -> #REF! | R2: UPVC | S2: UPVC
B3: =+#REF! -> #REF! | R3: Doors | S3: Windows | T3: Rooflights
R4: =IF($R$2="Multiple", "Input", IF($R$2="UPVC",$U$1*750,0) +IF($R$2="Aluminium",$U$1*1250,0) +IF($R$2="Timber",$U$1*1250,0) +IF($R$2="Composite",$U$1*1500,0) +IF($R$2="Crittall",$U$1*2000,0) ) -> 750 | S4: =IF($S$2="Multiple", "Input", IF($S$2="UPVC",$U$1*250,0) +IF($S$2="Aluminium",$U$1*600,0) +IF($S$2="Timber",$U$1*550,0) +IF($S$2="Composite",$U$1*450,0) +IF($S$2="Crittall",$U$1*1250,0) ) -> 250 | T4: 800
R5: =IF($R$2="Multiple", "Input", "") | S5: =IF($S$2="Multiple", "Input", "")
B6: External Windows, Doors and Rooflights | I6: RATES | M6: TOTALS
B8: Description | E8: Quantity | F8: Unit | G8: Rate | H8: Total | I8: Labour | J8: Materials | K8: L Markup | L8: M Markup | M8: Labour | N8: Materials | O8: L Markup | P8: M Markup
C9: Approx. | D9: Approx. | P9: =IF(F9=0," ",(L9*E9))
B11: *ALL WINDOWS, DOORS AND ROOFLIGHTS ARE CLIENT SUPPLY, WE HAVE ALLOWED FOR INSTALLATION ONLY)
B13: EXTERNAL DOORS | C13: Width (mm) | D13: Height (mm) | P13: =IF(F13=0," ",(L13*E13))
P14: =IF(F14=0," ",(L14*E14))
A15: 1 | B15: Exterior Door | C15: 1450 | D15: 2200 | E15: 1 | F15: no. | G15: =I15+J15+L15+K15 -> 331.2 | H15: =G15*E15 -> 331.2 | I15: 288 | K15: =IF(F15=0," ",(I15)*(Details!$C$4+Details!$C$8)) -> 43.2 | L15: =IF(F15=0," ",(J15)*(Details!$C$6+Details!$C$8)) -> 0 | M15: =+I15*E15 -> 288 | N15: =+J15*E15 -> 0 | O15: =IF(F15=0," ",(K15*E15)) -> 43.2 | P15: =IF(F15=0," ",(L15*E15)) -> 0
A17: =IF(F17<>"",(LARGE(A$8:A16,1)+1),"") -> 2 | B17: Exterior Door | C17: 760 | D17: 2050 | E17: 1 | F17: no. | G17: =I17+J17+L17+K17 -> 257.6 | H17: =G17*E17 -> 257.6 | I17: 224 | K17: =IF(F17=0," ",(I17)*(Details!$C$4+Details!$C$8)) -> 33.6 | L17: =IF(F17=0," ",(J17)*(Details!$C$6+Details!$C$8)) -> 0 | M17: =+I17*E17 -> 224 | N17: =+J17*E17 -> 0 | O17: =IF(F17=0," ",(K17*E17)) -> 33.6 | P17: =IF(F17=0," ",(L17*E17)) -> 0
A18: =IF(F18<>"",(LARGE(A$8:A17,1)+1),"")
A19: =IF(F19<>"",(LARGE(A$8:A18,1)+1),"") -> 3 | B19: Exterior Door (Tripple Sliding) | C19: 7000 | D19: 2700 | E19: 1 | F19: no. | G19: =I19+J19+L19+K19 -> 534.75 | H19: =G19*E19 -> 534.75 | I19: 465 | K19: =IF(F19=0," ",(I19)*(Details!$C$4+Details!$C$8)) -> 69.75 | L19: =IF(F19=0," ",(J19)*(Details!$C$6+Details!$C$8)) -> 0 | M19: =+I19*E19 -> 465 | N19: =+J19*E19 -> 0 | O19: =IF(F19=0," ",(K19*E19)) -> 69.75 | P19: =IF(F19=0," ",(L19*E19)) -> 0
A20: =IF(F20<>"",(LARGE(A$8:A19,1)+1),"")
A21: =IF(F21<>"",(LARGE(A$8:A20,1)+1),"")
A22: =IF(F22<>"",(LARGE(A$8:A21,1)+1),"")
A23: =IF(F23<>"",(LARGE(A$8:A22,1)+1),"") | B23: EXTERNAL WINDOWS | C23: Width (mm) | D23: Height (mm) | K23: =IF(F23=0," ",(I23)*(Details!$C$4+Details!$C$8)) | L23: =IF(F23=0," ",(J23)*(Details!$C$6+Details!$C$8)) | O23: =IF(F23=0," ",(K23*E23)) | P23: =IF(F23=0," ",(L23*E23))
A24: =IF(F24<>"",(LARGE(A$8:A23,1)+1),"")
A25: =IF(F25<>"",(LARGE(A$8:A24,1)+1),"") -> 4 | B25: Exterior Window | C25: 2300 | D25: 1100 | E25: 1 | F25: no. | G25: =I25+J25+L25+K25 -> 293.25 | H25: =G25*E25 -> 293.25 | I25: 255 | K25: =IF(F25=0," ",(I25)*(Details!$C$4+Details!$C$8)) -> 38.25 | L25: =IF(F25=0," ",(J25)*(Details!$C$6+Details!$C$8)) -> 0 | M25: =+I25*E25 -> 255 | N25: =+J25*E25 -> 0 | O25: =IF(F25=0," ",(K25*E25)) -> 38.25 | P25: =IF(F25=0," ",(L25*E25)) -> 0
A26: =IF(F26<>"",(LARGE(A$8:A25,1)+1),"")
A27: =IF(F27<>"",(LARGE(A$8:A26,1)+1),"") -> 5 | B27: Exterior Window | C27: 600 | D27: 1300 | E27: 1 | F27: no. | G27: =I27+J27+L27+K27 -> 213.9 | H27: =G27*E27 -> 213.9 | I27: 186 | K27: =IF(F27=0," ",(I27)*(Details!$C$4+Details!$C$8)) -> 27.9 | L27: =IF(F27=0," ",(J27)*(Details!$C$6+Details!$C$8)) -> 0 | M27: =+I27*E27 -> 186 | N27: =+J27*E27 -> 0 | O27: =IF(F27=0," ",(K27*E27)) -> 27.9 | P27: =IF(F27=0," ",(L27*E27)) -> 0
A28: =IF(F28<>"",(LARGE(A$8:A27,1)+1),"")
A29: =IF(F29<>"",(LARGE(A$8:A28,1)+1),"") -> 6 | B29: Exterior Window | C29: 950 | D29: 1450 | E29: 2 | F29: no. | G29: =I29+J29+L29+K29 -> 228.275 | H29: =G29*E29 -> 456.55 | I29: 198.5 | K29: =IF(F29=0," ",(I29)*(Details!$C$4+Details!$C$8)) -> 29.775 | L29: =IF(F29=0," ",(J29)*(Details!$C$6+Details!$C$8)) -> 0 | M29: =+I29*E29 -> 397 | N29: =+J29*E29 -> 0 | O29: =IF(F29=0," ",(K29*E29)) -> 59.55 | P29: =IF(F29=0," ",(L29*E29)) -> 0
A30: =IF(F30<>"",(LARGE(A$8:A29,1)+1),"")
A31: =IF(F31<>"",(LARGE(A$8:A30,1)+1),"") -> 7 | B31: Exterior Window | C31: 900 | D31: 1200 | E31: 2 | F31: no. | G31: =I31+J31+L31+K31 -> 223.675 | H31: =G31*E31 -> 447.35 | I31: 194.5 | K31: =IF(F31=0," ",(I31)*(Details!$C$4+Details!$C$8)) -> 29.175 | L31: =IF(F31=0," ",(J31)*(Details!$C$6+Details!$C$8)) -> 0 | M31: =+I31*E31 -> 389 | N31: =+J31*E31 -> 0 | O31: =IF(F31=0," ",(K31*E31)) -> 58.35 | P31: =IF(F31=0," ",(L31*E31)) -> 0
A32: =IF(F32<>"",(LARGE(A$8:A31,1)+1),"")
A33: =IF(F33<>"",(LARGE(A$8:A32,1)+1),"") -> 8 | B33: Exterior Window | C33: 2400 | D33: 1200 | E33: 2 | F33: no. | G33: =I33+J33+L33+K33 -> 294.4 | H33: =G33*E33 -> 588.8 | I33: 256 | K33: =IF(F33=0," ",(I33)*(Details!$C$4+Details!$C$8)) -> 38.4 | L33: =IF(F33=0," ",(J33)*(Details!$C$6+Details!$C$8)) -> 0 | M33: =+I33*E33 -> 512 | N33: =+J33*E33 -> 0 | O33: =IF(F33=0," ",(K33*E33)) -> 76.8 | P33: =IF(F33=0," ",(L33*E33)) -> 0
A34: =IF(F34<>"",(LARGE(A$8:A33,1)+1),"")
A35: =IF(F35<>"",(LARGE(A$8:A34,1)+1),"") -> 9 | B35: Exterior Window | C35: 1800 | D35: 1200 | E35: 1 | F35: no. | G35: =I35+J35+L35+K35 -> 257.6 | H35: =G35*E35 -> 257.6 | I35: 224 | K35: =IF(F35=0," ",(I35)*(Details!$C$4+Details!$C$8)) -> 33.6 | L35: =IF(F35=0," ",(J35)*(Details!$C$6+Details!$C$8)) -> 0 | M35: =+I35*E35 -> 224 | N35: =+J35*E35 -> 0 | O35: =IF(F35=0," ",(K35*E35)) -> 33.6 | P35: =IF(F35=0," ",(L35*E35)) -> 0
A36: =IF(F36<>"",(LARGE(A$8:A35,1)+1),"")
A37: =IF(F37<>"",(LARGE(A$8:A36,1)+1),"")
A38: =IF(F38<>"",(LARGE(A$8:A37,1)+1),"") | B38: ROOFLIGHTS | C38: Width (mm) | D38: Length (mm) | K38: =IF(F38=0," ",(I38)*(Details!$C$4+Details!$C$8)) | L38: =IF(F38=0," ",(J38)*(Details!$C$6+Details!$C$8)) | O38: =IF(F38=0," ",(K38*E38)) | P38: =IF(F38=0," ",(L38*E38))
A39: =IF(F39<>"",(LARGE(A$8:A38,1)+1),"")
A40: =IF(F40<>"",(LARGE(A$8:A39,1)+1),"") -> 10 | B40: Double Glazed W/ Toughened Safety Glass | C40: 2400 | D40: 2 | E40: 1 | F40: no. | G40: =I40+J40+L40+K40 -> 189.75 | H40: =G40*E40 -> 189.75 | I40: 165 | K40: =IF(F40=0," ",(I40)*(Details!$C$4+Details!$C$8)) -> 24.75 | L40: =IF(F40=0," ",(J40)*(Details!$C$6+Details!$C$8)) -> 0 | M40: =+I40*E40 -> 165 | N40: =+J40*E40 -> 0 | O40: =IF(F40=0," ",(K40*E40)) -> 24.75 | P40: =IF(F40=0," ",(L40*E40)) -> 0
A41: =IF(F41<>"",(LARGE(A$8:A40,1)+1),"")
A42: =IF(F42<>"",(LARGE(A$8:A41,1)+1),"") | R42: =+H44-M44-N44-P44-O44 -> -5.1159077e-13
A43: =IF(F43<>"",(LARGE(A$8:A42,1)+1),"") | K43: =IF(F43=0," ",(I43)*(Details!$C$4+Details!$C$8)) | L43: =IF(F43=0," ",(J43)*(Details!$C$6+Details!$C$8))
A44: =IF(F44=0," ",(LARGE(A$13:A43,1)+1)) | G44: Sub Total | H44: =SUM(H1:H43) -> 3570.75 | L44: =IF(F44=0," ",(I44+J44)*(Details!$C$4+Details!$C$6)) | M44: =SUM(M4:M43) -> 3105 | N44: =SUM(N4:N43) -> 0 | O44: =SUM(O4:O43) -> 465.75 | P44: =SUM(P9:P43) -> 0
...

Sheet Preliminaries
B2: =+'Qual, Excl & Assum'!B2 -> PROJECT: Sample for Windows, Doors & Rooflights
B3: =+'Qual, Excl & Assum'!B3 -> DATE:
B5: Preliminaries
K6: 1
B7: Description | C7: Quantity | D7: Unit | E7: Rate | F7: Total | G7: Plant | H7: Markup
A9: 1 | B9: Site setup | C9: 1 | D9: Item | E9: 0 | F9: =E9*C9 -> 0 | H9: =IF(D9=0," ",(G9)*(Details!$C$4+Details!$C$8)) -> 0
A11: =IF(F11<>"",(LARGE(A$7:A10,1)+1),"") -> 2 | B11: Rubbish removal; skips | C11: 1 | D11: no. | E11: 0 | F11: =+E11*C11 -> 0 | H11: =IF(D11=0," ",(G11)*(Details!$C$4+Details!$C$8)) -> 0
A12: =IF(F12<>"",(LARGE(A$7:A11,1)+1),"")
A13: =IF(F13<>"",(LARGE(A$7:A12,1)+1),"") -> 3 | B13: Scaffolding and safe stands | C13: 1 | D13: item | E13: 0 | F13: =E13*C13 -> 0 | H13: =IF(D13=0," ",(G13)*(Details!$C$4+Details!$C$8)) -> 0
A14: =IF(F14<>"",(LARGE(A$7:A13,1)+1),"")
A15: =IF(F15<>"",(LARGE(A$7:A14,1)+1),"") -> 4 | B15: Welfare facilities | C15: 1 | D15: item | E15: 0 | F15: =E15*C15 -> 0 | H15: =IF(D15=0," ",(G15)*(Details!$C$4+Details!$C$8)) -> 0
A16: =IF(F16<>"",(LARGE(A$7:A15,1)+1),"")
A17: =IF(F17<>"",(LARGE(A$7:A16,1)+1),"") -> 5 | B17: Small plant and tools | C17: 1 | D17: item | E17: 0 | F17: =E17*C17 -> 0 | H17: =IF(D17=0," ",(G17)*(Details!$C$4+Details!$C$8)) -> 0
A18: =IF(F18<>"",(LARGE(A$7:A17,1)+1),"")
A19: =IF(F19<>"",(LARGE(A$7:A18,1)+1),"") -> 6 | B19: Protection | C19: 1 | D19: item | E19: 0 | F19: =E19*C19 -> 0 | H19: =IF(D19=0," ",(G19)*(Details!$C$4+Details!$C$8)) -> 0
A20: =IF(F20<>"",(LARGE(A$7:A19,1)+1),"")
A21: =IF(F21<>"",(LARGE(A$7:A20,1)+1),"") -> 7 | B21: Temporary supplies | C21: 1 | D21: item | E21: 0 | F21: =E21*C21 -> 0 | H21: =IF(D21=0," ",(G21)*(Details!$C$4+Details!$C$8)) -> 0
A22: =IF(F22<>"",(LARGE(A$7:A21,1)+1),"")
A23: =IF(F23<>"",(LARGE(A$7:A22,1)+1),"") -> 8 | B23: Lifting and propping | C23: 1 | D23: item | E23: 0 | F23: =E23*C23 -> 0 | H23: =IF(D23=0," ",(G23)*(Details!$C$4+Details!$C$8)) -> 0
A24: =IF(F24<>"",(LARGE(A$7:A23,1)+1),"")
A25: =IF(F25<>"",(LARGE(A$7:A24,1)+1),"") -> 9 | B25: Cleaning (no allowance for sparkle clean) | C25: 1 | D25: item | E25: 0 | F25: =E25*C25 -> 0 | H25: =IF(D25=0," ",(G25)*(Details!$C$4+Details!$C$8)) -> 0
A26: =IF(F26<>"",(LARGE(A$7:A25,1)+1),"")
A27: =IF(F27<>"",(LARGE(A$7:A26,1)+1),"") -> 10 | B27: Health & safety | C27: 1 | D27: item | E27: 0 | F27: =E27*C27 -> 0 | H27: =IF(D27=0," ",(G27)*(Details!$C$4+Details!$C$8)) -> 0
A28: =IF(F28<>"",(LARGE(A$7:A27,1)+1),"")
A29: =IF(F29<>"",(LARGE(A$7:A28,1)+1),"") -> 11 | B29: Insurance | C29: 1 | D29: item | E29: 0 | F29: =E29*C29 -> 0 | H29: =IF(D29=0," ",(G29)*(Details!$C$4+Details!$C$8)) -> 0
A30: =IF(F30<>"",(LARGE(A$7:A29,1)+1),"")
A31: =IF(F31<>"",(LARGE(A$7:A30,1)+1),"") -> 12 | B31: Site accommodation | C31: 1 | D31: item | E31: 0 | F31: =E31*C31 -> 0 | H31: =IF(D31=0," ",(G31)*(Details!$C$4+Details!$C$8)) -> 0
H32: =IF(D32=0," ",(G32)*(Details!$C$4+Details!$C$6))
A33: =IF(F33<>"",(LARGE(A$7:A32,1)+1),"") -> 13 | B33: Management | C33: 1 | D33: item | E33: 0 | F33: =E33*C33 -> 0 | H33: =IF(D33=0," ",(G33)*(Details!$C$4+Details!$C$8)) -> 0
A34: =IF(F34<>"",(LARGE(A$7:A33,1)+1),"") | H34: =IF(D34=0," ",(G34)*(Details!$C$4+Details!$C$6))
A35: =IF(F35<>"",(LARGE(A$7:A34,1)+1),"") | H35: =IF(D35=0," ",(G35)*(Details!$C$4+Details!$C$6))
A36: =IF(F36<>"",(LARGE(A$7:A35,1)+1),"") | H36: =IF(D36=0," ",(G36)*(Details!$C$4+Details!$C$6))
A37: =IF(F37<>"",(LARGE(A$7:A36,1)+1),"") | H37: =IF(D37=0," ",(G37)*(Details!$C$4+Details!$C$6))
A38: =IF(F38<>"",(LARGE(A$7:A37,1)+1),"") | H38: =IF(D38=0," ",(G38)*(Details!$C$4+Details!$C$6))
A39: =IF(F39<>"",(LARGE(A$7:A38,1)+1),"") | H39: =IF(D39=0," ",(G39)*(Details!$C$4+Details!$C$6))
A40: =IF(F40<>"",(LARGE(A$7:A39,1)+1),"") | H40: =IF(D40=0," ",(G40)*(Details!$C$4+Details!$C$6))
A41: =IF(F41<>"",(LARGE(A$7:A40,1)+1),"") | H41: =IF(D41=0," ",(G41)*(Details!$C$4+Details!$C$6))
A42: =IF(F42<>"",(LARGE(A$7:A41,1)+1),"") | H42: =IF(D42=0," ",(G42)*(Details!$C$4+Details!$C$6))
A43: =IF(F43<>"",(LARGE(A$7:A42,1)+1),"") | H43: =IF(D43=0," ",(G43)*(Details!$C$4+Details!$C$6))
A44: =IF(F44<>"",(LARGE(A$7:A43,1)+1),"") | H44: =IF(D44=0," ",(G44)*(Details!$C$4+Details!$C$6))
...

Sheet Details
B2: MARKUP | J2: Total Inc Prelims | K2: =+Summary!D14 -> 3570.75
B4: Contractors Markup - Labour | C4: 0.1 | D4: =+C4+1 -> 1.1 | J4: Calculation Total | K4: =+(Summary!F10+Summary!G10)*1.1 -> 3415.5
M5: =CEILING((K4/K27),4) -> 4 | N5: Weeks
B6: Contractors Markup - Materials | C6: 0.1 | D6: =+C6+1 -> 1.1
J7: Range 1 | K7: 0 | L7: =IF(AND($K$4>=K7,$K$4<=K8),N7,O7) -> Yes | M7: 5000 | N7: Yes | O7: No
B8: Contractors Overheads | C8: 0.05 | D8: =+C8+1 -> 1.05 | K8: 50000
J9: Range 2 | K9: =K8 -> 50000 | L9: =IF(AND($K$4>=K9,$K$4<=K10),N9,O9) -> No | M9: 9000 | N9: Yes | O9: No
K10: 150000
J11: Range 3 | K11: =K10 -> 150000 | L11: =IF(AND($K$4>=K11,$K$4<=K12),N11,O11) -> No | M11: 10000 | N11: Yes | O11: No
K12: 350000
J13: Range 4 | K13: =K12 -> 350000 | L13: =IF(AND($K$4>=K13,$K$4<=K14),N13,O13) -> No | M13: 12500 | N13: Yes | O13: No
B14: Trades - Day Rates | C14: Client Day Rate £ | K14: 500000
B15: Groundworker | C15: 0 | J15: Range 5 | K15: =K14 -> 500000 | L15: =IF(AND($K$4>=K15,$K$4<=K16),N15,O15) -> No | M15: 14000 | N15: Yes | O15: No
B16: Bricklayer | C16: 300 | K16: 750000
B17: Roofer | C17: 0 | J17: Range 6 | K17: 750000 | L17: =IF(AND($K$4>=K17,$K$4<=K18),N17,O17) -> No | M17: 15500 | N17: Yes | O17: No
B18: Tiler | C18: 300 | K18: 1000000
B19: Carpenter | C19: 300 | J19: Range 7 | K19: =K18 -> 1000000 | L19: =IF(AND($K$4>=K19,$K$4<=K20),N19,O19) -> No | M19: 16750 | N19: Yes | O19: No
B20: Plasterer | C20: 0 | K20: 1250000
B21: General Trade | C21: 250 | J21: Range 8 | K21: =K20 -> 1250000 | L21: =IF(AND($K$4>=K21,$K$4<=K22),N21,O21) -> No | M21: 19000 | N21: Yes | O21: No
B22: Labourer | C22: 200 | K22: 1500000
B23: Decorator | C23: 0 | J23: Range 9 | K23: =K22 -> 1500000 | L23: =IF(AND($K$4>=K23,$K$4<=K24),N23,O23) -> No | M23: 20500 | N23: Yes | O23: No
B24: Plumber | C24: 0 | K24: 2000000
B25: Electrician | C25: 0 | J25: Range 10 - Over | K25: =K24 -> 2000000 | L25: =IF(AND($K$4>=K25,$K$4<=K26),N25,O25) -> No | M25: 27500 | N25: Yes | O25: No
K26: 500000000
J27: Calculation | K27: =IF(L7="Yes",M7)+IF(L9="Yes",M9)+IF(L11="Yes",M11)+IF(L13="Yes",M13)+IF(L15="Yes",M15)+IF(L17="Yes",M17)+IF(L19="Yes",M19)+IF(L21="Yes",M21)+IF(L23="Yes",M23) -> 5000
M29: Factor
M30: =+C15/250+IF(C15=0,1) -> 1
M31: =+C16/250+IF(C16=0,1) -> 1.2
M32: =+C17/250+IF(C17=0,1) -> 1
M33: =+C18/250+IF(C18=0,1) -> 1.2
M34: =+C19/250+IF(C19=0,1) -> 1.2
M35: =+C20/250+IF(C20=0,1) -> 1
M36: =+C21/220+IF(C21=0,1) -> 1.1363636
M37: =+C22/150+IF(C22=0,1) -> 1.3333333
M38: =+C23/220+IF(C23=0,1) -> 1
M39: =+C24/400+IF(C24=0,1) -> 1
M40: =+C25/400+IF(C25=0,1) -> 1
