Workbook

Sheet Cover
F25: ESTIMATE
F32: FOR
F38: SCOPE: RENOVATION WORK
F47: PROJECT: ALTERATIONS TO 41 GREENSIDE STREET ROSEMARKIE, IV10 8AG
F57: DATE: 20TH NOVEMBER 2025

Sheet Qual, Excl & Assum
B2: =Cover!F47 -> PROJECT: ALTERATIONS TO 41 GREENSIDE STREET ROSEMARKIE, IV10 8AG
B3: =Cover!F57 -> DATE: 20TH NOVEMBER 2025
B6: QUALIFICATIONS, ASSUMPTIONS & EXCLUSIONS:
A8: 1 | B8: Qualifications:-
A10: 1.1 | B10: Prices exclude VAT
A11: =+A10+0.1 -> 1.2 | B11: Pre-start meeting and site investigation will be required before commencement on site
A12: =+A11+0.1 -> 1.3 | B12: Provisional sums and PC Sums mentioned within the estimate are subject to re-measure and re-price
A13: =+A12+0.1 -> 1.4 | B13: Changes to drawings, design or specification which deviate from the information used as stated below may be subject to further cost
A14: =+A13+0.1 -> 1.5 | B14: Site inspections to be carried out, this may cause additions/omissions to the tender documents
A15: =+A14+0.1 -> 1.6 | B15: All quantities are re-measurable and used for indicative purposes only and are subject to re-measure once the project has commenced
A16: =+A15+0.1 -> 1.7 | B16: All M&E is provisional sum (as no detailed design has been provided) and a detailed design will be required in order to finalise costs
A17: =+A16+0.1 -> 1.8 | B17: We have assumed free unfettered access and normal working hours to the site
A18: =+A17+0.1 -> 1.9 | B18: The prices are valid for 8 weeks and we assume that works will commence within 12 weeks from the date of this estimate
A19: 1.1 | B19: No level surveys have been provided so all excavation quantities are provisional
A20: 1.11 | B20: There may be some items where alternative specification is used and these may differ to the specification provided
A21: 1.12 | B21: Any items not mentioned within this estimate have been specifically excluded and will be subject to further costs
A23: 2 | B23: The following items are to be organised and paid for by the client and are excluded from the total cost:
A25: 2.1 | B25: Building insurance
A26: 2.2 | B26: Utility and council tax bills
A27: 2.3 | B27: Party Wall costs and complying with conditions
A28: 2.4 | B28: Building control and costs
A29: 2.5 | B29: Structural engineers' and building regulation details
A30: 2.6 | B30: Specialist surveys
A31: 2.7 | B31: Topographical surveys
A32: 2.8 | B32: CCTV drainage surveys
... A72: 4.16 | B72: A/C

Sheet Documents
B2: =+Cover!A47 -> 0
B3: =+Cover!A57 -> 0
B5: INFORMATION USED
B7: The information used in the preparation of this estimate are as listed below:
B9: Document reference:
B11: HR91-02-1001
B12: HR91-02-1002
B13: HR91-02-1003
B14: HR91-02-1004
B15: HR91-02-1005
B16: PHOTOS

Sheet Summary
B2: =Cover!F47 -> PROJECT: ALTERATIONS TO 41 GREENSIDE STREET ROSEMARKIE, IV10 8AG
B3: =Cover!F57 -> DATE: 20TH NOVEMBER 2025
F4: TOTALS
B5: SUMMARY | F5: LABOUR | G5: MATERIALS | H5: L MARKUP | I5: M MARKUP | K5: Check | L5: =CheckMissingTabs(B7:B30) -> #NAME?
B7: Demolition | D7: =+Demolition!F32 -> 17171.097 | F7: =+Demolition!K32 -> 14931.389 | G7: =+Demolition!L32 -> 0 | H7: =+Demolition!M32 -> 2239.7084 | I7: =+Demolition!N32 -> 0 | K7: =+F7+G7+I7+H7-D7 -> 0
B9: Superstructure | D9: =+Superstructure!F28 -> 18038.376 | F9: =+Superstructure!K28 -> 4978.6883 | G9: =+Superstructure!L28 -> 10706.857 | H9: =+Superstructure!M28 -> 746.80324 | I9: =+Superstructure!N28 -> 1606.0285 | K9: =+F9+G9+I9+H9-D9 -> 0
B11: Structural Steelwork | D11: =+'Structural Steelwork'!F15 -> 2614.732 | F11: =+'Structural Steelwork'!K15 -> 721.68 | G11: =+'Structural Steelwork'!L15 -> 1552 | H11: =+'Structural Steelwork'!M15 -> 108.252 | I11: =+'Structural Steelwork'!N15 -> 232.8 | K11: =+F11+G11+I11+H11-D11 -> 0
B13: Windows, Doors & Rooflights | D13: =+'Windows, Doors & Rooflights'!F16 -> 2368.425 | F13: =+'Windows, Doors & Rooflights'!K16 -> 2059.5 | G13: =+'Windows, Doors & Rooflights'!L16 -> 0 | H13: =+'Windows, Doors & Rooflights'!M16 -> 308.925 | I13: =+'Windows, Doors & Rooflights'!N16 -> 0 | K13: =+F13+G13+I13+H13-D13 -> 0
B15: Partitions | D15: =+Partitions!F69 -> 18980.366 | F15: =+Partitions!K69 -> 5238.6825 | G15: =+Partitions!L69 -> 11265.984 | H15: =+Partitions!M69 -> 785.80238 | I15: =+Partitions!N69 -> 1689.8976 | K15: =+F15+G15+I15+H15-D15 -> 0
B17: Joinery | D17: =+Joinery!F18 -> 3256.5158 | F17: =+Joinery!K18 -> 1174.7714 | G17: =+Joinery!L18 -> 1656.9815 | H17: =+Joinery!M18 -> 176.21571 | I17: =+Joinery!N18 -> 248.54723 | K17: =+F17+G17+I17+H17-D17 -> 0
B19: Decoration | D19: =+Decoration!F23 -> 15104.963 | F19: =+Decoration!K23 -> 4169.0505 | G19: =+Decoration!L23 -> 8965.7 | H19: =+Decoration!M23 -> 625.35758 | I19: =+Decoration!N23 -> 1344.855 | K19: =+F19+G19+I19+H19-D19 -> 0
B21: Floor Finishes | D21: =+'Floor finishes'!F15 -> 5687.5475 | F21: =+'Floor finishes'!K15 -> 1569.7935 | G21: =+'Floor finishes'!L15 -> 3375.9 | H21: =+'Floor finishes'!M15 -> 235.46903 | I21: =+'Floor finishes'!N15 -> 506.385 | K21: =+F21+G21+I21+H21-D21 -> 0
B23: Wall Finishes | D23: =+'Wall finishes'!F14 -> 2036.8628 | F23: =+'Wall finishes'!K14 -> 562.185 | G23: =+'Wall finishes'!L14 -> 1209 | H23: =+'Wall finishes'!M14 -> 84.32775 | I23: =+'Wall finishes'!N14 -> 181.35 | K23: =+F23+G23+I23+H23-D23 -> 0
B25: Kitchens & Bathrooms | D25: =+'Kitchen & Bathrooms '!F18 -> 14599.25 | F25: =+'Kitchen & Bathrooms '!K18 -> 12695 | G25: =+'Kitchen & Bathrooms '!L18 -> 0 | H25: =+'Kitchen & Bathrooms '!M18 -> 1904.25 | I25: =+'Kitchen & Bathrooms '!N18 -> 0 | K25: =+F25+G25+I25+H25-D25 -> 0
B27: Electrical | D27: =+Electrical!F18 -> 14638.793 | F27: =+Electrical!K18 -> 4040.385 | G27: =+Electrical!L18 -> 8689 | H27: =+Electrical!M18 -> 606.05775 | I27: =+Electrical!N18 -> 1303.35 | K27: =+F27+G27+I27+H27-D27 -> 0
B29: Mechanical | D29: =+Mechanical!F16 -> 2328.75 | F29: =+Mechanical!K16 -> 2025 | G29: =+Mechanical!L16 -> 0 | H29: =+Mechanical!M16 -> 303.75 | I29: =+Mechanical!N16 -> 0 | K29: =+F29+G29+I29+H29-D29 -> 0
B31: SUB TOTAL | D31: =SUM(D6:D30) -> 116825.68 | F31: =SUM(F6:F30) -> 54166.125 | G31: =SUM(G6:G30) -> 47421.422 | H31: =SUM(H6:H30) -> 8124.9188 | I31: =SUM(I6:I30) -> 7113.2133 | K31: =+F31+G31+I31+H31-D31 -> 0
B33: Preliminaries | D33: =+Preliminaries!F24 -> 14777.5
B34: OverHead Charges | D34: 0
B36: TOTAL COST (EXCLUDING VAT) | D36: =SUM(D31:D34) -> 131603.18
B38: Anticipated Number of Weeks | C38: =+Preliminaries!J4 -> 0 | D38: Weeks

Sheet Demolition
B2: =+'Qual, Excl & Assum'!B2 -> PROJECT: ALTERATIONS TO 41 GREENSIDE STREET ROSEMARKIE, IV10 8AG
B3: =+'Qual, Excl & Assum'!B3 -> DATE: 20TH NOVEMBER 2025
B5: Demolition | G5: RATES | K5: TOTALS
B7: Description | C7: Quantity | D7: Unit | E7: Rate | F7: Total | G7: Labour | H7: Materials | I7: L Markup | J7: M Markup | K7: Labour | L7: Materials | M7: L Markup | N7: M Markup
B8: ARCHITECTURAL DEMO
A10: 1 | B10: Internal Doors To Be Removed For Re-Installation | C10: 7 | D10: no. | E10: =G10+H10+J10+I10 -> 98.4975 | F10: =E10*C10 -> 689.4825 | G10: 85.65 | I10: =IF(D10=0," ",(G10)*(Details!$C$4+Details!$C$8)) -> 12.8475 | J10: =IF(D10=0," ",(H10)*(Details!$C$6+Details!$C$8)) -> 0 | K10: =+G10*C10 -> 599.55 | L10: =+H10*C10 -> 0 | M10: =IF(D10=0," ",(I10*C10)) -> 89.9325 | N10: =IF(D10=0," ",(J10*C10)) -> 0
A11: =IF(F11<>"",(LARGE(A$7:A10,1)+1),"") -> 2 | B11: Wardrobe Sliding Door To Be Removed For Re-Installation | C11: 2 | D11: no. | E11: =G11+H11+J11+I11 -> 132.825 | F11: =E11*C11 -> 265.65 | G11: 115.5 | I11: =IF(D11=0," ",(G11)*(Details!$C$4+Details!$C$8)) -> 17.325 | J11: =IF(D11=0," ",(H11)*(Details!$C$6+Details!$C$8)) -> 0 | K11: =+G11*C11 -> 231 | L11: =+H11*C11 -> 0 | M11: =IF(D11=0," ",(I11*C11)) -> 34.65 | N11: =IF(D11=0," ",(J11*C11)) -> 0
A12: =IF(F12<>"",(LARGE(A$7:A11,1)+1),"") -> 3 | B12: Skirting To Be Removed | C12: 78.18 | D12: m | E12: =G12+H12+J12+I12 -> 7.4175 | F12: =E12*C12 -> 579.90015 | G12: 6.45 | I12: =IF(D12=0," ",(G12)*(Details!$C$4+Details!$C$8)) -> 0.9675 | J12: =IF(D12=0," ",(H12)*(Details!$C$6+Details!$C$8)) -> 0 | K12: =+G12*C12 -> 504.261 | L12: =+H12*C12 -> 0 | M12: =IF(D12=0," ",(I12*C12)) -> 75.63915 | N12: =IF(D12=0," ",(J12*C12)) -> 0
A13: =IF(F13<>"",(LARGE(A$7:A12,1)+1),"") -> 4 | B13: Wall Facing To Be Removed (2.74m H) | C13: =102.7*2.74 -> 281.398 | D13: m2 | E13: =G13+H13+J13+I13 -> 17.825 | F13: =E13*C13 -> 5015.9194 | G13: 15.5 | I13: =IF(D13=0," ",(G13)*(Details!$C$4+Details!$C$8)) -> 2.325 | J13: =IF(D13=0," ",(H13)*(Details!$C$6+Details!$C$8)) -> 0 | K13: =+G13*C13 -> 4361.669 | L13: =+H13*C13 -> 0 | M13: =IF(D13=0," ",(I13*C13)) -> 654.25035 | N13: =IF(D13=0," ",(J13*C13)) -> 0
A14: =IF(F14<>"",(LARGE(A$7:A13,1)+1),"") -> 5 | B14: Internal Partition To Be Removed (2.74m H) | C14: =35.99*2.74 -> 98.6126 | D14: m2 | E14: =G14+H14+J14+I14 -> 20.125 | F14: =E14*C14 -> 1984.5786 | G14: 17.5 | I14: =IF(D14=0," ",(G14)*(Details!$C$4+Details!$C$8)) -> 2.625 | J14: =IF(D14=0," ",(H14)*(Details!$C$6+Details!$C$8)) -> 0 | K14: =+G14*C14 -> 1725.7205 | L14: =+H14*C14 -> 0 | M14: =IF(D14=0," ",(I14*C14)) -> 258.85808 | N14: =IF(D14=0," ",(J14*C14)) -> 0
A15: =IF(F15<>"",(LARGE(A$7:A14,1)+1),"") -> 6 | B15: Vinyl Floor Tiles Covering To Be Removed | C15: 64.61 | D15: m2 | E15: =G15+H15+J15+I15 -> 22.1375 | F15: =E15*C15 -> 1430.3039 | G15: 19.25 | I15: =IF(D15=0," ",(G15)*(Details!$C$4+Details!$C$8)) -> 2.8875 | J15: =IF(D15=0," ",(H15)*(Details!$C$6+Details!$C$8)) -> 0 | K15: =+G15*C15 -> 1243.7425 | L15: =+H15*C15 -> 0 | M15: =IF(D15=0," ",(I15*C15)) -> 186.56138 | N15: =IF(D15=0," ",(J15*C15)) -> 0
A16: =IF(F16<>"",(LARGE(A$7:A15,1)+1),"") -> 7 | B16: 22mm Chipboard To Be Removed | C16: 73.99 | D16: m2 | E16: =G16+H16+J16+I16 -> 11.6725 | F16: =E16*C16 -> 863.64828 | G16: 10.15 | I16: =IF(D16=0," ",(G16)*(Details!$C$4+Details!$C$8)) -> 1.5225 | J16: =IF(D16=0," ",(H16)*(Details!$C$6+Details!$C$8)) -> 0 | K16: =+G16*C16 -> 750.9985 | L16: =+H16*C16 -> 0 | M16: =IF(D16=0," ",(I16*C16)) -> 112.64978 | N16: =IF(D16=0," ",(J16*C16)) -> 0
A17: =IF(F17<>"",(LARGE(A$7:A16,1)+1),"") -> 8 | B17: 19mm Plasterboard To Be Removed | C17: 73.99 | D17: m2 | E17: =G17+H17+J17+I17 -> 13.225 | F17: =E17*C17 -> 978.51775 | G17: 11.5 | I17: =IF(D17=0," ",(G17)*(Details!$C$4+Details!$C$8)) -> 1.725 | J17: =IF(D17=0," ",(H17)*(Details!$C$6+Details!$C$8)) -> 0 | K17: =+G17*C17 -> 850.885 | L17: =+H17*C17 -> 0 | M17: =IF(D17=0," ",(I17*C17)) -> 127.63275 | N17: =IF(D17=0," ",(J17*C17)) -> 0
A18: =IF(F18<>"",(LARGE(A$7:A17,1)+1),"") -> 9 | B18: Acoustic Battens To Be Removed | C18: 73.99 | D18: m2 | E18: =G18+H18+J18+I18 -> 8.5675 | F18: =E18*C18 -> 633.90932 | G18: 7.45 | I18: =IF(D18=0," ",(G18)*(Details!$C$4+Details!$C$8)) -> 1.1175 | J18: =IF(D18=0," ",(H18)*(Details!$C$6+Details!$C$8)) -> 0 | K18: =+G18*C18 -> 551.2255 | L18: =+H18*C18 -> 0 | M18: =IF(D18=0," ",(I18*C18)) -> 82.683825 | N18: =IF(D18=0," ",(J18*C18)) -> 0
A19: =IF(F19<>"",(LARGE(A$7:A18,1)+1),"") -> 10 | B19: Acoustic Insulation To Be Removed | C19: 73.99 | D19: m2 | E19: =G19+H19+J19+I19 -> 9.0275 | F19: =E19*C19 -> 667.94472 | G19: 7.85 | I19: =IF(D19=0," ",(G19)*(Details!$C$4+Details!$C$8)) -> 1.1775 | J19: =IF(D19=0," ",(H19)*(Details!$C$6+Details!$C$8)) -> 0 | K19: =+G19*C19 -> 580.8215 | L19: =+H19*C19 -> 0 | M19: =IF(D19=0," ",(I19*C19)) -> 87.123225 | N19: =IF(D19=0," ",(J19*C19)) -> 0
A20: =IF(F20<>"",(LARGE(A$7:A19,1)+1),"") -> 11 | B20: 15mm OSB | C20: 73.99 | D20: m2 | E20: =G20+H20+J20+I20 -> 9.7175 | F20: =E20*C20 -> 718.99782 | G20: 8.45 | I20: =IF(D20=0," ",(G20)*(Details!$C$4+Details!$C$8)) -> 1.2675 | J20: =IF(D20=0," ",(H20)*(Details!$C$6+Details!$C$8)) -> 0 | K20: =+G20*C20 -> 625.2155 | L20: =+H20*C20 -> 0 | M20: =IF(D20=0," ",(I20*C20)) -> 93.782325 | N20: =IF(D20=0," ",(J20*C20)) -> 0
A21: =IF(F21<>"",(LARGE(A$7:A20,1)+1),"")
A22: =IF(F22<>"",(LARGE(A$7:A21,1)+1),"") | B22: MEP DEMO
A23: =IF(F23<>"",(LARGE(A$7:A22,1)+1),"")
A24: =IF(F24<>"",(LARGE(A$7:A23,1)+1),"") -> 12 | B24: Batroom Units ( Water Closet, Basin & Bath Tub) To Be Removed Casrefully For Reinstallation | C24: 3 | D24: no. | E24: =G24+H24+J24+I24 -> 182.39 | F24: =E24*C24 -> 547.17 | G24: 158.6 | I24: =IF(D24=0," ",(G24)*(Details!$C$4+Details!$C$8)) -> 23.79 | J24: =IF(D24=0," ",(H24)*(Details!$C$6+Details!$C$8)) -> 0 | K24: =+G24*C24 -> 475.8 | L24: =+H24*C24 -> 0 | M24: =IF(D24=0," ",(I24*C24)) -> 71.37 | N24: =IF(D24=0," ",(J24*C24)) -> 0
A25: =IF(F25<>"",(LARGE(A$7:A24,1)+1),"") -> 13 | B25: Kitchen Units (Integrated Fridge Freezer, Dishwasher, Washing Machine , Oven, Hob & Cooker Hood) Te Be Removed Carefully For Reinstallation | C25: 6 | D25: no. | E25: =G25+H25+J25+I25 -> 190.325 | F25: =E25*C25 -> 1141.95 | G25: 165.5 | I25: =IF(D25=0," ",(G25)*(Details!$C$4+Details!$C$8)) -> 24.825 | J25: =IF(D25=0," ",(H25)*(Details!$C$6+Details!$C$8)) -> 0 | K25: =+G25*C25 -> 993 | L25: =+H25*C25 -> 0 | M25: =IF(D25=0," ",(I25*C25)) -> 148.95 | N25: =IF(D25=0," ",(J25*C25)) -> 0
A26: =IF(F26<>"",(LARGE(A$7:A25,1)+1),"") -> 14 | B26: Mistubishi Ecodan Cylinder To Be Disconnect & Kept Safe For Reinstallation | C26: 3 | D26: no. | E26: =G26+H26+J26+I26 -> 193.775 | F26: =E26*C26 -> 581.325 | G26: 168.5 | I26: =IF(D26=0," ",(G26)*(Details!$C$4+Details!$C$8)) -> 25.275 | J26: =IF(D26=0," ",(H26)*(Details!$C$6+Details!$C$8)) -> 0 | K26: =+G26*C26 -> 505.5 | L26: =+H26*C26 -> 0 | M26: =IF(D26=0," ",(I26*C26)) -> 75.825 | N26: =IF(D26=0," ",(J26*C26)) -> 0
A27: =IF(F27<>"",(LARGE(A$7:A26,1)+1),"") -> 15 | B27: Radiators To Be Un-Installed & Kept Safe For Reinstallation | C27: 2 | D27: no. | E27: =G27+H27+J27+I27 -> 144.325 | F27: =E27*C27 -> 288.65 | G27: 125.5 | I27: =IF(D27=0," ",(G27)*(Details!$C$4+Details!$C$8)) -> 18.825 | J27: =IF(D27=0," ",(H27)*(Details!$C$6+Details!$C$8)) -> 0 | K27: =+G27*C27 -> 251 | L27: =+H27*C27 -> 0 | M27: =IF(D27=0," ",(I27*C27)) -> 37.65 | N27: =IF(D27=0," ",(J27*C27)) -> 0
A28: =IF(F28<>"",(LARGE(A$7:A27,1)+1),"") -> 16 | B28: Electrical Sockets & Switches To Be Removed & Kept Aside For Re-Installation | C28: 46 | D28: no. | E28: =G28+H28+J28+I28 -> 14.375 | F28: =E28*C28 -> 661.25 | G28: 12.5 | I28: =IF(D28=0," ",(G28)*(Details!$C$4+Details!$C$8)) -> 1.875 | J28: =IF(D28=0," ",(H28)*(Details!$C$6+Details!$C$8)) -> 0 | K28: =+G28*C28 -> 575 | L28: =+H28*C28 -> 0 | M28: =IF(D28=0," ",(I28*C28)) -> 86.25 | N28: =IF(D28=0," ",(J28*C28)) -> 0
A29: =IF(F29<>"",(LARGE(A$7:A28,1)+1),"") -> 17 | B29: All Pipes For First Floor To Be Disconnect | C29: 4 | D29: no. | E29: =G29+H29+J29+I29 -> 30.475 | F29: =E29*C29 -> 121.9 | G29: 26.5 | I29: =IF(D29=0," ",(G29)*(Details!$C$4+Details!$C$8)) -> 3.975 | J29: =IF(D29=0," ",(H29)*(Details!$C$6+Details!$C$8)) -> 0 | K29: =+G29*C29 -> 106 | L29: =+H29*C29 -> 0 | M29: =IF(D29=0," ",(I29*C29)) -> 15.9 | N29: =IF(D29=0," ",(J29*C29)) -> 0
A30: =IF(F30<>"",(LARGE(A$7:A29,1)+1),"")
A31: =IF(F31<>"",(LARGE(A$7:A8,1)+1),"") | J31: =IF(D31=0," ",(G31+H31)*(Details!$C$4+Details!$C$6))
E32: Sub Total | F32: =SUM(F8:F31) -> 17171.097 | K32: =SUM(K8:K31) -> 14931.389 | L32: =SUM(L8:L31) -> 0 | M32: =SUM(M8:M31) -> 2239.7084 | N32: =SUM(N8:N31) -> 0

Sheet Superstructure
B2: =+'Qual, Excl & Assum'!B2 -> PROJECT: ALTERATIONS TO 41 GREENSIDE STREET ROSEMARKIE, IV10 8AG
B3: =+'Qual, Excl & Assum'!B3 -> DATE: 20TH NOVEMBER 2025
B5: Superstructure | G5: RATES | K5: TOTALS
B7: Description | C7: Quantity | D7: Unit | E7: Rate | F7: Total | G7: Labour | H7: Materials | I7: L Markup | J7: M Markup | K7: Labour | L7: Materials | M7: L Markup | N7: M Markup
N8: =IF(D8=0," ",(J8*C8))
A9: =IF(F9<>"",(LARGE(A$4:A8,1)+1),"") | B9: Floor Framing | N9: =IF(D9=0," ",(J9*C9))
A10: =IF(F10<>"",(LARGE(A$4:A9,1)+1),"") | N10: =IF(D10=0," ",(J10*C10))
A11: 1 | B11: KNAUF GIFAFloor FHB 25mm | C11: 77.31 | D11: m2 | E11: =G11+H11+J11+I11 -> 74.971375 | F11: =E11*C11 -> 5796.037 | G11: 20.6925 | H11: 44.5 | I11: =IF(D11=0," ",(G11)*(Details!$C$4+Details!$C$8)) -> 3.103875 | J11: =IF(D11=0," ",(H11)*(Details!$C$6+Details!$C$8)) -> 6.675 | K11: =+G11*C11 -> 1599.7372 | L11: =+H11*C11 -> 3440.295 | M11: =IF(D11=0," ",(I11*C11)) -> 239.96058 | N11: =IF(D11=0," ",(J11*C11)) -> 516.04425
A12: =IF(F12<>"",(LARGE(A$4:A11,1)+1),"") -> 2 | B12: 18mm Thick OSB 3, T&G | C12: 77.31 | D12: m2 | E12: =G12+H12+J12+I12 -> 21.059375 | F12: =E12*C12 -> 1628.1003 | G12: 5.8125 | H12: 12.5 | I12: =IF(D12=0," ",(G12)*(Details!$C$4+Details!$C$8)) -> 0.871875 | J12: =IF(D12=0," ",(H12)*(Details!$C$6+Details!$C$8)) -> 1.875 | K12: =+G12*C12 -> 449.36437 | L12: =+H12*C12 -> 966.375 | M12: =IF(D12=0," ",(I12*C12)) -> 67.404656 | N12: =IF(D12=0," ",(J12*C12)) -> 144.95625
A13: =IF(F13<>"",(LARGE(A$4:A12,1)+1),"") -> 3 | B13: 100mm Mineral Wool Quilt Insulation | C13: 77.31 | D13: m2 | E13: =G13+H13+J13+I13 -> 26.113625 | F13: =E13*C13 -> 2018.8443 | G13: 7.2075 | H13: 15.5 | I13: =IF(D13=0," ",(G13)*(Details!$C$4+Details!$C$8)) -> 1.081125 | J13: =IF(D13=0," ",(H13)*(Details!$C$6+Details!$C$8)) -> 2.325 | K13: =+G13*C13 -> 557.21183 | L13: =+H13*C13 -> 1198.305 | M13: =IF(D13=0," ",(I13*C13)) -> 83.581774 | N13: =IF(D13=0," ",(J13*C13)) -> 179.74575
A14: =IF(F14<>"",(LARGE(A$4:A13,1)+1),"") -> 4 | B14: 45x75mm Deep C16 Acoustic Battens To Be Installed @ 400mm C/C w/ 6x50mmRegupol Sonus 3912 isolation strip | C14: =78/0.4 -> 195 | D14: m | E14: =G14+H14+J14+I14 -> 14.573088 | F14: =E14*C14 -> 2841.7521 | G14: 4.02225 | H14: 8.65 | I14: =IF(D14=0," ",(G14)*(Details!$C$4+Details!$C$8)) -> 0.6033375 | J14: =IF(D14=0," ",(H14)*(Details!$C$6+Details!$C$8)) -> 1.2975 | K14: =+G14*C14 -> 784.33875 | L14: =+H14*C14 -> 1686.75 | M14: =IF(D14=0," ",(I14*C14)) -> 117.65081 | N14: =IF(D14=0," ",(J14*C14)) -> 253.0125
A15: =IF(F15<>"",(LARGE(A$4:A14,1)+1),"") | I15: =IF(D15=0," ",(G15)*(Details!$C$4+Details!$C$8)) | J15: =IF(D15=0," ",(H15)*(Details!$C$6+Details!$C$8)) | N15: =IF(D15=0," ",(J15*C15))
A16: =IF(F16<>"",(LARGE(A$4:A15,1)+1),"") | B16: Joist
A17: =IF(F17<>"",(LARGE(A$4:A16,1)+1),"") -> 5 | B17: 47x245 C24 Solid Joists @ 600mm O.C. (77 m2) | C17: =77/0.6 -> 128.33333 | D17: m | E17: =G17+H17+J17+I17 -> 32.852625 | F17: =E17*C17 -> 4216.0869 | G17: 9.0675 | H17: 19.5 | I17: =IF(D17=0," ",(G17)*(Details!$C$4+Details!$C$8)) -> 1.360125 | J17: =IF(D17=0," ",(H17)*(Details!$C$6+Details!$C$8)) -> 2.925 | K17: =+G17*C17 -> 1163.6625 | L17: =+H17*C17 -> 2502.5 | M17: =IF(D17=0," ",(I17*C17)) -> 174.54938 | N17: =IF(D17=0," ",(J17*C17)) -> 375.375
A18: =IF(F18<>"",(LARGE(A$4:A17,1)+1),"")
A19: =IF(F19<>"",(LARGE(A$4:A18,1)+1),"") | B19: Noggings/Dwangs
A20: =IF(F20<>"",(LARGE(A$4:A19,1)+1),"")
A21: =IF(F21<>"",(LARGE(A$4:A20,1)+1),"") -> 6 | B21: 45x50mm Noggings | C21: 5.91 | D21: m | E21: =G21+H21+J21+I21 -> 24.681588 | F21: =E21*C21 -> 145.86818 | G21: 6.81225 | H21: 14.65 | I21: =IF(D21=0," ",(G21)*(Details!$C$4+Details!$C$8)) -> 1.0218375 | J21: =IF(D21=0," ",(H21)*(Details!$C$6+Details!$C$8)) -> 2.1975 | K21: =+G21*C21 -> 40.260398 | L21: =+H21*C21 -> 86.5815 | M21: =IF(D21=0," ",(I21*C21)) -> 6.0390596 | N21: =IF(D21=0," ",(J21*C21)) -> 12.987225
A22: =IF(F22<>"",(LARGE(A$4:A21,1)+1),"") -> 7 | B22: Full Height Dwangs @ 1.2m O.C. | C22: =(2.74/1.2)*15 -> 34.25 | D22: m | E22: =G22+H22+J22+I22 -> 27.29295 | F22: =E22*C22 -> 934.78354 | G22: 7.533 | H22: 16.2 | I22: =IF(D22=0," ",(G22)*(Details!$C$4+Details!$C$8)) -> 1.12995 | J22: =IF(D22=0," ",(H22)*(Details!$C$6+Details!$C$8)) -> 2.43 | K22: =+G22*C22 -> 258.00525 | L22: =+H22*C22 -> 554.85 | M22: =IF(D22=0," ",(I22*C22)) -> 38.700788 | N22: =IF(D22=0," ",(J22*C22)) -> 83.2275
A23: =IF(F23<>"",(LARGE(A$4:A22,1)+1),"")
A24: =IF(F24<>"",(LARGE(A$4:A23,1)+1),"") | B24: Simpson Hanger
A25: =IF(F25<>"",(LARGE(A$4:A24,1)+1),"")
A26: =IF(F26<>"",(LARGE(A$4:A25,1)+1),"") -> 8 | B26: Simpson Strong-Tie Joist Hanger Type JHA270 | C26: 6 | D26: no. | E26: =G26+H26+J26+I26 -> 76.1507 | F26: =E26*C26 -> 456.9042 | G26: 21.018 | H26: 45.2 | I26: =IF(D26=0," ",(G26)*(Details!$C$4+Details!$C$8)) -> 3.1527 | J26: =IF(D26=0," ",(H26)*(Details!$C$6+Details!$C$8)) -> 6.78 | K26: =+G26*C26 -> 126.108 | L26: =+H26*C26 -> 271.2 | M26: =IF(D26=0," ",(I26*C26)) -> 18.9162 | N26: =IF(D26=0," ",(J26*C26)) -> 40.68
A27: =IF(F27<>"",(LARGE(A$7:A26,1)+1),"")
E28: Sub Total | F28: =SUM(F8:F27) -> 18038.376 | J28: =IF(D28=0," ",(G28+H28)*(Details!$C$4+Details!$C$6)) | K28: =SUM(K8:K27) -> 4978.6883 | L28: =SUM(L8:L27) -> 10706.857 | M28: =SUM(M8:M27) -> 746.80324 | N28: =SUM(N8:N27) -> 1606.0285
A29: =IF(D29=0," ",(LARGE(A$9:A28,1)+1)) | J29: =IF(D29=0," ",(G29+H29)*(Details!$C$4+Details!$C$6))

Sheet Structural Steelwork
B2: =+'Qual, Excl & Assum'!B2 -> PROJECT: ALTERATIONS TO 41 GREENSIDE STREET ROSEMARKIE, IV10 8AG
B3: =+'Qual, Excl & Assum'!B3 -> DATE: 20TH NOVEMBER 2025
B5: Structural Steelwork & Timberwork | G5: RATES | K5: TOTALS
B7: Description | C7: Quantity | D7: Unit | E7: Rate | F7: Total | G7: Labour | H7: Materials | I7: L Markup | J7: M Markup | K7: Labour | L7: Materials | M7: L Markup | N7: M Markup
A8: =IF(F8<>"",(LARGE(A$7:A7,1)+1),"") | J8: =IF(D8=0," ",(G8+H8)*(Details!$C$4)) | N8: =IF(D8=0," ",(J8*C8))
A9: =IF(F9<>"",(LARGE(A$7:A8,1)+1),"") | B9: STRUCTURAL STEELWORK | Z9: =IF(F9<>"",(LARGE(A$7:A8,1)+1),"") | AA9: STRUCTURAL STEELWORK
A11: =IF(F11<>"",(LARGE(A$7:A10,1)+1),"") | B11: Strap | Z11: =IF(F11<>"",(LARGE(A$7:A10,1)+1),"") | AN11: KG/M
A13: 1 | B13: 28x4mm Pre-Galvanised Mild Steel Straps @ 1.2m O.C._x000D_ (1.9m L) | C13: 32 | D13: no. | E13: =G13+H13+J13+I13 -> 81.710375 | F13: =E13*C13 -> 2614.732 | G13: 22.5525 | H13: 48.5 | I13: =IF(D13=0," ",(G13)*([1]Details!$C$4+[1]Details!$C$8)) -> 3.382875 | J13: =IF(D13=0," ",(H13)*([1]Details!$C$6+[1]Details!$C$8)) -> 7.275 | K13: =+G13*C13 -> 721.68 | L13: =+H13*C13 -> 1552 | M13: =IF(D13=0," ",(I13*C13)) -> 108.252 | N13: =IF(D13=0," ",(J13*C13)) -> 232.8 | Z13: 1 | AC13: m | AD13: =G13+H13+J13+I13 -> 81.710375 | AE13: =E13*C13 -> 2614.732 | AF13: =O13*1.75*[1]Details!$M$36 -> 0 | AG13: =O13*3+500/1000*O13*C13 -> 0 | AH13: =IF(D13=0," ",(G13)*([1]Details!$C$4+[1]Details!$C$8)) -> 3.382875 | AI13: =IF(D13=0," ",(H13)*([1]Details!$C$6+[1]Details!$C$8)) -> 7.275 | AJ13: =+G13*C13 -> 721.68 | AK13: =+H13*C13 -> 1552 | AL13: =IF(D13=0," ",(I13*C13)) -> 108.252 | AM13: =IF(D13=0," ",(J13*C13)) -> 232.8 | AN13: 0
A14: =IF(F14<>"",(LARGE(A$7:A13,1)+1),"")
E15: Sub Total | F15: =SUM(F8:F13) -> 2614.732 | J15: =IF(D15=0," ",(G15+H15)*(Details!$C$4+Details!$C$6)) | K15: =SUM(K8:K14) -> 721.68 | L15: =SUM(L8:L14) -> 1552 | M15: =SUM(M8:M14) -> 108.252 | N15: =SUM(N8:N14) -> 232.8
A16: =IF(D16=0," ",(LARGE(A$8:A15,1)+1)) | J16: =IF(D16=0," ",(G16+H16)*(Details!$C$4+Details!$C$6))

Sheet Windows, Doors & Rooflights
S1: 1
B2: =+'Qual, Excl & Assum'!B2 -> PROJECT: ALTERATIONS TO 41 GREENSIDE STREET ROSEMARKIE, IV10 8AG
B3: =+'Qual, Excl & Assum'!B3 -> DATE: 20TH NOVEMBER 2025 | R3: Rooflights
R4: 800
B6: External Windows, Doors and Rooflights | G6: RATES | K6: TOTALS
B8: Description | C8: Quantity | D8: Unit | E8: Rate | F8: Total | G8: Labour | H8: Materials | I8: L Markup | J8: M Markup | K8: Labour | L8: Materials | M8: L Markup | N8: M Markup
N9: =IF(D9=0," ",(J9*C9))
B10: INTERNAL DOORS | N10: =IF(D10=0," ",(J10*C10))
N11: =IF(D11=0," ",(J11*C11))
A12: 1 | B12: Re-Install Wardrobe Sliding Door | C12: 2 | D12: no. | E12: =G12+H12+J12+I12 -> 316.825 | F12: =E12*C12 -> 633.65 | G12: 275.5 | I12: =IF(D12=0," ",(G12)*(Details!$C$4+Details!$C$8)) -> 41.325 | J12: =IF(D12=0," ",(H12)*(Details!$C$6+Details!$C$8)) -> 0 | K12: =+G12*C12 -> 551 | L12: =+H12*C12 -> 0 | M12: =IF(D12=0," ",(I12*C12)) -> 82.65 | N12: =IF(D12=0," ",(J12*C12)) -> 0
A13: =IF(D13<>"",(LARGE(A$8:A12,1)+1),"") -> 2 | B13: Re-Installl All Internal SIngle Leaf Door | C13: 7 | D13: no. | E13: =G13+H13+J13+I13 -> 247.825 | F13: =E13*C13 -> 1734.775 | G13: 215.5 | I13: =IF(D13=0," ",(G13)*(Details!$C$4+Details!$C$8)) -> 32.325 | J13: =IF(D13=0," ",(H13)*(Details!$C$6+Details!$C$8)) -> 0 | K13: =+G13*C13 -> 1508.5 | L13: =+H13*C13 -> 0 | M13: =IF(D13=0," ",(I13*C13)) -> 226.275 | N13: =IF(D13=0," ",(J13*C13)) -> 0
A14: =IF(D14<>"",(LARGE(A$8:A13,1)+1),"")
A15: =IF(D15<>"",(LARGE(A$8:A14,1)+1),"") | I15: =IF(D15=0," ",(G15)*(Details!$C$4+Details!$C$8)) | J15: =IF(D15=0," ",(H15)*(Details!$C$6+Details!$C$8))
A16: =IF(D16=0," ",(LARGE(A$10:A15,1)+1)) | E16: Sub Total | F16: =SUM(F9:F15) -> 2368.425 | J16: =IF(D16=0," ",(G16+H16)*(Details!$C$4+Details!$C$6)) | K16: =SUM(K9:K15) -> 2059.5 | L16: =SUM(L9:L15) -> 0 | M16: =SUM(M9:M15) -> 308.925 | N16: =SUM(N9:N15) -> 0
J17: =IF(D17=0," ",(G17+H17)*(Details!$C$4+Details!$C$6))

Sheet Partitions
B2: =+'Qual, Excl & Assum'!B2 -> PROJECT: ALTERATIONS TO 41 GREENSIDE STREET ROSEMARKIE, IV10 8AG
B3: =+'Qual, Excl & Assum'!B3 -> DATE: 20TH NOVEMBER 2025
B5: Internal Walls and Partitions | G5: RATES | K5: TOTALS
B7: Description | C7: Quantity | D7: Unit | E7: Rate | F7: Total | G7: Labour | H7: Materials | I7: L Markup | J7: M Markup | K7: Labour | L7: Materials | M7: L Markup | N7: M Markup
N8: =IF(D8=0," ",(J8*C8))
B9: STUDWORK PARTITIONS
A11: =IF(F11<>"",(LARGE(A$7:A8,1)+1),"") | B11: 35x60mm Int. Wall (2.74m H) | C11: 21 | D11: m
A13: 1 | B13: 35x60mm Timber Stud Wall @ 400 C.C. | C13: =C11/(0.4*2.74) -> 19.160584 | D13: m | E13: =G13+H13+J13+I13 -> 26.113625 | F13: =E13*C13 -> 500.3523 | G13: 7.2075 | H13: 15.5 | I13: =IF(D13=0," ",(G13)*(Details!$C$4+Details!$C$8)) -> 1.081125 | J13: =IF(D13=0," ",(H13)*(Details!$C$6+Details!$C$8)) -> 2.325 | K13: =+G13*C13 -> 138.09991 | L13: =+H13*C13 -> 296.98905 | M13: =IF(D13=0," ",(I13*C13)) -> 20.714986 | N13: =IF(D13=0," ",(J13*C13)) -> 44.548358
A14: =IF(F14<>"",(LARGE(A$7:A13,1)+1),"") -> 2 | B14: Timber Head Plate | C14: =C11*2 -> 42 | D14: m | E14: =G14+H14+J14+I14 -> 26.113625 | F14: =E14*C14 -> 1096.7722 | G14: 7.2075 | H14: 15.5 | I14: =IF(D14=0," ",(G14)*(Details!$C$4+Details!$C$8)) -> 1.081125 | J14: =IF(D14=0," ",(H14)*(Details!$C$6+Details!$C$8)) -> 2.325 | K14: =+G14*C14 -> 302.715 | L14: =+H14*C14 -> 651 | M14: =IF(D14=0," ",(I14*C14)) -> 45.40725 | N14: =IF(D14=0," ",(J14*C14)) -> 97.65
A15: =IF(F15<>"",(LARGE(A$7:A14,1)+1),"") -> 3 | B15: Timber Sole Plate | C15: =C11*1 -> 21 | D15: m | E15: =G15+H15+J15+I15 -> 26.113625 | F15: =E15*C15 -> 548.38612 | G15: 7.2075 | H15: 15.5 | I15: =IF(D15=0," ",(G15)*(Details!$C$4+Details!$C$8)) -> 1.081125 | J15: =IF(D15=0," ",(H15)*(Details!$C$6+Details!$C$8)) -> 2.325 | K15: =+G15*C15 -> 151.3575 | L15: =+H15*C15 -> 325.5 | M15: =IF(D15=0," ",(I15*C15)) -> 22.703625 | N15: =IF(D15=0," ",(J15*C15)) -> 48.825
A16: =IF(F16<>"",(LARGE(A$7:A15,1)+1),"") -> 4 | B16: Mineral Wool Acoustic Insulation (50mm Thick) | C16: =C11*2.74 -> 57.54 | D16: m2 | E16: =G16+H16+J16+I16 -> 22.322937 | F16: =E16*C16 -> 1284.4618 | G16: 6.16125 | H16: 13.25 | I16: =IF(D16=0," ",(G16)*(Details!$C$4+Details!$C$8)) -> 0.9241875 | J16: =IF(D16=0," ",(H16)*(Details!$C$6+Details!$C$8)) -> 1.9875 | K16: =+G16*C16 -> 354.51833 | L16: =+H16*C16 -> 762.405 | M16: =IF(D16=0," ",(I16*C16)) -> 53.177749 | N16: =IF(D16=0," ",(J16*C16)) -> 114.36075
A17: =IF(F17<>"",(LARGE(A$7:A16,1)+1),"") -> 5 | B17: Acoustic Sealent | C17: =C11*4 -> 84 | D17: m | E17: =G17+H17+J17+I17 -> 12.888338 | F17: =E17*C17 -> 1082.6204 | G17: 3.55725 | H17: 7.65 | I17: =IF(D17=0," ",(G17)*(Details!$C$4+Details!$C$8)) -> 0.5335875 | J17: =IF(D17=0," ",(H17)*(Details!$C$6+Details!$C$8)) -> 1.1475 | K17: =+G17*C17 -> 298.809 | L17: =+H17*C17 -> 642.6 | M17: =IF(D17=0," ",(I17*C17)) -> 44.82135 | N17: =IF(D17=0," ",(J17*C17)) -> 96.39
A18: =IF(F18<>"",(LARGE(A$7:A17,1)+1),"")
A19: =IF(F19<>"",(LARGE(A$7:A18,1)+1),"") | B19: 35x60mm Int. Wall (2.74m H) | C19: 7
A20: =IF(F20<>"",(LARGE(A$7:A19,1)+1),"")
A21: =IF(F21<>"",(LARGE(A$7:A20,1)+1),"") -> 6 | B21: 35x60mm Timber Stud Wall @ 400 C.C. | C21: =C19/(0.4*2.74) -> 6.3868613 | D21: m | E21: =G21+H21+J21+I21 -> 26.113625 | F21: =E21*C21 -> 166.7841 | G21: 7.2075 | H21: 15.5 | I21: =IF(D21=0," ",(G21)*(Details!$C$4+Details!$C$8)) -> 1.081125 | J21: =IF(D21=0," ",(H21)*(Details!$C$6+Details!$C$8)) -> 2.325 | K21: =+G21*C21 -> 46.033303 | L21: =+H21*C21 -> 98.99635 | M21: =IF(D21=0," ",(I21*C21)) -> 6.9049954 | N21: =IF(D21=0," ",(J21*C21)) -> 14.849453
A22: =IF(F22<>"",(LARGE(A$7:A21,1)+1),"") -> 7 | B22: Timber Head Plate | C22: =C19*2 -> 14 | D22: m | E22: =G22+H22+J22+I22 -> 26.113625 | F22: =E22*C22 -> 365.59075 | G22: 7.2075 | H22: 15.5 | I22: =IF(D22=0," ",(G22)*(Details!$C$4+Details!$C$8)) -> 1.081125 | J22: =IF(D22=0," ",(H22)*(Details!$C$6+Details!$C$8)) -> 2.325 | K22: =+G22*C22 -> 100.905 | L22: =+H22*C22 -> 217 | M22: =IF(D22=0," ",(I22*C22)) -> 15.13575 | N22: =IF(D22=0," ",(J22*C22)) -> 32.55
A23: =IF(F23<>"",(LARGE(A$7:A22,1)+1),"") -> 8 | B23: Timber Sole Plate | C23: =C19*1 -> 7 | D23: m | E23: =G23+H23+J23+I23 -> 26.113625 | F23: =E23*C23 -> 182.79537 | G23: 7.2075 | H23: 15.5 | I23: =IF(D23=0," ",(G23)*(Details!$C$4+Details!$C$8)) -> 1.081125 | J23: =IF(D23=0," ",(H23)*(Details!$C$6+Details!$C$8)) -> 2.325 | K23: =+G23*C23 -> 50.4525 | L23: =+H23*C23 -> 108.5 | M23: =IF(D23=0," ",(I23*C23)) -> 7.567875 | N23: =IF(D23=0," ",(J23*C23)) -> 16.275
A24: =IF(F24<>"",(LARGE(A$7:A23,1)+1),"") -> 9 | B24: Mineral Wool Acoustic Insulation (50mm Thick) | C24: =C19*2.74 -> 19.18 | D24: m2 | E24: =G24+H24+J24+I24 -> 22.322937 | F24: =E24*C24 -> 428.15394 | G24: 6.16125 | H24: 13.25 | I24: =IF(D24=0," ",(G24)*(Details!$C$4+Details!$C$8)) -> 0.9241875 | J24: =IF(D24=0," ",(H24)*(Details!$C$6+Details!$C$8)) -> 1.9875 | K24: =+G24*C24 -> 118.17278 | L24: =+H24*C24 -> 254.135 | M24: =IF(D24=0," ",(I24*C24)) -> 17.725916 | N24: =IF(D24=0," ",(J24*C24)) -> 38.12025
A25: =IF(F25<>"",(LARGE(A$7:A24,1)+1),"") -> 10 | B25: Polyethylene Sheet (0.2mm Thick) | C25: =C19*2.74 -> 19.18 | D25: m2 | E25: =G25+H25+J25+I25 -> 14.320375 | F25: =E25*C25 -> 274.66479 | G25: 3.9525 | H25: 8.5 | I25: =IF(D25=0," ",(G25)*(Details!$C$4+Details!$C$8)) -> 0.592875 | J25: =IF(D25=0," ",(H25)*(Details!$C$6+Details!$C$8)) -> 1.275 | K25: =+G25*C25 -> 75.80895 | L25: =+H25*C25 -> 163.03 | M25: =IF(D25=0," ",(I25*C25)) -> 11.371343 | N25: =IF(D25=0," ",(J25*C25)) -> 24.4545
A26: =IF(F26<>"",(LARGE(A$7:A25,1)+1),"") -> 11 | B26: Acoustic Sealent | C26: =C19*4 -> 28 | D26: m | E26: =G26+H26+J26+I26 -> 12.888338 | F26: =E26*C26 -> 360.87345 | G26: 3.55725 | H26: 7.65 | I26: =IF(D26=0," ",(G26)*(Details!$C$4+Details!$C$8)) -> 0.5335875 | J26: =IF(D26=0," ",(H26)*(Details!$C$6+Details!$C$8)) -> 1.1475 | K26: =+G26*C26 -> 99.603 | L26: =+H26*C26 -> 214.2 | M26: =IF(D26=0," ",(I26*C26)) -> 14.94045 | N26: =IF(D26=0," ",(J26*C26)) -> 32.13
A27: =IF(F27<>"",(LARGE(A$7:A26,1)+1),"")
A28: =IF(F28<>"",(LARGE(A$7:A27,1)+1),"") | B28: 35x60mm Int. Furring Wall (2.74m H) | C28: 2 | D28: m
A29: =IF(F29<>"",(LARGE(A$7:A28,1)+1),"")
A30: =IF(F30<>"",(LARGE(A$7:A29,1)+1),"") -> 12 | B30: 35x60mm Timber Stud Wall @ 400 C.C. | C30: =C28/(0.4*2.74) -> 1.8248175 | D30: m | E30: =G30+H30+J30+I30 -> 26.113625 | F30: =E30*C30 -> 47.6526 | G30: 7.2075 | H30: 15.5 | I30: =IF(D30=0," ",(G30)*(Details!$C$4+Details!$C$8)) -> 1.081125 | J30: =IF(D30=0," ",(H30)*(Details!$C$6+Details!$C$8)) -> 2.325 | K30: =+G30*C30 -> 13.152372 | L30: =+H30*C30 -> 28.284672 | M30: =IF(D30=0," ",(I30*C30)) -> 1.9728558 | N30: =IF(D30=0," ",(J30*C30)) -> 4.2427007
A31: =IF(F31<>"",(LARGE(A$7:A30,1)+1),"") -> 13 | B31: Timber Head Plate | C31: =C28*2 -> 4 | D31: m | E31: =G31+H31+J31+I31 -> 26.113625 | F31: =E31*C31 -> 104.4545 | G31: 7.2075 | H31: 15.5 | I31: =IF(D31=0," ",(G31)*(Details!$C$4+Details!$C$8)) -> 1.081125 | J31: =IF(D31=0," ",(H31)*(Details!$C$6+Details!$C$8)) -> 2.325 | K31: =+G31*C31 -> 28.83 | L31: =+H31*C31 -> 62 | M31: =IF(D31=0," ",(I31*C31)) -> 4.3245 | N31: =IF(D31=0," ",(J31*C31)) -> 9.3
A32: =IF(F32<>"",(LARGE(A$7:A31,1)+1),"") -> 14 | B32: Timber Sole Plate | C32: =C28*1 -> 2 | D32: m | E32: =G32+H32+J32+I32 -> 261.13625 | F32: =E32*C32 -> 522.2725 | G32: 72.075 | H32: 155 | I32: =IF(D32=0," ",(G32)*(Details!$C$4+Details!$C$8)) -> 10.81125 | J32: =IF(D32=0," ",(H32)*(Details!$C$6+Details!$C$8)) -> 23.25 | K32: =+G32*C32 -> 144.15 | L32: =+H32*C32 -> 310 | M32: =IF(D32=0," ",(I32*C32)) -> 21.6225 | N32: =IF(D32=0," ",(J32*C32)) -> 46.5
A33: =IF(F33<>"",(LARGE(A$7:A32,1)+1),"") -> 15 | B33: Mineral Wool Acoustic Insulation (50mm Thick) | C33: =C28*2.74 -> 5.48 | D33: m2 | E33: =G33+H33+J33+I33 -> 22.322937 | F33: =E33*C33 -> 122.3297 | G33: 6.16125 | H33: 13.25 | I33: =IF(D33=0," ",(G33)*(Details!$C$4+Details!$C$8)) -> 0.9241875 | J33: =IF(D33=0," ",(H33)*(Details!$C$6+Details!$C$8)) -> 1.9875 | K33: =+G33*C33 -> 33.76365 | L33: =+H33*C33 -> 72.61 | M33: =IF(D33=0," ",(I33*C33)) -> 5.0645475 | N33: =IF(D33=0," ",(J33*C33)) -> 10.8915
A34: =IF(F34<>"",(LARGE(A$7:A33,1)+1),"") -> 16 | B34: Polyethylene Sheet (0.2mm Thick) | C34: =C28*2.74 -> 5.48 | D34: m2 | E34: =G34+H34+J34+I34 -> 14.320375 | F34: =E34*C34 -> 78.475655 | G34: 3.9525 | H34: 8.5 | I34: =IF(D34=0," ",(G34)*(Details!$C$4+Details!$C$8)) -> 0.592875 | J34: =IF(D34=0," ",(H34)*(Details!$C$6+Details!$C$8)) -> 1.275 | K34: =+G34*C34 -> 21.6597 | L34: =+H34*C34 -> 46.58 | M34: =IF(D34=0," ",(I34*C34)) -> 3.248955 | N34: =IF(D34=0," ",(J34*C34)) -> 6.987
A35: =IF(F35<>"",(LARGE(A$7:A34,1)+1),"") -> 17 | B35: Acoustic Sealent | C35: =C28*2 -> 4 | D35: m | E35: =G35+H35+J35+I35 -> 12.888338 | F35: =E35*C35 -> 51.55335 | G35: 3.55725 | H35: 7.65 | I35: =IF(D35=0," ",(G35)*(Details!$C$4+Details!$C$8)) -> 0.5335875 | J35: =IF(D35=0," ",(H35)*(Details!$C$6+Details!$C$8)) -> 1.1475 | K35: =+G35*C35 -> 14.229 | L35: =+H35*C35 -> 30.6 | M35: =IF(D35=0," ",(I35*C35)) -> 2.13435 | N35: =IF(D35=0," ",(J35*C35)) -> 4.59
A36: =IF(F36<>"",(LARGE(A$7:A35,1)+1),"")
A37: =IF(F37<>"",(LARGE(A$7:A36,1)+1),"") | B37: 35x60mm Int. Wall (2.74m H) | C37: 8 | D37: m
A38: =IF(F38<>"",(LARGE(A$7:A37,1)+1),"")
A39: =IF(F39<>"",(LARGE(A$7:A38,1)+1),"") -> 18 | B39: 35x60mm Timber Stud Wall @ 400 C.C. | C39: =C37/(0.4*2.74) -> 7.2992701 | D39: m | E39: =G39+H39+J39+I39 -> 26.113625 | F39: =E39*C39 -> 190.6104 | G39: 7.2075 | H39: 15.5 | I39: =IF(D39=0," ",(G39)*(Details!$C$4+Details!$C$8)) -> 1.081125 | J39: =IF(D39=0," ",(H39)*(Details!$C$6+Details!$C$8)) -> 2.325 | K39: =+G39*C39 -> 52.609489 | L39: =+H39*C39 -> 113.13869 | M39: =IF(D39=0," ",(I39*C39)) -> 7.8914234 | N39: =IF(D39=0," ",(J39*C39)) -> 16.970803
A40: =IF(F40<>"",(LARGE(A$7:A39,1)+1),"") -> 19 | B40: Timber Head Plate | C40: =C37*2 -> 16 | D40: m | E40: =G40+H40+J40+I40 -> 26.113625 | F40: =E40*C40 -> 417.818 | G40: 7.2075 | H40: 15.5 | I40: =IF(D40=0," ",(G40)*(Details!$C$4+Details!$C$8)) -> 1.081125 | J40: =IF(D40=0," ",(H40)*(Details!$C$6+Details!$C$8)) -> 2.325 | K40: =+G40*C40 -> 115.32 | L40: =+H40*C40 -> 248 | M40: =IF(D40=0," ",(I40*C40)) -> 17.298 | N40: =IF(D40=0," ",(J40*C40)) -> 37.2
A41: =IF(F41<>"",(LARGE(A$7:A40,1)+1),"") -> 20 | B41: Timber Sole Plate | C41: =C37*1 -> 8 | D41: m | E41: =G41+H41+J41+I41 -> 26.113625 | F41: =E41*C41 -> 208.909 | G41: 7.2075 | H41: 15.5 | I41: =IF(D41=0," ",(G41)*(Details!$C$4+Details!$C$8)) -> 1.081125 | J41: =IF(D41=0," ",(H41)*(Details!$C$6+Details!$C$8)) -> 2.325 | K41: =+G41*C41 -> 57.66 | L41: =+H41*C41 -> 124 | M41: =IF(D41=0," ",(I41*C41)) -> 8.649 | N41: =IF(D41=0," ",(J41*C41)) -> 18.6
A42: =IF(F42<>"",(LARGE(A$7:A41,1)+1),"") -> 21 | B42: Acoustic Sealent | C42: =C37*4 -> 32 | D42: m | E42: =G42+H42+J42+I42 -> 12.888338 | F42: =E42*C42 -> 412.4268 | G42: 3.55725 | H42: 7.65 | I42: =IF(D42=0," ",(G42)*(Details!$C$4+Details!$C$8)) -> 0.5335875 | J42: =IF(D42=0," ",(H42)*(Details!$C$6+Details!$C$8)) -> 1.1475 | K42: =+G42*C42 -> 113.832 | L42: =+H42*C42 -> 244.8 | M42: =IF(D42=0," ",(I42*C42)) -> 17.0748 | N42: =IF(D42=0," ",(J42*C42)) -> 36.72
A43: =IF(F43<>"",(LARGE(A$7:A42,1)+1),"")
A44: =IF(F44<>"",(LARGE(A$7:A43,1)+1),"") | B44: CEILINGS | I44: =IF(D44=0," ",(G44)*(Details!$C$4+Details!$C$8)) | J44: =IF(D44=0," ",(H44)*(Details!$C$6+Details!$C$8)) | M44: =IF(D44=0," ",(I44*C44)) | N44: =IF(D44=0," ",(J44*C44))
A45: =IF(F45<>"",(LARGE(A$7:A44,1)+1),"")
...

Sheet Joinery
B2: =+'Qual, Excl & Assum'!B2 -> PROJECT: ALTERATIONS TO 41 GREENSIDE STREET ROSEMARKIE, IV10 8AG
B3: =+'Qual, Excl & Assum'!B3 -> DATE: 20TH NOVEMBER 2025
B5: Joinery | G5: RATES | K5: TOTALS
B7: Description | C7: Quantity | D7: Unit | E7: Rate | F7: Total | G7: Labour | H7: Materials | I7: L Markup | J7: M Markup | K7: Labour | L7: Materials | M7: L Markup | N7: M Markup
N8: =IF(D8=0," ",(J8*C8))
A9: =IF(F9<>"",(LARGE(#REF!,1)+1),"") | B9: SKIRTING | I9: =IF(D9=0," ",(G9)*(Details!$C$4+Details!$C$8)) | J9: =IF(D9=0," ",(H9)*(Details!$C$6+Details!$C$8)) | M9: =IF(D9=0," ",(I9*C9)) | N9: =IF(D9=0," ",(J9*C9))
A10: =IF(F10<>"",(LARGE(A$9:A9,1)+1),"") | N10: =IF(D10=0," ",(J10*C10))
A11: 1 | B11: MDF Skirting w/ 3 Coat Of paint_x000D_ Size: 12mm T x 120mm H | C11: 78.11 | D11: m | E11: =G11+H11+J11+I11 -> 22.996838 | F11: =C11*E11 -> 1796.283 | G11: 6.34725 | H11: 13.65 | I11: =IF(D11=0," ",(G11)*(Details!$C$4+Details!$C$8)) -> 0.9520875 | J11: =IF(D11=0," ",(H11)*(Details!$C$6+Details!$C$8)) -> 2.0475 | K11: =+G11*C11 -> 495.7837 | L11: =+H11*C11 -> 1066.2015 | M11: =IF(D11=0," ",(I11*C11)) -> 74.367555 | N11: =IF(D11=0," ",(J11*C11)) -> 159.93023
A12: =IF(F12<>"",(LARGE(A$9:A11,1)+1),"") | N12: =IF(D12=0," ",(J12*C12))
A13: =IF(F13<>"",(LARGE(A$9:A12,1)+1),"") | B13: SPECIALIST JOINERY | N13: =IF(D13=0," ",(J13*C13))
A14: =IF(F14<>"",(LARGE(A$9:A13,1)+1),"") | N14: =IF(D14=0," ",(J14*C14))
A15: =IF(F15<>"",(LARGE(A$9:A14,1)+1),"") -> 2 | B15: 0.6m W Worktop | C15: 4.36 | D15: m | E15: =G15+H15+J15+I15 -> 228.28362 | F15: =C15*E15 -> 995.3166 | G15: 63.0075 | H15: 135.5 | I15: =IF(D15=0," ",(G15)*(Details!$C$4+Details!$C$8)) -> 9.451125 | J15: =IF(D15=0," ",(H15)*(Details!$C$6+Details!$C$8)) -> 20.325 | K15: =+G15*C15 -> 274.7127 | L15: =+H15*C15 -> 590.78 | M15: =IF(D15=0," ",(I15*C15)) -> 41.206905 | N15: =IF(D15=0," ",(J15*C15)) -> 88.617
A16: =IF(F16<>"",(LARGE(A$9:A15,1)+1),"") -> 3 | B16: Re-Install (700mm H) Glass Splashback | C16: 5.15 | D16: m | E16: =G16+H16+J16+I16 -> 90.275 | F16: =C16*E16 -> 464.91625 | G16: 78.5 | I16: =IF(D16=0," ",(G16)*(Details!$C$4+Details!$C$8)) -> 11.775 | J16: =IF(D16=0," ",(H16)*(Details!$C$6+Details!$C$8)) -> 0 | K16: =+G16*C16 -> 404.275 | L16: =+H16*C16 -> 0 | M16: =IF(D16=0," ",(I16*C16)) -> 60.64125 | N16: =IF(D16=0," ",(J16*C16)) -> 0
A17: =IF(F17<>"",(LARGE(A$9:A16,1)+1),"")
E18: Sub Total | F18: =SUM(F6:F16) -> 3256.5158 | J18: =IF(D18=0," ",(G18+H18)*(Details!$C$4+Details!$C$6)) | K18: =SUM(K6:K16) -> 1174.7714 | L18: =SUM(L6:L16) -> 1656.9815 | M18: =SUM(M6:M16) -> 176.21571 | N18: =SUM(N6:N17) -> 248.54723
A19: =IF(F19<>"",(LARGE(A$7:A18,1)+1),"") | J19: =IF(D19=0," ",(G19+H19)*(Details!$C$4+Details!$C$6))

Sheet Decoration
B2: =+'Qual, Excl & Assum'!B2 -> PROJECT: ALTERATIONS TO 41 GREENSIDE STREET ROSEMARKIE, IV10 8AG
B3: =+'Qual, Excl & Assum'!B3 -> DATE: 20TH NOVEMBER 2025
B5: Decoration | G5: RATES | K5: TOTALS
B7: Description | C7: Quantity | D7: Unit | E7: Rate | F7: Total | G7: Labour | H7: Materials | I7: L Markup | J7: M Markup | K7: Labour | L7: Materials | M7: L Markup | N7: M Markup
N8: =IF(D8=0," ",(J8*C8))
B9: Ceiling Paint
A11: 1 | B11: 3 Coats Of Paint @ Ceinling On Both Floor Ceilings | C11: 151 | D11: m2 | E11: =G11+H11+J11+I11 -> 23.333787 | F11: =E11*C11 -> 3523.4019 | G11: 6.44025 | H11: 13.85 | I11: =IF(D11=0," ",(G11)*(Details!$C$4+Details!$C$8)) -> 0.9660375 | J11: =IF(D11=0," ",(H11)*(Details!$C$6+Details!$C$8)) -> 2.0775 | K11: =+G11*C11 -> 972.47775 | L11: =+H11*C11 -> 2091.35 | M11: =IF(D11=0," ",(I11*C11)) -> 145.87166 | N11: =IF(D11=0," ",(J11*C11)) -> 313.7025
B13: Wall Paint
A14: =IF(F14<>"",(LARGE(A$7:A13,1)+1),"")
A15: =IF(F15<>"",(LARGE(A$7:A14,1)+1),"") -> 2 | B15: 3 Coats Of Paint @ Walls On Both Floors | C15: 448 | D15: m2 | E15: =G15+H15+J15+I15 -> 22.659887 | F15: =E15*C15 -> 10151.63 | G15: 6.25425 | H15: 13.45 | I15: =IF(D15=0," ",(G15)*(Details!$C$4+Details!$C$8)) -> 0.9381375 | J15: =IF(D15=0," ",(H15)*(Details!$C$6+Details!$C$8)) -> 2.0175 | K15: =+G15*C15 -> 2801.904 | L15: =+H15*C15 -> 6025.6 | M15: =IF(D15=0," ",(I15*C15)) -> 420.2856 | N15: =IF(D15=0," ",(J15*C15)) -> 903.84
A16: =IF(F16<>"",(LARGE(A$7:A15,1)+1),"")
A17: =IF(F17<>"",(LARGE(A$7:A16,1)+1),"") | B17: Paint At Door
A18: =IF(F18<>"",(LARGE(A$7:A17,1)+1),"")
A19: =IF(F19<>"",(LARGE(A$7:A18,1)+1),"") -> 3 | B19: Re-Install Wardrobe Sliding Door | C19: 2 | D19: no. | E19: =G19+H19+J19+I19 -> 194.58863 | F19: =E19*C19 -> 389.17725 | G19: 53.7075 | H19: 115.5 | I19: =IF(D19=0," ",(G19)*(Details!$C$4+Details!$C$8)) -> 8.056125 | J19: =IF(D19=0," ",(H19)*(Details!$C$6+Details!$C$8)) -> 17.325 | K19: =+G19*C19 -> 107.415 | L19: =+H19*C19 -> 231 | M19: =IF(D19=0," ",(I19*C19)) -> 16.11225 | N19: =IF(D19=0," ",(J19*C19)) -> 34.65
A20: =IF(F20<>"",(LARGE(A$7:A19,1)+1),"") -> 4 | B20: Re-Installl All Internal SIngle Leaf Door | C20: 7 | D20: no. | E20: =G20+H20+J20+I20 -> 148.67919 | F20: =E20*C20 -> 1040.7543 | G20: 41.03625 | H20: 88.25 | I20: =IF(D20=0," ",(G20)*(Details!$C$4+Details!$C$8)) -> 6.1554375 | J20: =IF(D20=0," ",(H20)*(Details!$C$6+Details!$C$8)) -> 13.2375 | K20: =+G20*C20 -> 287.25375 | L20: =+H20*C20 -> 617.75 | M20: =IF(D20=0," ",(I20*C20)) -> 43.088063 | N20: =IF(D20=0," ",(J20*C20)) -> 92.6625
A22: =IF(F22<>"",(LARGE(A$7:A17,1)+1),"") | J22: =IF(D22=0," ",(G22+H22)*(Details!$C$4+Details!$C$6))
E23: Sub Total | F23: =SUM(F9:F22) -> 15104.963 | J23: =IF(D23=0," ",(G23+H23)*(Details!$C$4+Details!$C$6)) | K23: =SUM(K6:K22) -> 4169.0505 | L23: =SUM(L6:L22) -> 8965.7 | M23: =SUM(M6:M22) -> 625.35758 | N23: =SUM(N6:N22) -> 1344.855

Sheet Floor finishes
B2: =+'Qual, Excl & Assum'!B2 -> PROJECT: ALTERATIONS TO 41 GREENSIDE STREET ROSEMARKIE, IV10 8AG
B3: =+'Qual, Excl & Assum'!B3 -> DATE: 20TH NOVEMBER 2025
B5: Floor Finishes | G5: RATES | K5: TOTALS
B7: Description | C7: Quantity | D7: Unit | E7: Rate | F7: Total | G7: Labour | H7: Materials | I7: L Markup | J7: M Markup | K7: Labour | L7: Materials | M7: L Markup | N7: M Markup
N8: =IF(D8=0," ",(J8*C8))
B9: FLOORING
A11: 1 | B11: Install LVT Vinyl Tiles Flooring | C11: 70 | D11: m2 | E11: =G11+H11+J11+I11 -> 76.656125 | F11: =E11*C11 -> 5365.9288 | G11: 21.1575 | H11: 45.5 | I11: =IF(D11=0," ",(G11)*(Details!$C$4+Details!$C$8)) -> 3.173625 | J11: =IF(D11=0," ",(H11)*(Details!$C$6+Details!$C$8)) -> 6.825 | K11: =+G11*C11 -> 1481.025 | L11: =+H11*C11 -> 3185 | M11: =IF(D11=0," ",(I11*C11)) -> 222.15375 | N11: =IF(D11=0," ",(J11*C11)) -> 477.75
A12: =IF(F12<>"",(LARGE(A$7:A11,1)+1),"") -> 2 | B12: 600mm x 600mm Porcelain Tile Flooring | C12: 4.6 | D12: m2 | E12: =G12+H12+J12+I12 -> 69.917125 | F12: =E12*C12 -> 321.61877 | G12: 19.2975 | H12: 41.5 | I12: =IF(D12=0," ",(G12)*(Details!$C$4+Details!$C$8)) -> 2.894625 | J12: =IF(D12=0," ",(H12)*(Details!$C$6+Details!$C$8)) -> 6.225 | K12: =+G12*C12 -> 88.7685 | L12: =+H12*C12 -> 190.9 | M12: =IF(D12=0," ",(I12*C12)) -> 13.315275 | N12: =IF(D12=0," ",(J12*C12)) -> 28.635
A13: =IF(F13<>"",(LARGE(A$8:A12,1)+1),"")
A14: =IF(F14<>"",(LARGE(A$7:A13,1)+1),"") | J14: =IF(D14=0," ",(G14+H14)*(Details!$C$4+Details!$C$6))
E15: Sub Total | F15: =SUM(F6:F14) -> 5687.5475 | J15: =IF(D15=0," ",(G15+H15)*(Details!$C$4+Details!$C$6)) | K15: =SUM(K6:K14) -> 1569.7935 | L15: =SUM(L6:L14) -> 3375.9 | M15: =SUM(M6:M14) -> 235.46903 | N15: =SUM(N6:N14) -> 506.385
A16: =IF(F16<>"",(LARGE(A$7:A15,1)+1),"") | J16: =IF(D16=0," ",(G16+H16)*(Details!$C$4+Details!$C$6))

Sheet Wall finishes
B2: =+'Qual, Excl & Assum'!B2 -> PROJECT: ALTERATIONS TO 41 GREENSIDE STREET ROSEMARKIE, IV10 8AG
B3: =+'Qual, Excl & Assum'!B3 -> DATE: 20TH NOVEMBER 2025
B5: Wall Finishes | G5: RATES | K5: TOTALS
B7: Description | C7: Quantity | D7: Unit | E7: Rate | F7: Total | G7: Labour | H7: Materials | I7: L Markup | J7: M Markup | K7: Labour | L7: Materials | M7: L Markup | N7: M Markup
N8: =IF(D8=0," ",(J8*C8))
B9: WALL FINISH
A11: 1 | B11: LVT Tile On Wall | C11: 26 | D11: m2 | E11: =G11+H11+J11+I11 -> 78.340875 | F11: =E11*C11 -> 2036.8628 | G11: 21.6225 | H11: 46.5 | I11: =IF(D11=0," ",(G11)*(Details!$C$4+Details!$C$8)) -> 3.243375 | J11: =IF(D11=0," ",(H11)*(Details!$C$6+Details!$C$8)) -> 6.975 | K11: =+G11*C11 -> 562.185 | L11: =+H11*C11 -> 1209 | M11: =IF(D11=0," ",(I11*C11)) -> 84.32775 | N11: =IF(D11=0," ",(J11*C11)) -> 181.35
A12: =IF(F12<>"",(LARGE(A$7:A11,1)+1),"")
A13: =IF(F13<>"",(LARGE(A$7:A12,1)+1),"")
E14: Sub Total | F14: =SUM(F8:F13) -> 2036.8628 | J14: =IF(D14=0," ",(G14+H14)*(Details!$C$4+Details!$C$6)) | K14: =SUM(K8:K13) -> 562.185 | L14: =SUM(L8:L13) -> 1209 | M14: =SUM(M8:M13) -> 84.32775 | N14: =SUM(N8:N13) -> 181.35
A15: =IF(F15<>"",(LARGE(A$7:A14,1)+1),"") | J15: =IF(D15=0," ",(G15+H15)*(Details!$C$4+Details!$C$6))

Sheet Kitchen & Bathrooms 
B2: =+'Qual, Excl & Assum'!B2 -> PROJECT: ALTERATIONS TO 41 GREENSIDE STREET ROSEMARKIE, IV10 8AG
B3: =+'Qual, Excl & Assum'!B3 -> DATE: 20TH NOVEMBER 2025
B5: Kitchen & Bathrooms | G5: RATES | K5: TOTALS
B7: Description | C7: Quantity | D7: Unit | E7: Rate | F7: Total | G7: Labour | H7: Materials | I7: L Markup | J7: M Markup | K7: Labour | L7: Materials | M7: L Markup | N7: M Markup
N8: =IF(D8=0," ",(J8*C8))
B9: KITCHEN
A11: 1 | B11: Re-Install Kitchen Units (Integrated Fridge Freezer, Dishwasher, Washing Machine, Oven, Hob & Cooker Hood) | C11: 6 | D11: no. | E11: =G11+H11+J11+I11 -> 1667.5 | F11: =E11*C11 -> 10005 | G11: 1450 | I11: =IF(D11=0," ",(G11)*(Details!$C$4+Details!$C$8)) -> 217.5 | J11: =IF(D11=0," ",(H11)*(Details!$C$6+Details!$C$8)) -> 0 | K11: =+G11*C11 -> 8700 | L11: =+H11*C11 -> 0 | M11: =IF(D11=0," ",(I11*C11)) -> 1305 | N11: =IF(D11=0," ",(J11*C11)) -> 0
A13: =IF(F13<>"",(LARGE(A$7:A12,1)+1),"") | B13: BATHROOM
A14: =IF(F14<>"",(LARGE(A$7:A12,1)+1),"")
A15: =IF(F15<>"",(LARGE(A$7:A13,1)+1),"") -> 2 | B15: Re-Install Bath Units( Toilet, Sink & Bath Tub) | C15: 3 | D15: no. | E15: =G15+H15+J15+I15 -> 879.75 | F15: =E15*C15 -> 2639.25 | G15: 765 | I15: =IF(D15=0," ",(G15)*(Details!$C$4+Details!$C$8)) -> 114.75 | J15: =IF(D15=0," ",(H15)*(Details!$C$6+Details!$C$8)) -> 0 | K15: =+G15*C15 -> 2295 | L15: =+H15*C15 -> 0 | M15: =IF(D15=0," ",(I15*C15)) -> 344.25 | N15: =IF(D15=0," ",(J15*C15)) -> 0
A16: 3 | B16: Re-Connect All Pipes | C16: 4 | D16: no. | E16: =G16+H16+J16+I16 -> 488.75 | F16: =E16*C16 -> 1955 | G16: 425 | I16: =IF(D16=0," ",(G16)*(Details!$C$4+Details!$C$8)) -> 63.75 | J16: =IF(D16=0," ",(H16)*(Details!$C$6+Details!$C$8)) -> 0 | K16: =+G16*C16 -> 1700 | L16: =+H16*C16 -> 0 | M16: =IF(D16=0," ",(I16*C16)) -> 255 | N16: =IF(D16=0," ",(J16*C16)) -> 0
E18: Sub Total | F18: =SUM(F6:F17) -> 14599.25 | J18: =IF(D18=0," ",(G18+H18)*(Details!$C$4+Details!$C$6)) | K18: =SUM(K6:K17) -> 12695 | L18: =SUM(L6:L17) -> 0 | M18: =SUM(M6:M17) -> 1904.25 | N18: =SUM(N6:N17) -> 0
A19: =IF(F19<>"",(LARGE(A$7:A18,1)+1),"") | J19: =IF(D19=0," ",(G19+H19)*(Details!$C$4+Details!$C$6))

Sheet Electrical
B2: =+'Qual, Excl & Assum'!B2 -> PROJECT: ALTERATIONS TO 41 GREENSIDE STREET ROSEMARKIE, IV10 8AG
B3: =+'Qual, Excl & Assum'!B3 -> DATE: 20TH NOVEMBER 2025
B5: Electrical | G5: RATES | K5: TOTALS
B7: Description | C7: Quantity | D7: Unit | E7: Rate | F7: Total | G7: Labour | H7: Materials | I7: L Markup | J7: M Markup | K7: Labour | L7: Materials | M7: L Markup | N7: M Markup
N8: =IF(D8=0," ",(J8*C8))
B9: UNITS
A11: 1 | B11: BS7671 compliant consumer units with SPD & RCBP | C11: 2 | D11: no. | E11: =G11+H11+J11+I11 -> 6486.2875 | F11: =E11*C11 -> 12972.575 | G11: 1790.25 | H11: 3850 | I11: =IF(D11=0," ",(G11)*(Details!$C$4+Details!$C$8)) -> 268.5375 | J11: =IF(D11=0," ",(H11)*(Details!$C$6+Details!$C$8)) -> 577.5 | K11: =+G11*C11 -> 3580.5 | L11: =+H11*C11 -> 7700 | M11: =IF(D11=0," ",(I11*C11)) -> 537.075 | N11: =IF(D11=0," ",(J11*C11)) -> 1155
N12: =IF(D12=0," ",(J12*C12))
B13: SWITCHES/SOCKETS | N13: =IF(D13=0," ",(J13*C13))
N14: =IF(D14=0," ",(J14*C14))
A15: =IF(F15<>"",(LARGE(A$7:A13,1)+1),"") -> 2 | B15: Re-Install Electrical Switches & Sockets | C15: 46 | D15: no. | E15: =G15+H15+J15+I15 -> 36.222125 | F15: =E15*C15 -> 1666.2178 | G15: 9.9975 | H15: 21.5 | I15: =IF(D15=0," ",(G15)*(Details!$C$4+Details!$C$8)) -> 1.499625 | J15: =IF(D15=0," ",(H15)*(Details!$C$6+Details!$C$8)) -> 3.225 | K15: =+G15*C15 -> 459.885 | L15: =+H15*C15 -> 989 | M15: =IF(D15=0," ",(I15*C15)) -> 68.98275 | N15: =IF(D15=0," ",(J15*C15)) -> 148.35
A16: =IF(F16<>"",(LARGE(A$7:A15,1)+1),"")
J17: =IF(D17=0," ",(G17+H17)*(Details!$C$4+Details!$C$6))
E18: Sub Total | F18: =SUM(F6:F17) -> 14638.793 | J18: =IF(D18=0," ",(G18+H18)*(Details!$C$4+Details!$C$6)) | K18: =SUM(K6:K17) -> 4040.385 | L18: =SUM(L6:L17) -> 8689 | M18: =SUM(M6:M17) -> 606.05775 | N18: =SUM(N6:N17) -> 1303.35
A19: =IF(F19<>"",(LARGE(A$7:A18,1)+1),"") | J19: =IF(D19=0," ",(G19+H19)*(Details!$C$4+Details!$C$6))

Sheet Mechanical
B2: =+'Qual, Excl & Assum'!B2 -> PROJECT: ALTERATIONS TO 41 GREENSIDE STREET ROSEMARKIE, IV10 8AG
B3: =+'Qual, Excl & Assum'!B3 -> DATE: 20TH NOVEMBER 2025
B5: Mechanical | G5: RATES | K5: TOTALS
B7: Description | C7: Quantity | D7: Unit | E7: Rate | F7: Total | G7: Labour | H7: Materials | I7: L Markup | J7: M Markup | K7: Labour | L7: Materials | M7: L Markup | N7: M Markup
N8: =IF(D8=0," ",(J8*C8))
B9: CYLINDER
A11: 1 | B11: Re-Connect Mistubishi Ecodan Cylinder | C11: 3 | D11: no. | E11: =G11+H11+J11+I11 -> 776.25 | F11: =E11*C11 -> 2328.75 | G11: 675 | I11: =IF(D11=0," ",(G11)*(Details!$C$4+Details!$C$8)) -> 101.25 | J11: =IF(D11=0," ",(H11)*(Details!$C$6+Details!$C$8)) -> 0 | K11: =+G11*C11 -> 2025 | L11: =+H11*C11 -> 0 | M11: =IF(D11=0," ",(I11*C11)) -> 303.75 | N11: =IF(D11=0," ",(J11*C11)) -> 0
A13: =IF(F13<>"",(LARGE(A$7:A12,1)+1),"")
A14: =IF(F14<>"",(LARGE(A$7:A13,1)+1),"")
A15: =IF(F15<>"",(LARGE(A$7:A14,1)+1),"") | J15: =IF(D15=0," ",(G15+H15)*(Details!$C$4+Details!$C$6))
E16: Sub Total | F16: =SUM(F8:F15) -> 2328.75 | J16: =IF(D16=0," ",(G16+H16)*(Details!$C$4+Details!$C$6)) | K16: =SUM(K8:K15) -> 2025 | L16: =SUM(L8:L15) -> 0 | M16: =SUM(M8:M15) -> 303.75 | N16: =SUM(N8:N15) -> 0
A17: =IF(F17<>"",(LARGE(A$7:A16,1)+1),"") | J17: =IF(D17=0," ",(G17+H17)*(Details!$C$4+Details!$C$6))

Sheet Preliminaries
B2: =+'Qual, Excl & Assum'!B2 -> PROJECT: ALTERATIONS TO 41 GREENSIDE STREET ROSEMARKIE, IV10 8AG
B3: =+'Qual, Excl & Assum'!B3 -> DATE: 20TH NOVEMBER 2025
B5: Preliminaries
B7: Description | C7: Quantity | D7: Unit | E7: Rate | F7: Total | G7: Plant | H7: Markup
A9: 1 | B9: Site setup | C9: 1 | D9: Item | E9: =G9+H9+J9+I9 -> 977.5 | F9: =E9*C9 -> 977.5 | G9: 850 | H9: =IF(D9=0," ",(G9)*(Details!$C$4+Details!$C$8)) -> 127.5
A10: =IF(F10<>"",(LARGE(A$7:A9,1)+1),"") -> 2 | B10: Rubbish removal; skips | C10: 1 | D10: no. | E10: =G10+H10+J10+I10 -> 1437.5 | F10: =E10*C10 -> 1437.5 | G10: 1250 | H10: =IF(D10=0," ",(G10)*(Details!$C$4+Details!$C$8)) -> 187.5
A11: =IF(F11<>"",(LARGE(A$7:A10,1)+1),"") -> 3 | B11: Scaffolding and safe stands | C11: 1 | D11: item | E11: =G11+H11+J11+I11 -> 1667.5 | F11: =E11*C11 -> 1667.5 | G11: 1450 | H11: =IF(D11=0," ",(G11)*(Details!$C$4+Details!$C$8)) -> 217.5
A12: =IF(F12<>"",(LARGE(A$7:A11,1)+1),"") -> 4 | B12: Welfare facilities | C12: 1 | D12: item | E12: =G12+H12+J12+I12 -> 862.5 | F12: =E12*C12 -> 862.5 | G12: 750 | H12: =IF(D12=0," ",(G12)*(Details!$C$4+Details!$C$8)) -> 112.5
A13: =IF(F13<>"",(LARGE(A$7:A12,1)+1),"") -> 5 | B13: Small plant and tools | C13: 1 | D13: item | E13: =G13+H13+J13+I13 -> 747.5 | F13: =E13*C13 -> 747.5 | G13: 650 | H13: =IF(D13=0," ",(G13)*(Details!$C$4+Details!$C$8)) -> 97.5
A14: =IF(F14<>"",(LARGE(A$7:A13,1)+1),"") -> 6 | B14: Protection | C14: 1 | D14: item | E14: =G14+H14+J14+I14 -> 632.5 | F14: =E14*C14 -> 632.5 | G14: 550 | H14: =IF(D14=0," ",(G14)*(Details!$C$4+Details!$C$8)) -> 82.5
A15: =IF(F15<>"",(LARGE(A$7:A14,1)+1),"") -> 7 | B15: Temporary supplies | C15: 1 | D15: item | E15: =G15+H15+J15+I15 -> 977.5 | F15: =E15*C15 -> 977.5 | G15: 850 | H15: =IF(D15=0," ",(G15)*(Details!$C$4+Details!$C$8)) -> 127.5
A16: =IF(F16<>"",(LARGE(A$7:A15,1)+1),"") -> 8 | B16: Lifting and propping | C16: 1 | D16: item | E16: =G16+H16+J16+I16 -> 1322.5 | F16: =E16*C16 -> 1322.5 | G16: 1150 | H16: =IF(D16=0," ",(G16)*(Details!$C$4+Details!$C$8)) -> 172.5
A17: =IF(F17<>"",(LARGE(A$7:A16,1)+1),"") -> 9 | B17: Cleaning (no allowance for sparkle clean) | C17: 1 | D17: item | E17: =G17+H17+J17+I17 -> 747.5 | F17: =E17*C17 -> 747.5 | G17: 650 | H17: =IF(D17=0," ",(G17)*(Details!$C$4+Details!$C$8)) -> 97.5
A18: =IF(F18<>"",(LARGE(A$7:A17,1)+1),"") -> 10 | B18: Health & safety | C18: 1 | D18: item | E18: =G18+H18+J18+I18 -> 1150 | F18: =E18*C18 -> 1150 | G18: 1000 | H18: =IF(D18=0," ",(G18)*(Details!$C$4+Details!$C$8)) -> 150
A19: =IF(F19<>"",(LARGE(A$7:A18,1)+1),"") -> 11 | B19: Insurance | C19: 1 | D19: item | E19: =G19+H19+J19+I19 -> 977.5 | F19: =E19*C19 -> 977.5 | G19: 850 | H19: =IF(D19=0," ",(G19)*(Details!$C$4+Details!$C$8)) -> 127.5
A20: =IF(F20<>"",(LARGE(A$7:A19,1)+1),"") -> 12 | B20: Site accommodation | C20: 1 | D20: item | E20: =G20+H20+J20+I20 -> 402.5 | F20: =E20*C20 -> 402.5 | G20: 350 | H20: =IF(D20=0," ",(G20)*(Details!$C$4+Details!$C$8)) -> 52.5
A21: =IF(F21<>"",(LARGE(A$7:A20,1)+1),"") -> 13 | B21: Management | C21: 1 | D21: item | E21: =G21+H21+J21+I21 -> 2875 | F21: =E21*C21 -> 2875 | G21: 2500 | H21: =IF(D21=0," ",(G21)*(Details!$C$4+Details!$C$8)) -> 375
A22: =IF(F22<>"",(LARGE(A$7:A21,1)+1),"") | H22: =IF(D22=0," ",(G22)*(Details!$C$4+Details!$C$6))
A23: =IF(F23<>"",(LARGE(A$7:A22,1)+1),"") | H23: =IF(D23=0," ",(G23)*(Details!$C$4))
A24: =IF(D24=0," ",(LARGE(A$9:A23,1)+1)) | E24: Sub Total | F24: =SUM(F8:F23) -> 14777.5

Sheet Details
B2: MARKUP | J2: Total Inc Prelims | K2: =+Summary!D36 -> 131603.18
B4: Contractors Markup - Labour | C4: 0.1 | D4: =+C4+1 -> 1.1 | J4: Calculation Total | K4: =+(Summary!F31+Summary!G31)*1.1 -> 111746.3
M5: =CEILING((K4/K27),4) -> 16 | N5: Weeks
B6: Contractors Markup - Materials | C6: 0.1 | D6: =+C6+1 -> 1.1
J7: Range 1 | K7: 0 | L7: =IF(AND($K$4>=K7,$K$4<=K8),N7,O7) -> No | M7: 5000 | N7: Yes | O7: No
B8: Contractors Overheads | C8: 0.05 | D8: =+C8+1 -> 1.05 | K8: 50000
J9: Range 2 | K9: =K8 -> 50000 | L9: =IF(AND($K$4>=K9,$K$4<=K10),N9,O9) -> Yes | M9: 9000 | N9: Yes | O9: No
K10: 150000
J11: Range 3 | K11: =K10 -> 150000 | L11: =IF(AND($K$4>=K11,$K$4<=K12),N11,O11) -> No | M11: 10000 | N11: Yes | O11: No
K12: 350000
J13: Range 4 | K13: =K12 -> 350000 | L13: =IF(AND($K$4>=K13,$K$4<=K14),N13,O13) -> No | M13: 12500 | N13: Yes | O13: No
B14: Trades - Day Rates | C14: Client Day Rate £ | K14: 500000
B15: Groundworker | C15: 0 | J15: Range 5 | K15: =K14 -> 500000 | L15: =IF(AND($K$4>=K15,$K$4<=K16),N15,O15) -> No | M15: 14000 | N15: Yes | O15: No
B16: Bricklayer | C16: 300 | K16: 750000
B17: Roofer | C17: 0 | J17: Range 6 | K17: 750000 | L17: =IF(AND($K$4>=K17,$K$4<=K18),N17,O17) -> No | M17: 15500 | N17: Yes | O17: No
B18: Tiler | C18: 300 | K18: 1000000
B19: Carpenter | C19: 300 | J19: Range 7 | K19: =K18 -> 1000000 | L19: =IF(AND($K$4>=K19,$K$4<=K20),N19,O19) -> No | M19: 16750 | N19: Yes | O19: No
B20: Plasterer | C20: 0 | K20: 1250000
B21: General Trade | C21: 250 | J21: Range 8 | K21: =K20 -> 1250000 | L21: =IF(AND($K$4>=K21,$K$4<=K22),N21,O21) -> No | M21: 19000 | N21: Yes | O21: No
B22: Labourer | C22: 200 | K22: 1500000
B23: Decorator | C23: 0 | J23: Range 9 | K23: =K22 -> 1500000 | L23: =IF(AND($K$4>=K23,$K$4<=K24),N23,O23) -> No | M23: 20500 | N23: Yes | O23: No
B24: Plumber | C24: 0 | K24: 2000000
B25: Electrician | C25: 0 | J25: Range 10 - Over | K25: =K24 -> 2000000 | L25: =IF(AND($K$4>=K25,$K$4<=K26),N25,O25) -> No | M25: 27500 | N25: Yes | O25: No
K26: 500000000
J27: Calculation | K27: =IF(L7="Yes",M7)+IF(L9="Yes",M9)+IF(L11="Yes",M11)+IF(L13="Yes",M13)+IF(L15="Yes",M15)+IF(L17="Yes",M17)+IF(L19="Yes",M19)+IF(L21="Yes",M21)+IF(L23="Yes",M23) -> 9000
M29: Factor
M30: =+C15/250+IF(C15=0,1) -> 1
M31: =+C16/250+IF(C16=0,1) -> 1.2
M32: =+C17/250+IF(C17=0,1) -> 1
M33: =+C18/250+IF(C18=0,1) -> 1.2
M34: =+C19/250+IF(C19=0,1) -> 1.2
M35: =+C20/250+IF(C20=0,1) -> 1
M36: =+C21/220+IF(C21=0,1) -> 1.1363636
M37: =+C22/150+IF(C22=0,1) -> 1.3333333
M38: =+C23/220+IF(C23=0,1) -> 1
M39: =+C24/400+IF(C24=0,1) -> 1
M40: =+C25/400+IF(C25=0,1) -> 1
